BEGIN:VCALENDAR
VERSION:2.0
PRODID:-//Skyview Middle School - ECPv6.8.2//NONSGML v1.0//EN
CALSCALE:GREGORIAN
METHOD:PUBLISH
X-WR-CALNAME:Skyview Middle School
X-ORIGINAL-URL:https://kpbsd.org/schools/skyview-middle
X-WR-CALDESC:Events for Skyview Middle School
REFRESH-INTERVAL;VALUE=DURATION:PT1H
X-Robots-Tag:noindex
X-PUBLISHED-TTL:PT1H
BEGIN:VTIMEZONE
TZID:America/Anchorage
BEGIN:DAYLIGHT
TZOFFSETFROM:-0900
TZOFFSETTO:-0800
TZNAME:AKDT
DTSTART:20250309T110000
END:DAYLIGHT
BEGIN:STANDARD
TZOFFSETFROM:-0800
TZOFFSETTO:-0900
TZNAME:AKST
DTSTART:20251102T100000
END:STANDARD
END:VTIMEZONE
BEGIN:VEVENT
DTSTART;TZID=America/Anchorage:20250206T141000
DTEND;TZID=America/Anchorage:20250206T154500
DTSTAMP:20260420T135803
CREATED:20250110T084824Z
LAST-MODIFIED:20250206T100226Z
UID:13640-1738851000-1738856700@kpbsd.org
SUMMARY:Nordic Ski Practice
DESCRIPTION:
URL:https://kpbsd.org/schools/skyview-middle/event/nordic-ski-practice-16/
END:VEVENT
BEGIN:VEVENT
DTSTART;TZID=America/Anchorage:20250206T141000
DTEND;TZID=America/Anchorage:20250206T161500
DTSTAMP:20260420T135803
CREATED:20250110T084825Z
LAST-MODIFIED:20250206T100226Z
UID:13643-1738851000-1738858500@kpbsd.org
SUMMARY:Wrestling Practice
DESCRIPTION:
URL:https://kpbsd.org/schools/skyview-middle/event/wrestling-practice-19/
END:VEVENT
BEGIN:VEVENT
DTSTART;TZID=America/Anchorage:20250206T141500
DTEND;TZID=America/Anchorage:20250206T154500
DTSTAMP:20260420T135803
CREATED:20250117T091811Z
LAST-MODIFIED:20250127T094727Z
UID:13970-1738851300-1738856700@kpbsd.org
SUMMARY:Volleyball Practice
DESCRIPTION:
URL:https://kpbsd.org/schools/skyview-middle/event/volleyball-practice-9/
END:VEVENT
BEGIN:VEVENT
DTSTART;TZID=America/Anchorage:20250206T150000
DTEND;TZID=America/Anchorage:20250206T170000
DTSTAMP:20260420T135804
CREATED:20241003T183245Z
LAST-MODIFIED:20250206T100226Z
UID:11787-1738854000-1738861200@kpbsd.org
SUMMARY:All Teams Volleyball vs Kenai @ Skyview
DESCRIPTION:7A @ 3 pm\n8A @ 4 pm\nB @ 5 pm
URL:https://kpbsd.org/schools/skyview-middle/event/7a-8a-volleyball-vs-kenai-skyview/
END:VEVENT
END:VCALENDAR