BEGIN:VCALENDAR
VERSION:2.0
PRODID:-//Skyview Middle School - ECPv6.8.2//NONSGML v1.0//EN
CALSCALE:GREGORIAN
METHOD:PUBLISH
X-ORIGINAL-URL:https://kpbsd.org/schools/skyview-middle
X-WR-CALDESC:Events for Skyview Middle School
REFRESH-INTERVAL;VALUE=DURATION:PT1H
X-Robots-Tag:noindex
X-PUBLISHED-TTL:PT1H
BEGIN:VTIMEZONE
TZID:America/Anchorage
BEGIN:DAYLIGHT
TZOFFSETFROM:-0900
TZOFFSETTO:-0800
TZNAME:AKDT
DTSTART:20250309T110000
END:DAYLIGHT
BEGIN:STANDARD
TZOFFSETFROM:-0800
TZOFFSETTO:-0900
TZNAME:AKST
DTSTART:20251102T100000
END:STANDARD
END:VTIMEZONE
BEGIN:VEVENT
DTSTART;TZID=America/Anchorage:20250207T000000
DTEND;TZID=America/Anchorage:20250207T235959
DTSTAMP:20260419T132627
CREATED:20241029T201745Z
LAST-MODIFIED:20250207T100324Z
UID:13000-1738886400-1738972799@kpbsd.org
SUMMARY:Panther Celebration Day
DESCRIPTION:
URL:https://kpbsd.org/schools/skyview-middle/event/panther-celebration-day-5/
END:VEVENT
BEGIN:VEVENT
DTSTART;TZID=America/Anchorage:20250207T080000
DTEND;TZID=America/Anchorage:20250207T170000
DTSTAMP:20260419T132627
CREATED:20240522T055413Z
LAST-MODIFIED:20241024T173256Z
UID:10777-1738915200-1738947600@kpbsd.org
SUMMARY:Early Release
DESCRIPTION:
URL:https://kpbsd.org/schools/skyview-middle/event/early-release-31/
CATEGORIES:Districtwide Calendar
END:VEVENT
BEGIN:VEVENT
DTSTART;TZID=America/Anchorage:20250207T124500
DTEND;TZID=America/Anchorage:20250207T150000
DTSTAMP:20260419T132627
CREATED:20250110T084825Z
LAST-MODIFIED:20250207T100323Z
UID:13646-1738932300-1738940400@kpbsd.org
SUMMARY:Wrestling Practice
DESCRIPTION:
URL:https://kpbsd.org/schools/skyview-middle/event/wrestling-practice-20/
END:VEVENT
BEGIN:VEVENT
DTSTART;TZID=America/Anchorage:20250207T141500
DTEND;TZID=America/Anchorage:20250207T154500
DTSTAMP:20260419T132627
CREATED:20250117T091812Z
LAST-MODIFIED:20250127T094728Z
UID:13973-1738937700-1738943100@kpbsd.org
SUMMARY:Volleyball Practice
DESCRIPTION:
URL:https://kpbsd.org/schools/skyview-middle/event/volleyball-practice-10/
END:VEVENT
BEGIN:VEVENT
DTSTART;TZID=America/Anchorage:20250207T150000
DTEND;TZID=America/Anchorage:20250207T163000
DTSTAMP:20260419T132627
CREATED:20241008T184754Z
LAST-MODIFIED:20250207T100323Z
UID:12671-1738940400-1738945800@kpbsd.org
SUMMARY:Nordic Ski Skyview Invitational
DESCRIPTION:
URL:https://kpbsd.org/schools/skyview-middle/event/nordic-ski-skyview-invitational-4/
END:VEVENT
BEGIN:VEVENT
DTSTART;TZID=America/Anchorage:20250207T160000
DTEND;TZID=America/Anchorage:20250207T170000
DTSTAMP:20260419T132627
CREATED:20241003T183245Z
LAST-MODIFIED:20250207T100324Z
UID:11790-1738944000-1738947600@kpbsd.org
SUMMARY:8A & B Volleyball vs Homer @ Homer
DESCRIPTION:8A @ 4 pm\nB @ 5 pm
URL:https://kpbsd.org/schools/skyview-middle/event/8a-volleyball-vs-homer-homer/
END:VEVENT
END:VCALENDAR