BEGIN:VCALENDAR
VERSION:2.0
PRODID:-//Skyview Middle School - ECPv6.8.2//NONSGML v1.0//EN
CALSCALE:GREGORIAN
METHOD:PUBLISH
X-ORIGINAL-URL:https://kpbsd.org/schools/skyview-middle
X-WR-CALDESC:Events for Skyview Middle School
REFRESH-INTERVAL;VALUE=DURATION:PT1H
X-Robots-Tag:noindex
X-PUBLISHED-TTL:PT1H
BEGIN:VTIMEZONE
TZID:America/Anchorage
BEGIN:DAYLIGHT
TZOFFSETFROM:-0900
TZOFFSETTO:-0800
TZNAME:AKDT
DTSTART:20250309T110000
END:DAYLIGHT
BEGIN:STANDARD
TZOFFSETFROM:-0800
TZOFFSETTO:-0900
TZNAME:AKST
DTSTART:20251102T100000
END:STANDARD
END:VTIMEZONE
BEGIN:VEVENT
DTSTART;TZID=America/Anchorage:20250417T150000
DTEND;TZID=America/Anchorage:20250417T190000
DTSTAMP:20260419T132640
CREATED:20241008T184757Z
LAST-MODIFIED:20250417T154805Z
UID:12686-1744902000-1744916400@kpbsd.org
SUMMARY:Track & Field Homer Invitational
DESCRIPTION:
URL:https://kpbsd.org/schools/skyview-middle/event/track-field-homer-invitational/
END:VEVENT
END:VCALENDAR