BEGIN:VCALENDAR
VERSION:2.0
PRODID:-//Skyview Middle School - ECPv6.8.2//NONSGML v1.0//EN
CALSCALE:GREGORIAN
METHOD:PUBLISH
X-WR-CALNAME:Skyview Middle School
X-ORIGINAL-URL:https://kpbsd.org/schools/skyview-middle
X-WR-CALDESC:Events for Skyview Middle School
REFRESH-INTERVAL;VALUE=DURATION:PT1H
X-Robots-Tag:noindex
X-PUBLISHED-TTL:PT1H
BEGIN:VTIMEZONE
TZID:America/Anchorage
BEGIN:DAYLIGHT
TZOFFSETFROM:-0900
TZOFFSETTO:-0800
TZNAME:AKDT
DTSTART:20230312T110000
END:DAYLIGHT
BEGIN:STANDARD
TZOFFSETFROM:-0800
TZOFFSETTO:-0900
TZNAME:AKST
DTSTART:20231105T100000
END:STANDARD
END:VTIMEZONE
BEGIN:VEVENT
DTSTART;TZID=America/Anchorage:20230821T143000
DTEND;TZID=America/Anchorage:20230821T160000
DTSTAMP:20260423T152941
CREATED:20230801T203952Z
LAST-MODIFIED:20230801T203955Z
UID:9462-1692628200-1692633600@kpbsd.org
SUMMARY:XC Running Weekly Practice Schedule
DESCRIPTION:Practice Monday – Friday 2:30 – 3:45 pm (must be picked up by 4 pm)
URL:https://kpbsd.org/schools/skyview-middle/event/xc-running-weekly-practice-schedule-8/
END:VEVENT
BEGIN:VEVENT
DTSTART;TZID=America/Anchorage:20230821T143000
DTEND;TZID=America/Anchorage:20230821T160000
DTSTAMP:20260423T152941
CREATED:20230802T195247Z
LAST-MODIFIED:20230802T195250Z
UID:9522-1692628200-1692633600@kpbsd.org
SUMMARY:Soccer Weekly Practice Schedule
DESCRIPTION:Monday – Friday 2:30 – 4:15 p.m. (pick up no later than 4:20 pm)
URL:https://kpbsd.org/schools/skyview-middle/event/soccer-weekly-practice-schedule-8/
END:VEVENT
BEGIN:VEVENT
DTSTART;TZID=America/Anchorage:20230828T143000
DTEND;TZID=America/Anchorage:20230828T160000
DTSTAMP:20260423T152941
CREATED:20230801T204717Z
LAST-MODIFIED:20230801T204720Z
UID:9466-1693233000-1693238400@kpbsd.org
SUMMARY:XC Running Weekly Practice Schedule
DESCRIPTION:Practice Monday – Thursday 2:30 – 3:45 pm (must be picked up by 4 pm)
URL:https://kpbsd.org/schools/skyview-middle/event/xc-running-weekly-practice-schedule-9/
END:VEVENT
BEGIN:VEVENT
DTSTART;TZID=America/Anchorage:20230828T143000
DTEND;TZID=America/Anchorage:20230828T160000
DTSTAMP:20260423T152941
CREATED:20230802T195356Z
LAST-MODIFIED:20230802T195400Z
UID:9525-1693233000-1693238400@kpbsd.org
SUMMARY:Soccer Weekly Practice Schedule
DESCRIPTION:Monday – Friday 2:30 – 4:15 p.m. (pick up no later than 4:20 pm)
URL:https://kpbsd.org/schools/skyview-middle/event/soccer-weekly-practice-schedule-9/
END:VEVENT
BEGIN:VEVENT
DTSTART;TZID=America/Anchorage:20230901T150000
DTEND;TZID=America/Anchorage:20230901T170000
DTSTAMP:20260423T152941
CREATED:20230801T205018Z
LAST-MODIFIED:20230801T205021Z
UID:9470-1693580400-1693587600@kpbsd.org
SUMMARY:XC Running Meet @ Skyview Invitational
DESCRIPTION:
URL:https://kpbsd.org/schools/skyview-middle/event/xc-running-meet-skyview-invitational/
END:VEVENT
BEGIN:VEVENT
DTSTART;TZID=America/Anchorage:20230904T000000
DTEND;TZID=America/Anchorage:20230904T235900
DTSTAMP:20260423T152941
CREATED:20221213T234926Z
LAST-MODIFIED:20230830T024808Z
UID:8986-1693785600-1693871940@kpbsd.org
SUMMARY:Holiday
DESCRIPTION:
URL:https://kpbsd.org/schools/skyview-middle/event/holiday-9/
CATEGORIES:Districtwide Calendar,Holiday
END:VEVENT
BEGIN:VEVENT
DTSTART;TZID=America/Anchorage:20230905T143000
DTEND;TZID=America/Anchorage:20230905T160000
DTSTAMP:20260423T152941
CREATED:20230801T205220Z
LAST-MODIFIED:20230801T205222Z
UID:9475-1693924200-1693929600@kpbsd.org
SUMMARY:XC Running Weekly Practice Schedule
DESCRIPTION:Practice Tuesday – Thursday 2:30 – 3:45 pm (must be picked up by 4 pm)
URL:https://kpbsd.org/schools/skyview-middle/event/xc-running-weekly-practice-schedule-10/
END:VEVENT
BEGIN:VEVENT
DTSTART;TZID=America/Anchorage:20230905T143000
DTEND;TZID=America/Anchorage:20230905T160000
DTSTAMP:20260423T152941
CREATED:20230802T195453Z
LAST-MODIFIED:20230802T195456Z
UID:9528-1693924200-1693929600@kpbsd.org
SUMMARY:Soccer Weekly Practice Schedule
DESCRIPTION:Tuesday – Friday 2:30 – 4:15 p.m. (pick up no later than 4:20 pm)
URL:https://kpbsd.org/schools/skyview-middle/event/soccer-weekly-practice-schedule-10/
END:VEVENT
BEGIN:VEVENT
DTSTART;TZID=America/Anchorage:20230905T150000
DTEND;TZID=America/Anchorage:20230905T180000
DTSTAMP:20260423T152941
CREATED:20230824T203351Z
LAST-MODIFIED:20230824T203354Z
UID:9661-1693926000-1693936800@kpbsd.org
SUMMARY:Soccer Game B Teams @ Chapman
DESCRIPTION:First game at 3 pm   Second game at 4:30 pm
URL:https://kpbsd.org/schools/skyview-middle/event/soccer-game-b-teams-chapman/
END:VEVENT
BEGIN:VEVENT
DTSTART;TZID=America/Anchorage:20230908T000000
DTEND;TZID=America/Anchorage:20230908T235900
DTSTAMP:20260423T152941
CREATED:20230823T024728Z
LAST-MODIFIED:20230906T030258Z
UID:9603-1694131200-1694217540@kpbsd.org
SUMMARY:Early Release
DESCRIPTION:
URL:https://kpbsd.org/schools/skyview-middle/event/early-release-10/
CATEGORIES:Districtwide Calendar
END:VEVENT
BEGIN:VEVENT
DTSTART;TZID=America/Anchorage:20230908T150000
DTEND;TZID=America/Anchorage:20230908T170000
DTSTAMP:20260423T152941
CREATED:20230801T205503Z
LAST-MODIFIED:20230801T205505Z
UID:9480-1694185200-1694192400@kpbsd.org
SUMMARY:XC Running Meet @ Seward Invitational
DESCRIPTION:
URL:https://kpbsd.org/schools/skyview-middle/event/xc-running-meet-seward-invitational/
END:VEVENT
BEGIN:VEVENT
DTSTART;TZID=America/Anchorage:20230911T143000
DTEND;TZID=America/Anchorage:20230911T160000
DTSTAMP:20260423T152941
CREATED:20230801T205704Z
LAST-MODIFIED:20230801T205706Z
UID:9484-1694442600-1694448000@kpbsd.org
SUMMARY:XC Running Weekly Practice Schedule
DESCRIPTION:Practice Monday – Thursday 2:30 – 3:45 pm (must be picked up by 4 pm)
URL:https://kpbsd.org/schools/skyview-middle/event/xc-running-weekly-practice-schedule-11/
END:VEVENT
BEGIN:VEVENT
DTSTART;TZID=America/Anchorage:20230911T143000
DTEND;TZID=America/Anchorage:20230911T160000
DTSTAMP:20260423T152941
CREATED:20230802T195546Z
LAST-MODIFIED:20230802T195549Z
UID:9532-1694442600-1694448000@kpbsd.org
SUMMARY:Soccer Weekly Practice Schedule
DESCRIPTION:Monday\, Wednesday\, Thursday 2:30 – 4:15 p.m. (pick up no later than 4:20 pm)
URL:https://kpbsd.org/schools/skyview-middle/event/soccer-weekly-practice-schedule-11/
END:VEVENT
BEGIN:VEVENT
DTSTART;TZID=America/Anchorage:20230912T150000
DTEND;TZID=America/Anchorage:20230912T180000
DTSTAMP:20260423T152941
CREATED:20230802T195851Z
LAST-MODIFIED:20230911T161207Z
UID:9536-1694530800-1694541600@kpbsd.org
SUMMARY:Soccer Games All Teams @ Kenai Middle
DESCRIPTION:3 pm Boys A team and B team \n\n\n\n4:30 pm Girls A team and B team
URL:https://kpbsd.org/schools/skyview-middle/event/soccer-games-a-teams-kenai-middle/
END:VEVENT
BEGIN:VEVENT
DTSTART;TZID=America/Anchorage:20230913T160000
DTEND;TZID=America/Anchorage:20230913T173000
DTSTAMP:20260423T152941
CREATED:20230824T204503Z
LAST-MODIFIED:20230912T183144Z
UID:9668-1694620800-1694626200@kpbsd.org
SUMMARY:Soccer Game B Team @ Homer
DESCRIPTION:
URL:https://kpbsd.org/schools/skyview-middle/event/soccer-game-b-team-homer/
END:VEVENT
BEGIN:VEVENT
DTSTART;TZID=America/Anchorage:20230913T160000
DTEND;TZID=America/Anchorage:20230913T190000
DTSTAMP:20260423T152941
CREATED:20230802T195935Z
LAST-MODIFIED:20230912T183422Z
UID:9538-1694620800-1694631600@kpbsd.org
SUMMARY:Soccer Games A Teams @ Homer Middle
DESCRIPTION:4 pm – Girls \n\n\n\n5:30 pm – Boys
URL:https://kpbsd.org/schools/skyview-middle/event/soccer-games-a-teams-homer-middle/
END:VEVENT
BEGIN:VEVENT
DTSTART;TZID=America/Anchorage:20230915T150000
DTEND;TZID=America/Anchorage:20230915T170000
DTSTAMP:20260423T152941
CREATED:20230801T205750Z
LAST-MODIFIED:20230801T205753Z
UID:9489-1694790000-1694797200@kpbsd.org
SUMMARY:XC Running Meet @ Kenai Invitational
DESCRIPTION:
URL:https://kpbsd.org/schools/skyview-middle/event/xc-running-meet-kenai-invitational/
END:VEVENT
BEGIN:VEVENT
DTSTART;TZID=America/Anchorage:20230918T143000
DTEND;TZID=America/Anchorage:20230918T160000
DTSTAMP:20260423T152941
CREATED:20230801T210416Z
LAST-MODIFIED:20230801T210418Z
UID:9493-1695047400-1695052800@kpbsd.org
SUMMARY:XC Running Weekly Practice Schedule
DESCRIPTION:Practice Monday – Thursday 2:30 – 3:45 pm (must be picked up by 4 pm)
URL:https://kpbsd.org/schools/skyview-middle/event/xc-running-weekly-practice-schedule-12/
END:VEVENT
BEGIN:VEVENT
DTSTART;TZID=America/Anchorage:20230919T150000
DTEND;TZID=America/Anchorage:20230919T180000
DTSTAMP:20260423T152941
CREATED:20230824T205347Z
LAST-MODIFIED:20230905T193523Z
UID:9675-1695135600-1695146400@kpbsd.org
SUMMARY:Soccer Games vs Nikiski & KMS @ Skyview
DESCRIPTION:A Boys and B Team vs Nikiski @ 3 pm \n\n\n\nA Girls and B Team vs KMS @ 4:30 pm
URL:https://kpbsd.org/schools/skyview-middle/event/soccer-games-skyview/
END:VEVENT
BEGIN:VEVENT
DTSTART;TZID=America/Anchorage:20230921T150000
DTEND;TZID=America/Anchorage:20230921T180000
DTSTAMP:20260423T152941
CREATED:20230824T205459Z
LAST-MODIFIED:20230914T225442Z
UID:9679-1695308400-1695319200@kpbsd.org
SUMMARY:Soccer Games vs Seward @ Skyview
DESCRIPTION:A Boys & B Team @ 3 pm \n\n\n\nA Girls @ 4:30 pm
URL:https://kpbsd.org/schools/skyview-middle/event/soccer-games-skyview-2/
END:VEVENT
BEGIN:VEVENT
DTSTART;TZID=America/Anchorage:20230922T150000
DTEND;TZID=America/Anchorage:20230922T170000
DTSTAMP:20260423T152941
CREATED:20230801T210511Z
LAST-MODIFIED:20230801T210514Z
UID:9497-1695394800-1695402000@kpbsd.org
SUMMARY:XC Running Meet @ Homer Invitational
DESCRIPTION:
URL:https://kpbsd.org/schools/skyview-middle/event/xc-running-meet-homer-invitational/
END:VEVENT
BEGIN:VEVENT
DTSTART;TZID=America/Anchorage:20230925T143000
DTEND;TZID=America/Anchorage:20230925T160000
DTSTAMP:20260423T152941
CREATED:20230801T210606Z
LAST-MODIFIED:20230801T210610Z
UID:9501-1695652200-1695657600@kpbsd.org
SUMMARY:XC Running Weekly Practice Schedule
DESCRIPTION:Practice Monday – Thursday 2:30 – 3:45 pm (must be picked up by 4 pm)
URL:https://kpbsd.org/schools/skyview-middle/event/xc-running-weekly-practice-schedule-13/
END:VEVENT
BEGIN:VEVENT
DTSTART;TZID=America/Anchorage:20230925T143000
DTEND;TZID=America/Anchorage:20230925T160000
DTSTAMP:20260423T152941
CREATED:20230802T200307Z
LAST-MODIFIED:20230802T200310Z
UID:9542-1695652200-1695657600@kpbsd.org
SUMMARY:Soccer Weekly Practice Schedule
DESCRIPTION:Monday – Friday 2:30 – 4:15 p.m. (pick up no later than 4:20 pm) \n\n\n\nTuesday is First Round of Boroughs\, some teams may have games instead of practice this day.
URL:https://kpbsd.org/schools/skyview-middle/event/soccer-weekly-practice-schedule-12/
END:VEVENT
BEGIN:VEVENT
DTSTART;TZID=America/Anchorage:20230926T080000
DTEND;TZID=America/Anchorage:20230926T170000
DTSTAMP:20260423T152941
CREATED:20230802T200343Z
LAST-MODIFIED:20230804T222720Z
UID:9546-1695715200-1695747600@kpbsd.org
SUMMARY:Soccer 1st Round Boroughs (location\, teams and time TBD)
DESCRIPTION:
URL:https://kpbsd.org/schools/skyview-middle/event/soccer-1st-round-boroughs-location-teams-and-time-tbd/
END:VEVENT
BEGIN:VEVENT
DTSTART;TZID=America/Anchorage:20230926T150000
DTEND;TZID=America/Anchorage:20230926T180000
DTSTAMP:20260423T152941
CREATED:20230824T205554Z
LAST-MODIFIED:20230824T205556Z
UID:9685-1695740400-1695751200@kpbsd.org
SUMMARY:Soccer Games @ Skyview
DESCRIPTION:B team vs Chapman @ 3 & 4:30 pm
URL:https://kpbsd.org/schools/skyview-middle/event/soccer-games-skyview-3/
END:VEVENT
BEGIN:VEVENT
DTSTART;TZID=America/Anchorage:20230929T000000
DTEND;TZID=America/Anchorage:20230929T235900
DTSTAMP:20260423T152941
CREATED:20230823T024728Z
LAST-MODIFIED:20230927T030318Z
UID:9606-1695945600-1696031940@kpbsd.org
SUMMARY:Early Release
DESCRIPTION:
URL:https://kpbsd.org/schools/skyview-middle/event/early-release-12/
CATEGORIES:Districtwide Calendar
END:VEVENT
BEGIN:VEVENT
DTSTART;TZID=America/Anchorage:20230929T080000
DTEND;TZID=America/Anchorage:20230929T170000
DTSTAMP:20260423T152941
CREATED:20230825T174643Z
LAST-MODIFIED:20230825T174646Z
UID:9712-1695974400-1696006800@kpbsd.org
SUMMARY:Panther Celebration Day
DESCRIPTION:
URL:https://kpbsd.org/schools/skyview-middle/event/panther-celebration-day/
END:VEVENT
BEGIN:VEVENT
DTSTART;TZID=America/Anchorage:20230929T150000
DTEND;TZID=America/Anchorage:20230929T170000
DTSTAMP:20260423T152941
CREATED:20230801T211103Z
LAST-MODIFIED:20230801T211106Z
UID:9506-1695999600-1696006800@kpbsd.org
SUMMARY:XC Running Boroughs @ Kenai
DESCRIPTION:
URL:https://kpbsd.org/schools/skyview-middle/event/xc-running-boroughs-kenai/
END:VEVENT
BEGIN:VEVENT
DTSTART;TZID=America/Anchorage:20230930T110000
DTEND;TZID=America/Anchorage:20230930T150000
DTSTAMP:20260423T152941
CREATED:20230802T200434Z
LAST-MODIFIED:20230802T200437Z
UID:9549-1696071600-1696086000@kpbsd.org
SUMMARY:Soccer Boroughs @ Homer High School
DESCRIPTION:Bracket TBD
URL:https://kpbsd.org/schools/skyview-middle/event/soccer-boroughs-homer-high-school/
END:VEVENT
BEGIN:VEVENT
DTSTART;TZID=America/Anchorage:20231002T141500
DTEND;TZID=America/Anchorage:20231002T161500
DTSTAMP:20260423T152941
CREATED:20230922T185757Z
LAST-MODIFIED:20230922T185800Z
UID:9968-1696256100-1696263300@kpbsd.org
SUMMARY:Basketball Weekly Practice Schedule
DESCRIPTION:Monday – Friday  \n\n\n\nBoys Practice 2:15 – 3:30 pm \n\n\n\nGirls Study Hall 2:15 – 3:00 pm \n\n\n\nGirls Practice 3:00 – 4:15 pm
URL:https://kpbsd.org/schools/skyview-middle/event/basketball-weekly-practice-schedule-9/
END:VEVENT
END:VCALENDAR