BEGIN:VCALENDAR
VERSION:2.0
PRODID:-//Soldotna Elementary School - ECPv6.8.2//NONSGML v1.0//EN
CALSCALE:GREGORIAN
METHOD:PUBLISH
X-WR-CALNAME:Soldotna Elementary School
X-ORIGINAL-URL:https://kpbsd.org/schools/soldotna-elementary
X-WR-CALDESC:Events for Soldotna Elementary School
REFRESH-INTERVAL;VALUE=DURATION:PT1H
X-Robots-Tag:noindex
X-PUBLISHED-TTL:PT1H
BEGIN:VTIMEZONE
TZID:America/Anchorage
BEGIN:DAYLIGHT
TZOFFSETFROM:-0900
TZOFFSETTO:-0800
TZNAME:AKDT
DTSTART:20200308T110000
END:DAYLIGHT
BEGIN:STANDARD
TZOFFSETFROM:-0800
TZOFFSETTO:-0900
TZNAME:AKST
DTSTART:20201101T100000
END:STANDARD
BEGIN:DAYLIGHT
TZOFFSETFROM:-0900
TZOFFSETTO:-0800
TZNAME:AKDT
DTSTART:20210314T110000
END:DAYLIGHT
BEGIN:STANDARD
TZOFFSETFROM:-0800
TZOFFSETTO:-0900
TZNAME:AKST
DTSTART:20211107T100000
END:STANDARD
BEGIN:DAYLIGHT
TZOFFSETFROM:-0900
TZOFFSETTO:-0800
TZNAME:AKDT
DTSTART:20220313T110000
END:DAYLIGHT
BEGIN:STANDARD
TZOFFSETFROM:-0800
TZOFFSETTO:-0900
TZNAME:AKST
DTSTART:20221106T100000
END:STANDARD
END:VTIMEZONE
BEGIN:VEVENT
DTSTART;TZID=America/Anchorage:20221027T000000
DTEND;TZID=America/Anchorage:20221028T235900
DTSTAMP:20260421T143040
CREATED:20220420T202320Z
LAST-MODIFIED:20221026T230827Z
UID:1151-1666828800-1667001540@kpbsd.org
SUMMARY:Parent - Teacher Conference
DESCRIPTION:
URL:https://kpbsd.org/schools/soldotna-elementary/event/parent-teacher-conference/
CATEGORIES:Districtwide Calendar
END:VEVENT
BEGIN:VEVENT
DTSTART;TZID=America/Anchorage:20221014T000000
DTEND;TZID=America/Anchorage:20221014T235900
DTSTAMP:20260421T143040
CREATED:20220420T202319Z
LAST-MODIFIED:20221012T225638Z
UID:1148-1665705600-1665791940@kpbsd.org
SUMMARY:InService Day - End of Quarter
DESCRIPTION:
URL:https://kpbsd.org/schools/soldotna-elementary/event/inservice-day-end-of-quarter/
CATEGORIES:Districtwide Calendar
END:VEVENT
BEGIN:VEVENT
DTSTART;TZID=America/Anchorage:20221013T000000
DTEND;TZID=America/Anchorage:20221013T235900
DTSTAMP:20260421T143040
CREATED:20220810T221052Z
LAST-MODIFIED:20221012T225637Z
UID:1252-1665619200-1665705540@kpbsd.org
SUMMARY:Early Release
DESCRIPTION:
URL:https://kpbsd.org/schools/soldotna-elementary/event/early-release-6/
CATEGORIES:Districtwide Calendar
END:VEVENT
BEGIN:VEVENT
DTSTART;TZID=America/Anchorage:20220909T000000
DTEND;TZID=America/Anchorage:20220909T235900
DTSTAMP:20260421T143040
CREATED:20220810T221051Z
LAST-MODIFIED:20220907T222435Z
UID:1251-1662681600-1662767940@kpbsd.org
SUMMARY:Early Release
DESCRIPTION:
URL:https://kpbsd.org/schools/soldotna-elementary/event/early-release-5/
CATEGORIES:Districtwide Calendar
END:VEVENT
BEGIN:VEVENT
DTSTART;TZID=America/Anchorage:20220905T000000
DTEND;TZID=America/Anchorage:20220905T235900
DTSTAMP:20260421T143040
CREATED:20220420T202319Z
LAST-MODIFIED:20220831T222444Z
UID:1141-1662336000-1662422340@kpbsd.org
SUMMARY:Holiday
DESCRIPTION:
URL:https://kpbsd.org/schools/soldotna-elementary/event/holiday-5/
CATEGORIES:Districtwide Calendar
END:VEVENT
BEGIN:VEVENT
DTSTART;TZID=America/Anchorage:20220816T000000
DTEND;TZID=America/Anchorage:20220816T235900
DTSTAMP:20260421T143040
CREATED:20220420T202318Z
LAST-MODIFIED:20220810T221053Z
UID:1139-1660608000-1660694340@kpbsd.org
SUMMARY:School Opens
DESCRIPTION:
URL:https://kpbsd.org/schools/soldotna-elementary/event/school-opens/
CATEGORIES:Districtwide Calendar
END:VEVENT
BEGIN:VEVENT
DTSTART;TZID=America/Anchorage:20220815T000000
DTEND;TZID=America/Anchorage:20220815T235900
DTSTAMP:20260421T143040
CREATED:20220420T202318Z
LAST-MODIFIED:20220810T221053Z
UID:1138-1660521600-1660607940@kpbsd.org
SUMMARY:InService Day
DESCRIPTION:
URL:https://kpbsd.org/schools/soldotna-elementary/event/inservice-day-4/
CATEGORIES:Districtwide Calendar
END:VEVENT
BEGIN:VEVENT
DTSTART;TZID=America/Anchorage:20220809T000000
DTEND;TZID=America/Anchorage:20220812T235900
DTSTAMP:20260421T143040
CREATED:20220420T202318Z
LAST-MODIFIED:20220810T221053Z
UID:1136-1660003200-1660348740@kpbsd.org
SUMMARY:InService Day
DESCRIPTION:
URL:https://kpbsd.org/schools/soldotna-elementary/event/inservice-day-3/
CATEGORIES:Districtwide Calendar
END:VEVENT
BEGIN:VEVENT
DTSTART;TZID=America/Anchorage:20220704T000000
DTEND;TZID=America/Anchorage:20220704T235900
DTSTAMP:20260421T143040
CREATED:20220420T202317Z
LAST-MODIFIED:20220629T211233Z
UID:1134-1656892800-1656979140@kpbsd.org
SUMMARY:Holiday
DESCRIPTION:
URL:https://kpbsd.org/schools/soldotna-elementary/event/holiday-2/
CATEGORIES:Districtwide Calendar
END:VEVENT
BEGIN:VEVENT
DTSTART;TZID=America/Anchorage:20220530T000000
DTEND;TZID=America/Anchorage:20220530T235900
DTSTAMP:20260421T143040
CREATED:20220420T202317Z
LAST-MODIFIED:20220525T204202Z
UID:1132-1653868800-1653955140@kpbsd.org
SUMMARY:Holiday
DESCRIPTION:
URL:https://kpbsd.org/schools/soldotna-elementary/event/holiday/
CATEGORIES:Districtwide Calendar
END:VEVENT
BEGIN:VEVENT
DTSTART;TZID=America/Anchorage:20220519T000000
DTEND;TZID=America/Anchorage:20220519T235900
DTSTAMP:20260421T143040
CREATED:20220420T202317Z
LAST-MODIFIED:20220518T203944Z
UID:1131-1652918400-1653004740@kpbsd.org
SUMMARY:InService Day
DESCRIPTION:
URL:https://kpbsd.org/schools/soldotna-elementary/event/inservice-day/
CATEGORIES:Districtwide Calendar
END:VEVENT
BEGIN:VEVENT
DTSTART;TZID=America/Anchorage:20220518T000000
DTEND;TZID=America/Anchorage:20220518T235900
DTSTAMP:20260421T143040
CREATED:20220420T202317Z
LAST-MODIFIED:20220518T203944Z
UID:1130-1652832000-1652918340@kpbsd.org
SUMMARY:Last Day of School
DESCRIPTION:
URL:https://kpbsd.org/schools/soldotna-elementary/event/last-day-of-school/
CATEGORIES:Districtwide Calendar
END:VEVENT
BEGIN:VEVENT
DTSTART;VALUE=DATE:20201217
DTEND;VALUE=DATE:20201221
DTSTAMP:20260421T143040
CREATED:20201217T171641Z
LAST-MODIFIED:20201217T171641Z
UID:974-1608163200-1608508799@kpbsd.org
SUMMARY:Winter Holiday Music Presentation
DESCRIPTION:Winter Holiday Music Presentation
URL:https://kpbsd.org/schools/soldotna-elementary/event/winter-holiday-music-presentation/
CATEGORIES:Districtwide Calendar
END:VEVENT
BEGIN:VEVENT
DTSTART;VALUE=DATE:20200728
DTEND;VALUE=DATE:20200729
DTSTAMP:20260421T143040
CREATED:20200311T225715Z
LAST-MODIFIED:20200311T225715Z
UID:415-1595894400-1595980799@kpbsd.org
SUMMARY:Early Release Day
DESCRIPTION:
URL:https://kpbsd.org/schools/soldotna-elementary/event/early-release-day/
CATEGORIES:Districtwide Calendar
END:VEVENT
BEGIN:VEVENT
DTSTART;VALUE=DATE:20200717
DTEND;VALUE=DATE:20200718
DTSTAMP:20260421T143040
CREATED:20200311T204356Z
LAST-MODIFIED:20200311T204356Z
UID:407-1594944000-1595030399@kpbsd.org
SUMMARY:Vacation
DESCRIPTION:
URL:https://kpbsd.org/schools/soldotna-elementary/event/vacation/
CATEGORIES:Districtwide Calendar
END:VEVENT
END:VCALENDAR