BEGIN:VCALENDAR
VERSION:2.0
PRODID:-//Soldotna High School - ECPv6.8.2//NONSGML v1.0//EN
CALSCALE:GREGORIAN
METHOD:PUBLISH
X-ORIGINAL-URL:https://kpbsd.org/schools/soldotna-high
X-WR-CALDESC:Events for Soldotna High School
REFRESH-INTERVAL;VALUE=DURATION:PT1H
X-Robots-Tag:noindex
X-PUBLISHED-TTL:PT1H
BEGIN:VTIMEZONE
TZID:America/Anchorage
BEGIN:DAYLIGHT
TZOFFSETFROM:-0900
TZOFFSETTO:-0800
TZNAME:AKDT
DTSTART:20250309T110000
END:DAYLIGHT
BEGIN:STANDARD
TZOFFSETFROM:-0800
TZOFFSETTO:-0900
TZNAME:AKST
DTSTART:20251102T100000
END:STANDARD
END:VTIMEZONE
BEGIN:VEVENT
DTSTART;TZID=America/Anchorage:20250411T080000
DTEND;TZID=America/Anchorage:20250411T170000
DTSTAMP:20260425T052047
CREATED:20240521T233117Z
LAST-MODIFIED:20250409T023031Z
UID:11350-1744358400-1744390800@kpbsd.org
SUMMARY:Early Release
DESCRIPTION:
URL:https://kpbsd.org/schools/soldotna-high/event/early-release-35/
CATEGORIES:Districtwide Calendar
END:VEVENT
BEGIN:VEVENT
DTSTART;TZID=America/Anchorage:20250412T080000
DTEND;TZID=America/Anchorage:20250412T230000
DTSTAMP:20260425T052047
CREATED:20250116T154423Z
LAST-MODIFIED:20250116T154423Z
UID:13172-1744444800-1744498800@kpbsd.org
SUMMARY:PROM
DESCRIPTION:
URL:https://kpbsd.org/schools/soldotna-high/event/prom-2/
END:VEVENT
BEGIN:VEVENT
DTSTART;TZID=America/Anchorage:20250418T080000
DTEND;TZID=America/Anchorage:20250418T170000
DTSTAMP:20260425T052047
CREATED:20240521T233117Z
LAST-MODIFIED:20250416T023158Z
UID:11353-1744963200-1744995600@kpbsd.org
SUMMARY:Vacation
DESCRIPTION:
URL:https://kpbsd.org/schools/soldotna-high/event/vacation-13/
CATEGORIES:Districtwide Calendar
END:VEVENT
BEGIN:VEVENT
DTSTART;TZID=America/Anchorage:20250423T170000
DTEND;TZID=America/Anchorage:20250423T180000
DTSTAMP:20260425T052047
CREATED:20250221T175935Z
LAST-MODIFIED:20250221T175935Z
UID:13581-1745427600-1745431200@kpbsd.org
SUMMARY:Site Council
DESCRIPTION:
URL:https://kpbsd.org/schools/soldotna-high/event/site-council-2/
END:VEVENT
BEGIN:VEVENT
DTSTART;VALUE=DATE:20250424
DTEND;VALUE=DATE:20250427
DTSTAMP:20260425T052047
CREATED:20250116T154336Z
LAST-MODIFIED:20250116T154336Z
UID:13168-1745452800-1745711999@kpbsd.org
SUMMARY:PLAY - Our Town
DESCRIPTION:
URL:https://kpbsd.org/schools/soldotna-high/event/play-our-town/
END:VEVENT
END:VCALENDAR