BEGIN:VCALENDAR
VERSION:2.0
PRODID:-//Soldotna High School - ECPv6.8.2//NONSGML v1.0//EN
CALSCALE:GREGORIAN
METHOD:PUBLISH
X-WR-CALNAME:Soldotna High School
X-ORIGINAL-URL:https://kpbsd.org/schools/soldotna-high
X-WR-CALDESC:Events for Soldotna High School
REFRESH-INTERVAL;VALUE=DURATION:PT1H
X-Robots-Tag:noindex
X-PUBLISHED-TTL:PT1H
BEGIN:VTIMEZONE
TZID:America/Anchorage
BEGIN:DAYLIGHT
TZOFFSETFROM:-0900
TZOFFSETTO:-0800
TZNAME:AKDT
DTSTART:20250309T110000
END:DAYLIGHT
BEGIN:STANDARD
TZOFFSETFROM:-0800
TZOFFSETTO:-0900
TZNAME:AKST
DTSTART:20251102T100000
END:STANDARD
END:VTIMEZONE
BEGIN:VEVENT
DTSTART;TZID=America/Anchorage:20251002T180000
DTEND;TZID=America/Anchorage:20251002T190000
DTSTAMP:20260419T091501
CREATED:20250922T160802Z
LAST-MODIFIED:20250922T162344Z
UID:14412-1759428000-1759431600@kpbsd.org
SUMMARY:NCAA/NAIA College Sports Student Athlete Parent Night
DESCRIPTION:If you would like a better understanding of continuing your athletic career after high school\, join us in the library Oct. 2nd from 6-7pm.
URL:https://kpbsd.org/schools/soldotna-high/event/ncaa-naia-college-sports-student-athlete-parent-night/
END:VEVENT
BEGIN:VEVENT
DTSTART;TZID=America/Anchorage:20251006T080000
DTEND;TZID=America/Anchorage:20251006T230000
DTSTAMP:20260419T091501
CREATED:20250923T181526Z
LAST-MODIFIED:20250923T181526Z
UID:14480-1759737600-1759791600@kpbsd.org
SUMMARY:Picture Retakes
DESCRIPTION:
URL:https://kpbsd.org/schools/soldotna-high/event/picture-retakes/
END:VEVENT
BEGIN:VEVENT
DTSTART;TZID=America/Anchorage:20251010T080000
DTEND;TZID=America/Anchorage:20251010T170000
DTSTAMP:20260419T091501
CREATED:20250719T002907Z
LAST-MODIFIED:20251004T010430Z
UID:13895-1760083200-1760115600@kpbsd.org
SUMMARY:In Service Day / End of Quarter
DESCRIPTION:No School
URL:https://kpbsd.org/schools/soldotna-high/event/in-service-day-end-of-quarter/
CATEGORIES:Districtwide Calendar
END:VEVENT
BEGIN:VEVENT
DTSTART;TZID=America/Anchorage:20251013T080000
DTEND;TZID=America/Anchorage:20251013T080000
DTSTAMP:20260419T091501
CREATED:20250923T154740Z
LAST-MODIFIED:20250923T154740Z
UID:14444-1760342400-1760342400@kpbsd.org
SUMMARY:Quarter 1 Grade Check
DESCRIPTION:
URL:https://kpbsd.org/schools/soldotna-high/event/quarter-1-grade-check/
END:VEVENT
BEGIN:VEVENT
DTSTART;TZID=America/Anchorage:20251013T093000
DTEND;TZID=America/Anchorage:20251013T233000
DTSTAMP:20260419T091501
CREATED:20250923T154433Z
LAST-MODIFIED:20250923T154433Z
UID:14439-1760347800-1760398200@kpbsd.org
SUMMARY:College & Career Fair
DESCRIPTION:Students that want to participate need to sign up in the Counseling office and need a signed permission slip.
URL:https://kpbsd.org/schools/soldotna-high/event/college-career-fair/
END:VEVENT
BEGIN:VEVENT
DTSTART;TZID=America/Anchorage:20251015T090000
DTEND;TZID=America/Anchorage:20251015T120000
DTSTAMP:20260419T091501
CREATED:20250929T225054Z
LAST-MODIFIED:20250929T225054Z
UID:14620-1760518800-1760529600@kpbsd.org
SUMMARY:AVTEC Field Trip
DESCRIPTION:Students interested need to sign up in the counseling office. Students will need a signed permission slip to attend.
URL:https://kpbsd.org/schools/soldotna-high/event/avtec-field-trip/
END:VEVENT
BEGIN:VEVENT
DTSTART;TZID=America/Anchorage:20251017T080000
DTEND;TZID=America/Anchorage:20251017T170000
DTSTAMP:20260419T091501
CREATED:20250906T004823Z
LAST-MODIFIED:20251011T011551Z
UID:14320-1760688000-1760720400@kpbsd.org
SUMMARY:Early Release
DESCRIPTION:
URL:https://kpbsd.org/schools/soldotna-high/event/early-release-40/
CATEGORIES:Districtwide Calendar
END:VEVENT
BEGIN:VEVENT
DTSTART;TZID=America/Anchorage:20251023T080000
DTEND;TZID=America/Anchorage:20251024T170000
DTSTAMP:20260419T091501
CREATED:20250922T162655Z
LAST-MODIFIED:20251017T220739Z
UID:14416-1761206400-1761325200@kpbsd.org
SUMMARY:Parent Teacher Conferences
DESCRIPTION:Mark your calendars for parent teacher conferences on Oct. 23rd. There is No School for students Oct. 23rd & 24th.
URL:https://kpbsd.org/schools/soldotna-high/event/parent-teacher-conferences-7/
END:VEVENT
BEGIN:VEVENT
DTSTART;TZID=America/Anchorage:20251028T073000
DTEND;TZID=America/Anchorage:20251028T170000
DTSTAMP:20260419T091501
CREATED:20251027T210728Z
LAST-MODIFIED:20251027T210728Z
UID:14768-1761636600-1761670800@kpbsd.org
SUMMARY:PSAT test 10/27 & 10/28
DESCRIPTION:Students who have signed up need to be ready at 7:45am with charged Chromebooks. We will meet in the Auditorium.
URL:https://kpbsd.org/schools/soldotna-high/event/psat-test-10-27-10-28/
END:VEVENT
BEGIN:VEVENT
DTSTART;TZID=America/Anchorage:20251031T170000
DTEND;TZID=America/Anchorage:20251031T190000
DTSTAMP:20260419T091501
CREATED:20251027T204348Z
LAST-MODIFIED:20251027T214552Z
UID:14750-1761930000-1761937200@kpbsd.org
SUMMARY:Haunted Hallway & Halloween Carnival Oct. 31st
DESCRIPTION:Join us for our annual Haunted Hallway brought to you by our Choir. This year we will also have a Halloween Carnival and Trunk or Treat event. All events will be from 5-7pm. The cost is $1 per ticket\, 12 for $10 or 25 for $20. Open to all ages.
URL:https://kpbsd.org/schools/soldotna-high/event/haunted-hallway-halloween-carnival-oct-31st/
END:VEVENT
END:VCALENDAR