BEGIN:VCALENDAR
VERSION:2.0
PRODID:-//Soldotna Montessori Charter School - ECPv6.8.2//NONSGML v1.0//EN
CALSCALE:GREGORIAN
METHOD:PUBLISH
X-WR-CALNAME:Soldotna Montessori Charter School
X-ORIGINAL-URL:https://kpbsd.org/schools/soldotna-montessori
X-WR-CALDESC:Events for Soldotna Montessori Charter School
REFRESH-INTERVAL;VALUE=DURATION:PT1H
X-Robots-Tag:noindex
X-PUBLISHED-TTL:PT1H
BEGIN:VTIMEZONE
TZID:America/Anchorage
BEGIN:DAYLIGHT
TZOFFSETFROM:-0900
TZOFFSETTO:-0800
TZNAME:AKDT
DTSTART:20200308T110000
END:DAYLIGHT
BEGIN:STANDARD
TZOFFSETFROM:-0800
TZOFFSETTO:-0900
TZNAME:AKST
DTSTART:20201101T100000
END:STANDARD
END:VTIMEZONE
BEGIN:VEVENT
DTSTART;TZID=America/Anchorage:20201028T093000
DTEND;TZID=America/Anchorage:20201028T095000
DTSTAMP:20260419T181605
CREATED:20201026T224225Z
LAST-MODIFIED:20201125T022342Z
UID:1326-1603877400-1603878600@kpbsd.org
SUMMARY:School-Wide Halloween Costume Zoom Event
DESCRIPTION:Join your classmates and other SMCS student in wearing and sharing your Halloween costume in a whole-school Zoom room.  We will be meeting @ 9:30 to 9:50\, and you will be placed in to randomized breakout rooms to see and share your interesting costumes! \nYou will need your Student ID and password to access the Zoom room. \nUse this link to join the zoom room!
URL:https://kpbsd.org/schools/soldotna-montessori/event/school-wide-halloween-costume-zoom-event/
CATEGORIES:School Event
END:VEVENT
END:VCALENDAR