BEGIN:VCALENDAR
VERSION:2.0
PRODID:-//Soldotna Montessori Charter School - ECPv6.8.2//NONSGML v1.0//EN
CALSCALE:GREGORIAN
METHOD:PUBLISH
X-WR-CALNAME:Soldotna Montessori Charter School
X-ORIGINAL-URL:https://kpbsd.org/schools/soldotna-montessori
X-WR-CALDESC:Events for Soldotna Montessori Charter School
REFRESH-INTERVAL;VALUE=DURATION:PT1H
X-Robots-Tag:noindex
X-PUBLISHED-TTL:PT1H
BEGIN:VTIMEZONE
TZID:America/Anchorage
BEGIN:DAYLIGHT
TZOFFSETFROM:-0900
TZOFFSETTO:-0800
TZNAME:AKDT
DTSTART:20210314T110000
END:DAYLIGHT
BEGIN:STANDARD
TZOFFSETFROM:-0800
TZOFFSETTO:-0900
TZNAME:AKST
DTSTART:20211107T100000
END:STANDARD
END:VTIMEZONE
BEGIN:VEVENT
DTSTART;VALUE=DATE:20210101
DTEND;VALUE=DATE:20210227
DTSTAMP:20260423T172213
CREATED:20210105T031926Z
LAST-MODIFIED:20210106T014850Z
UID:1618-1609459200-1614383999@kpbsd.org
SUMMARY:SMCS Lottery Enrollment Application Window
DESCRIPTION:Soldotna Montessori Charter School Lottery Enrollment Opportunity\nWe are welcoming all families to apply for our lottery enrollment for the upcoming 2021-22 school year. The deadline for submitting a lottery application is 3 PM on Friday\, February 26\, 2021. \nFamilies can complete lottery applications online.   Soldotna Montessori Charter School is located in the 400 wing of Soldotna Elementary at 158 E. Park Ave. in Soldotna. SMCS is a free\, public school of the Kenai Peninsula Borough School District. \nAn informational meeting will be held via Zoom on Monday\, February 15 from 5:30 – 6:00 PM for anyone interested in learning more about Montessori education a link to the meeting will be on the front page of the school website. \nFamilies\, please share this information with friends and neighbors who may be interested in becoming part of our school family.
URL:https://kpbsd.org/schools/soldotna-montessori/event/smcs-lottery-enrollment-application-window/
END:VEVENT
BEGIN:VEVENT
DTSTART;VALUE=DATE:20210224
DTEND;VALUE=DATE:20210225
DTSTAMP:20260423T172213
CREATED:20210201T235724Z
LAST-MODIFIED:20210201T235724Z
UID:1704-1614124800-1614211199@kpbsd.org
SUMMARY:Spirit Day - Decades Day
DESCRIPTION:Come to school dressed representing a decade. Which one appeals to you… the 50’s\, 70’s…80’s\, or some other decade?
URL:https://kpbsd.org/schools/soldotna-montessori/event/spirit-day-decades-day/
CATEGORIES:School Event
END:VEVENT
BEGIN:VEVENT
DTSTART;TZID=America/Anchorage:20210224T130000
DTEND;TZID=America/Anchorage:20210224T140000
DTSTAMP:20260423T172213
CREATED:20210129T213032Z
LAST-MODIFIED:20210201T234908Z
UID:1690-1614171600-1614175200@kpbsd.org
SUMMARY:Skyview Middle School meets with 6th Grade students
DESCRIPTION:Principal Truesdell and Ms. Natalie will meet with 6th grade students to discuss transition to Skyview Middle School. \n** Please plan for In-Person visits but this may change to ZOOM meetings due to the COVID19 KPBSD Risk Level during this time.  DETAILS TBA.
URL:https://kpbsd.org/schools/soldotna-montessori/event/skyview-middle-school-meets-with-6th-grade-students/
CATEGORIES:School Event
END:VEVENT
END:VCALENDAR