BEGIN:VCALENDAR
VERSION:2.0
PRODID:-//Soldotna Montessori Charter School - ECPv6.8.2//NONSGML v1.0//EN
CALSCALE:GREGORIAN
METHOD:PUBLISH
X-WR-CALNAME:Soldotna Montessori Charter School
X-ORIGINAL-URL:https://kpbsd.org/schools/soldotna-montessori
X-WR-CALDESC:Events for Soldotna Montessori Charter School
REFRESH-INTERVAL;VALUE=DURATION:PT1H
X-Robots-Tag:noindex
X-PUBLISHED-TTL:PT1H
BEGIN:VTIMEZONE
TZID:America/Anchorage
BEGIN:DAYLIGHT
TZOFFSETFROM:-0900
TZOFFSETTO:-0800
TZNAME:AKDT
DTSTART:20210314T110000
END:DAYLIGHT
BEGIN:STANDARD
TZOFFSETFROM:-0800
TZOFFSETTO:-0900
TZNAME:AKST
DTSTART:20211107T100000
END:STANDARD
END:VTIMEZONE
BEGIN:VEVENT
DTSTART;VALUE=DATE:20210101
DTEND;VALUE=DATE:20210227
DTSTAMP:20260422T100702
CREATED:20210105T031926Z
LAST-MODIFIED:20210106T014850Z
UID:1618-1609459200-1614383999@kpbsd.org
SUMMARY:SMCS Lottery Enrollment Application Window
DESCRIPTION:Soldotna Montessori Charter School Lottery Enrollment Opportunity\nWe are welcoming all families to apply for our lottery enrollment for the upcoming 2021-22 school year. The deadline for submitting a lottery application is 3 PM on Friday\, February 26\, 2021. \nFamilies can complete lottery applications online.   Soldotna Montessori Charter School is located in the 400 wing of Soldotna Elementary at 158 E. Park Ave. in Soldotna. SMCS is a free\, public school of the Kenai Peninsula Borough School District. \nAn informational meeting will be held via Zoom on Monday\, February 15 from 5:30 – 6:00 PM for anyone interested in learning more about Montessori education a link to the meeting will be on the front page of the school website. \nFamilies\, please share this information with friends and neighbors who may be interested in becoming part of our school family.
URL:https://kpbsd.org/schools/soldotna-montessori/event/smcs-lottery-enrollment-application-window/
END:VEVENT
BEGIN:VEVENT
DTSTART;TZID=America/Anchorage:20210225T091500
DTEND;TZID=America/Anchorage:20210225T123000
DTSTAMP:20260422T100702
CREATED:20210129T212852Z
LAST-MODIFIED:20210129T212852Z
UID:1685-1614244500-1614256200@kpbsd.org
SUMMARY:Field Trip - KNWR - Grade 5
DESCRIPTION:
URL:https://kpbsd.org/schools/soldotna-montessori/event/field-trip-knwr-grade-5/
CATEGORIES:School Event
END:VEVENT
BEGIN:VEVENT
DTSTART;TZID=America/Anchorage:20210225T133000
DTEND;TZID=America/Anchorage:20210225T143000
DTSTAMP:20260422T100702
CREATED:20210129T215436Z
LAST-MODIFIED:20210129T215436Z
UID:1692-1614259800-1614263400@kpbsd.org
SUMMARY:School Spelling Bee
DESCRIPTION:Grade 3-6 School Spelling Bee \nLikely a Zoom Event
URL:https://kpbsd.org/schools/soldotna-montessori/event/school-spelling-bee/
END:VEVENT
BEGIN:VEVENT
DTSTART;TZID=America/Anchorage:20210225T173000
DTEND;TZID=America/Anchorage:20210225T193000
DTSTAMP:20260422T100702
CREATED:20210121T185357Z
LAST-MODIFIED:20210202T000309Z
UID:1653-1614274200-1614281400@kpbsd.org
SUMMARY:APC Meeting (Tentative)
DESCRIPTION:Zoom Meeting Link \nAgenda
URL:https://kpbsd.org/schools/soldotna-montessori/event/apc-meeting-tentative/
CATEGORIES:APC Meeting
END:VEVENT
END:VCALENDAR