BEGIN:VCALENDAR
VERSION:2.0
PRODID:-//Soldotna Montessori Charter School - ECPv6.8.2//NONSGML v1.0//EN
CALSCALE:GREGORIAN
METHOD:PUBLISH
X-WR-CALNAME:Soldotna Montessori Charter School
X-ORIGINAL-URL:https://kpbsd.org/schools/soldotna-montessori
X-WR-CALDESC:Events for Soldotna Montessori Charter School
REFRESH-INTERVAL;VALUE=DURATION:PT1H
X-Robots-Tag:noindex
X-PUBLISHED-TTL:PT1H
BEGIN:VTIMEZONE
TZID:America/Anchorage
BEGIN:DAYLIGHT
TZOFFSETFROM:-0900
TZOFFSETTO:-0800
TZNAME:AKDT
DTSTART:20210314T110000
END:DAYLIGHT
BEGIN:STANDARD
TZOFFSETFROM:-0800
TZOFFSETTO:-0900
TZNAME:AKST
DTSTART:20211107T100000
END:STANDARD
END:VTIMEZONE
BEGIN:VEVENT
DTSTART;TZID=America/Anchorage:20210514T080000
DTEND;TZID=America/Anchorage:20210514T170000
DTSTAMP:20260422T174417
CREATED:20210423T222543Z
LAST-MODIFIED:20210423T222543Z
UID:1988-1620979200-1621011600@kpbsd.org
SUMMARY:4th Grade Field Trip - Fire Ecology (Kelly/Peterson Lakes)
DESCRIPTION:
URL:https://kpbsd.org/schools/soldotna-montessori/event/4th-grade-field-trip-fire-ecology-kelly-peterson-lakes/
CATEGORIES:Field Trip
END:VEVENT
BEGIN:VEVENT
DTSTART;TZID=America/Anchorage:20210514T100000
DTEND;TZID=America/Anchorage:20210514T120000
DTSTAMP:20260422T174417
CREATED:20210423T222633Z
LAST-MODIFIED:20210423T222633Z
UID:1990-1620986400-1620993600@kpbsd.org
SUMMARY:Kindergarten Field Trip - Cadre & Aspen Park
DESCRIPTION:
URL:https://kpbsd.org/schools/soldotna-montessori/event/kindergarten-field-trip-cadre-aspen-park/
CATEGORIES:Field Trip
END:VEVENT
END:VCALENDAR