BEGIN:VCALENDAR
VERSION:2.0
PRODID:-//Soldotna Montessori Charter School - ECPv6.8.2//NONSGML v1.0//EN
CALSCALE:GREGORIAN
METHOD:PUBLISH
X-WR-CALNAME:Soldotna Montessori Charter School
X-ORIGINAL-URL:https://kpbsd.org/schools/soldotna-montessori
X-WR-CALDESC:Events for Soldotna Montessori Charter School
REFRESH-INTERVAL;VALUE=DURATION:PT1H
X-Robots-Tag:noindex
X-PUBLISHED-TTL:PT1H
BEGIN:VTIMEZONE
TZID:America/Anchorage
BEGIN:DAYLIGHT
TZOFFSETFROM:-0900
TZOFFSETTO:-0800
TZNAME:AKDT
DTSTART:20220313T110000
END:DAYLIGHT
BEGIN:STANDARD
TZOFFSETFROM:-0800
TZOFFSETTO:-0900
TZNAME:AKST
DTSTART:20221106T100000
END:STANDARD
END:VTIMEZONE
BEGIN:VEVENT
DTSTART;VALUE=DATE:20220418
DTEND;VALUE=DATE:20220421
DTSTAMP:20260421T114709
CREATED:20220421T230539Z
LAST-MODIFIED:20220421T230539Z
UID:2858-1650240000-1650499199@kpbsd.org
SUMMARY:Faris F.T. (Peterson Bay)
DESCRIPTION:
URL:https://kpbsd.org/schools/soldotna-montessori/event/faris-f-t-peterson-bay/
CATEGORIES:Field Trip
END:VEVENT
BEGIN:VEVENT
DTSTART;VALUE=DATE:20220418
DTEND;VALUE=DATE:20220423
DTSTAMP:20260421T114709
CREATED:20220204T200531Z
LAST-MODIFIED:20220204T200536Z
UID:2651-1650240000-1650671999@kpbsd.org
SUMMARY:State Testing Window
DESCRIPTION:
URL:https://kpbsd.org/schools/soldotna-montessori/event/state-testing-window-4/
CATEGORIES:School Event
END:VEVENT
BEGIN:VEVENT
DTSTART;VALUE=DATE:20220420
DTEND;VALUE=DATE:20220421
DTSTAMP:20260421T114709
CREATED:20220421T230753Z
LAST-MODIFIED:20220421T230753Z
UID:2866-1650412800-1650499199@kpbsd.org
SUMMARY:Carter F.T. (Little Puffins)
DESCRIPTION:
URL:https://kpbsd.org/schools/soldotna-montessori/event/carter-f-t-little-puffins/
CATEGORIES:Field Trip
END:VEVENT
BEGIN:VEVENT
DTSTART;VALUE=DATE:20220420
DTEND;VALUE=DATE:20220423
DTSTAMP:20260421T114709
CREATED:20220421T230609Z
LAST-MODIFIED:20220421T230609Z
UID:2860-1650412800-1650671999@kpbsd.org
SUMMARY:Moore F.T. (Peterson Bay)
DESCRIPTION:
URL:https://kpbsd.org/schools/soldotna-montessori/event/moore-f-t-peterson-bay/
CATEGORIES:Field Trip
END:VEVENT
END:VCALENDAR