BEGIN:VCALENDAR
VERSION:2.0
PRODID:-//Soldotna Montessori Charter School - ECPv6.8.2//NONSGML v1.0//EN
CALSCALE:GREGORIAN
METHOD:PUBLISH
X-WR-CALNAME:Soldotna Montessori Charter School
X-ORIGINAL-URL:https://kpbsd.org/schools/soldotna-montessori
X-WR-CALDESC:Events for Soldotna Montessori Charter School
REFRESH-INTERVAL;VALUE=DURATION:PT1H
X-Robots-Tag:noindex
X-PUBLISHED-TTL:PT1H
BEGIN:VTIMEZONE
TZID:America/Anchorage
BEGIN:DAYLIGHT
TZOFFSETFROM:-0900
TZOFFSETTO:-0800
TZNAME:AKDT
DTSTART:20240310T110000
END:DAYLIGHT
BEGIN:STANDARD
TZOFFSETFROM:-0800
TZOFFSETTO:-0900
TZNAME:AKST
DTSTART:20241103T100000
END:STANDARD
END:VTIMEZONE
BEGIN:VEVENT
DTSTART;VALUE=DATE:20240903
DTEND;VALUE=DATE:20240907
DTSTAMP:20260420T044645
CREATED:20240826T183208Z
LAST-MODIFIED:20240828T163759Z
UID:5659-1725321600-1725667199@kpbsd.org
SUMMARY:Kindergarten Color Days
DESCRIPTION:Wear certain colors on certain days to show school spirit! \n\nTuesday\, September 3- Red\nWednesday\, September 4- Orange\nThursday\, September 5- Picture Day/ no color 🙂\nFriday\, September 6- Yellow\n\n  \n\nMonday\, September 9- Green\nTuesday\, September 10- Blue\nWednesday\, September 11- Purple or pink\nThursday\, September 12- Black or White\nFriday\, September 13- See how many colors you can wear!
URL:https://kpbsd.org/schools/soldotna-montessori/event/kindergarten-color-days-4/
CATEGORIES:School Event
END:VEVENT
END:VCALENDAR