BEGIN:VCALENDAR
VERSION:2.0
PRODID:-//Soldotna Montessori Charter School - ECPv6.8.2//NONSGML v1.0//EN
CALSCALE:GREGORIAN
METHOD:PUBLISH
X-WR-CALNAME:Soldotna Montessori Charter School
X-ORIGINAL-URL:https://kpbsd.org/schools/soldotna-montessori
X-WR-CALDESC:Events for Soldotna Montessori Charter School
REFRESH-INTERVAL;VALUE=DURATION:PT1H
X-Robots-Tag:noindex
X-PUBLISHED-TTL:PT1H
BEGIN:VTIMEZONE
TZID:America/Anchorage
BEGIN:DAYLIGHT
TZOFFSETFROM:-0900
TZOFFSETTO:-0800
TZNAME:AKDT
DTSTART:20240310T110000
END:DAYLIGHT
BEGIN:STANDARD
TZOFFSETFROM:-0800
TZOFFSETTO:-0900
TZNAME:AKST
DTSTART:20241103T100000
END:STANDARD
END:VTIMEZONE
BEGIN:VEVENT
DTSTART;VALUE=DATE:20240919
DTEND;VALUE=DATE:20240920
DTSTAMP:20260423T091620
CREATED:20240905T221559Z
LAST-MODIFIED:20240905T222438Z
UID:5958-1726704000-1726790399@kpbsd.org
SUMMARY:Talk-Like-A-Pirate Day - Hubbard's Class
DESCRIPTION:
URL:https://kpbsd.org/schools/soldotna-montessori/event/talk-like-a-pirate-day-hubbards-class-2/
END:VEVENT
BEGIN:VEVENT
DTSTART;TZID=America/Anchorage:20240919T090000
DTEND;TZID=America/Anchorage:20240919T123000
DTSTAMP:20260423T091620
CREATED:20240828T161835Z
LAST-MODIFIED:20240828T161835Z
UID:5914-1726736400-1726749000@kpbsd.org
SUMMARY:Field Trip - Larned - Challenger Center
DESCRIPTION:
URL:https://kpbsd.org/schools/soldotna-montessori/event/field-trip-larned-challenger-center/
CATEGORIES:Field Trip
END:VEVENT
BEGIN:VEVENT
DTSTART;TZID=America/Anchorage:20240919T173000
DTEND;TZID=America/Anchorage:20240919T180000
DTSTAMP:20260423T091620
CREATED:20240826T183327Z
LAST-MODIFIED:20240826T183340Z
UID:5662-1726767000-1726768800@kpbsd.org
SUMMARY:APC General Meeting
DESCRIPTION:
URL:https://kpbsd.org/schools/soldotna-montessori/event/apc-general-meeting/
CATEGORIES:APC Meeting
END:VEVENT
BEGIN:VEVENT
DTSTART;TZID=America/Anchorage:20240919T173000
DTEND;TZID=America/Anchorage:20240919T183000
DTSTAMP:20260423T091620
CREATED:20240823T170813Z
LAST-MODIFIED:20240823T170813Z
UID:5618-1726767000-1726770600@kpbsd.org
SUMMARY:Peace Night
DESCRIPTION:
URL:https://kpbsd.org/schools/soldotna-montessori/event/peace-night-3/
CATEGORIES:APC Meeting,School Event
END:VEVENT
END:VCALENDAR