BEGIN:VCALENDAR
VERSION:2.0
PRODID:-//Soldotna Montessori Charter School - ECPv6.8.2//NONSGML v1.0//EN
CALSCALE:GREGORIAN
METHOD:PUBLISH
X-WR-CALNAME:Soldotna Montessori Charter School
X-ORIGINAL-URL:https://kpbsd.org/schools/soldotna-montessori
X-WR-CALDESC:Events for Soldotna Montessori Charter School
REFRESH-INTERVAL;VALUE=DURATION:PT1H
X-Robots-Tag:noindex
X-PUBLISHED-TTL:PT1H
BEGIN:VTIMEZONE
TZID:America/Anchorage
BEGIN:DAYLIGHT
TZOFFSETFROM:-0900
TZOFFSETTO:-0800
TZNAME:AKDT
DTSTART:20240310T110000
END:DAYLIGHT
BEGIN:STANDARD
TZOFFSETFROM:-0800
TZOFFSETTO:-0900
TZNAME:AKST
DTSTART:20241103T100000
END:STANDARD
END:VTIMEZONE
BEGIN:VEVENT
DTSTART;VALUE=DATE:20240924
DTEND;VALUE=DATE:20240926
DTSTAMP:20260422T225524
CREATED:20240826T183450Z
LAST-MODIFIED:20240826T183450Z
UID:5673-1727136000-1727308799@kpbsd.org
SUMMARY:Field Trip - Faris - OEC
DESCRIPTION:
URL:https://kpbsd.org/schools/soldotna-montessori/event/field-trip-faris-oec/
CATEGORIES:Field Trip
END:VEVENT
BEGIN:VEVENT
DTSTART;VALUE=DATE:20240925
DTEND;VALUE=DATE:20240927
DTSTAMP:20260422T225524
CREATED:20240826T183518Z
LAST-MODIFIED:20240826T183518Z
UID:5679-1727222400-1727395199@kpbsd.org
SUMMARY:Field Trip - Moore - OEC
DESCRIPTION:
URL:https://kpbsd.org/schools/soldotna-montessori/event/field-trip-moore-oec/
CATEGORIES:Field Trip
END:VEVENT
END:VCALENDAR