BEGIN:VCALENDAR
VERSION:2.0
PRODID:-//Soldotna Montessori Charter School - ECPv6.8.2//NONSGML v1.0//EN
CALSCALE:GREGORIAN
METHOD:PUBLISH
X-WR-CALNAME:Soldotna Montessori Charter School
X-ORIGINAL-URL:https://kpbsd.org/schools/soldotna-montessori
X-WR-CALDESC:Events for Soldotna Montessori Charter School
REFRESH-INTERVAL;VALUE=DURATION:PT1H
X-Robots-Tag:noindex
X-PUBLISHED-TTL:PT1H
BEGIN:VTIMEZONE
TZID:America/Anchorage
BEGIN:DAYLIGHT
TZOFFSETFROM:-0900
TZOFFSETTO:-0800
TZNAME:AKDT
DTSTART:20240310T110000
END:DAYLIGHT
BEGIN:STANDARD
TZOFFSETFROM:-0800
TZOFFSETTO:-0900
TZNAME:AKST
DTSTART:20241103T100000
END:STANDARD
END:VTIMEZONE
BEGIN:VEVENT
DTSTART;TZID=America/Anchorage:20240927T081500
DTEND;TZID=America/Anchorage:20240927T083500
DTSTAMP:20260423T154427
CREATED:20240905T221508Z
LAST-MODIFIED:20240905T221508Z
UID:5954-1727424900-1727426100@kpbsd.org
SUMMARY:Walk Your Student To School Day
DESCRIPTION:Organized by the Central Emergency Services \nMeet at the Catholic Church @ 8:15 to walk to the school.
URL:https://kpbsd.org/schools/soldotna-montessori/event/walk-your-student-to-school-day-2/
CATEGORIES:School Event
END:VEVENT
BEGIN:VEVENT
DTSTART;TZID=America/Anchorage:20240927T090000
DTEND;TZID=America/Anchorage:20240927T123000
DTSTAMP:20260423T154427
CREATED:20240828T161919Z
LAST-MODIFIED:20240828T161919Z
UID:5918-1727427600-1727440200@kpbsd.org
SUMMARY:Field Trip - Hubbard - Challenger Center
DESCRIPTION:
URL:https://kpbsd.org/schools/soldotna-montessori/event/field-trip-hubbard-challenger-center/
CATEGORIES:Field Trip
END:VEVENT
BEGIN:VEVENT
DTSTART;TZID=America/Anchorage:20240927T130000
DTEND;TZID=America/Anchorage:20240927T153000
DTSTAMP:20260423T154427
CREATED:20240826T180737Z
LAST-MODIFIED:20240826T183611Z
UID:5633-1727442000-1727451000@kpbsd.org
SUMMARY:Farmer's Market
DESCRIPTION:
URL:https://kpbsd.org/schools/soldotna-montessori/event/farmers-market-tentative/
CATEGORIES:School Event
END:VEVENT
END:VCALENDAR