BEGIN:VCALENDAR
VERSION:2.0
PRODID:-//Soldotna Montessori Charter School - ECPv6.8.2//NONSGML v1.0//EN
CALSCALE:GREGORIAN
METHOD:PUBLISH
X-WR-CALNAME:Soldotna Montessori Charter School
X-ORIGINAL-URL:https://kpbsd.org/schools/soldotna-montessori
X-WR-CALDESC:Events for Soldotna Montessori Charter School
REFRESH-INTERVAL;VALUE=DURATION:PT1H
X-Robots-Tag:noindex
X-PUBLISHED-TTL:PT1H
BEGIN:VTIMEZONE
TZID:America/Anchorage
BEGIN:DAYLIGHT
TZOFFSETFROM:-0900
TZOFFSETTO:-0800
TZNAME:AKDT
DTSTART:20240310T110000
END:DAYLIGHT
BEGIN:STANDARD
TZOFFSETFROM:-0800
TZOFFSETTO:-0900
TZNAME:AKST
DTSTART:20241103T100000
END:STANDARD
END:VTIMEZONE
BEGIN:VEVENT
DTSTART;VALUE=DATE:20241127
DTEND;VALUE=DATE:20241128
DTSTAMP:20260424T142704
CREATED:20240826T184553Z
LAST-MODIFIED:20240826T184553Z
UID:5738-1732665600-1732751999@kpbsd.org
SUMMARY:Stone Soup Day
DESCRIPTION:
URL:https://kpbsd.org/schools/soldotna-montessori/event/stone-soup-day/
CATEGORIES:School Event
END:VEVENT
BEGIN:VEVENT
DTSTART;TZID=America/Anchorage:20241127T090000
DTEND;TZID=America/Anchorage:20241127T103000
DTSTAMP:20260424T142704
CREATED:20241125T174146Z
LAST-MODIFIED:20241125T174146Z
UID:6310-1732698000-1732703400@kpbsd.org
SUMMARY:School Movie Day
DESCRIPTION:Garfield
URL:https://kpbsd.org/schools/soldotna-montessori/event/school-movie-day/
CATEGORIES:School Event
END:VEVENT
BEGIN:VEVENT
DTSTART;TZID=America/Anchorage:20241127T150000
DTEND;TZID=America/Anchorage:20241127T153000
DTSTAMP:20260424T142704
CREATED:20240826T184645Z
LAST-MODIFIED:20240826T184645Z
UID:5741-1732719600-1732721400@kpbsd.org
SUMMARY:Kinder Balloons Parade
DESCRIPTION:
URL:https://kpbsd.org/schools/soldotna-montessori/event/kinder-balloons-parade/
CATEGORIES:School Event
END:VEVENT
END:VCALENDAR