BEGIN:VCALENDAR
VERSION:2.0
PRODID:-//Soldotna Montessori Charter School - ECPv6.8.2//NONSGML v1.0//EN
CALSCALE:GREGORIAN
METHOD:PUBLISH
X-WR-CALNAME:Soldotna Montessori Charter School
X-ORIGINAL-URL:https://kpbsd.org/schools/soldotna-montessori
X-WR-CALDESC:Events for Soldotna Montessori Charter School
REFRESH-INTERVAL;VALUE=DURATION:PT1H
X-Robots-Tag:noindex
X-PUBLISHED-TTL:PT1H
BEGIN:VTIMEZONE
TZID:America/Anchorage
BEGIN:DAYLIGHT
TZOFFSETFROM:-0900
TZOFFSETTO:-0800
TZNAME:AKDT
DTSTART:20250309T110000
END:DAYLIGHT
BEGIN:STANDARD
TZOFFSETFROM:-0800
TZOFFSETTO:-0900
TZNAME:AKST
DTSTART:20251102T100000
END:STANDARD
END:VTIMEZONE
BEGIN:VEVENT
DTSTART;VALUE=DATE:20250423
DTEND;VALUE=DATE:20250426
DTSTAMP:20260425T051807
CREATED:20241024T201454Z
LAST-MODIFIED:20241024T201454Z
UID:6138-1745366400-1745625599@kpbsd.org
SUMMARY:F/T - Dixon - Peterson Bay
DESCRIPTION:
URL:https://kpbsd.org/schools/soldotna-montessori/event/f-t-dixon-peterson-bay/
CATEGORIES:Field Trip
END:VEVENT
BEGIN:VEVENT
DTSTART;TZID=America/Anchorage:20250425T091500
DTEND;TZID=America/Anchorage:20250425T091500
DTSTAMP:20260425T051807
CREATED:20240826T190425Z
LAST-MODIFIED:20250205T182233Z
UID:5849-1745572500-1745572500@kpbsd.org
SUMMARY:School Assembly - Moore's Class Hosts
DESCRIPTION:
URL:https://kpbsd.org/schools/soldotna-montessori/event/school-assembly-moores-class-hosts/
CATEGORIES:School Event
END:VEVENT
BEGIN:VEVENT
DTSTART;TZID=America/Anchorage:20250425T130000
DTEND;TZID=America/Anchorage:20250425T150000
DTSTAMP:20260425T051807
CREATED:20250318T181238Z
LAST-MODIFIED:20250318T181238Z
UID:6628-1745586000-1745593200@kpbsd.org
SUMMARY:F/T - Hubbard - Heritage Place
DESCRIPTION:
URL:https://kpbsd.org/schools/soldotna-montessori/event/f-t-hubbard-heritage-place-4/
CATEGORIES:Field Trip
END:VEVENT
END:VCALENDAR