BEGIN:VCALENDAR
VERSION:2.0
PRODID:-//Soldotna Montessori Charter School - ECPv6.8.2//NONSGML v1.0//EN
CALSCALE:GREGORIAN
METHOD:PUBLISH
X-WR-CALNAME:Soldotna Montessori Charter School
X-ORIGINAL-URL:https://kpbsd.org/schools/soldotna-montessori
X-WR-CALDESC:Events for Soldotna Montessori Charter School
REFRESH-INTERVAL;VALUE=DURATION:PT1H
X-Robots-Tag:noindex
X-PUBLISHED-TTL:PT1H
BEGIN:VTIMEZONE
TZID:America/Anchorage
BEGIN:DAYLIGHT
TZOFFSETFROM:-0900
TZOFFSETTO:-0800
TZNAME:AKDT
DTSTART:20250309T110000
END:DAYLIGHT
BEGIN:STANDARD
TZOFFSETFROM:-0800
TZOFFSETTO:-0900
TZNAME:AKST
DTSTART:20251102T100000
END:STANDARD
END:VTIMEZONE
BEGIN:VEVENT
DTSTART;VALUE=DATE:20250505
DTEND;VALUE=DATE:20250510
DTSTAMP:20260425T122239
CREATED:20250318T181348Z
LAST-MODIFIED:20250318T181348Z
UID:6634-1746403200-1746835199@kpbsd.org
SUMMARY:Garden Potato Planting Week
DESCRIPTION:
URL:https://kpbsd.org/schools/soldotna-montessori/event/garden-potato-planting-week/
CATEGORIES:School Event
END:VEVENT
BEGIN:VEVENT
DTSTART;VALUE=DATE:20250509
DTEND;VALUE=DATE:20250510
DTSTAMP:20260425T122239
CREATED:20250414T184229Z
LAST-MODIFIED:20250414T184229Z
UID:6719-1746748800-1746835199@kpbsd.org
SUMMARY:50 Cent Friday
DESCRIPTION:
URL:https://kpbsd.org/schools/soldotna-montessori/event/50-cent-friday-16/
CATEGORIES:School Event
END:VEVENT
BEGIN:VEVENT
DTSTART;TZID=America/Anchorage:20250509T091500
DTEND;TZID=America/Anchorage:20250509T093000
DTSTAMP:20260425T122239
CREATED:20240826T190624Z
LAST-MODIFIED:20241024T201847Z
UID:5865-1746782100-1746783000@kpbsd.org
SUMMARY:School Assembly - Kindergarten Hosts
DESCRIPTION:
URL:https://kpbsd.org/schools/soldotna-montessori/event/school-assembly-kindergarten-hosts-2/
CATEGORIES:School Event
END:VEVENT
BEGIN:VEVENT
DTSTART;TZID=America/Anchorage:20250509T130000
DTEND;TZID=America/Anchorage:20250509T150000
DTSTAMP:20260425T122239
CREATED:20250318T181630Z
LAST-MODIFIED:20250318T181630Z
UID:6641-1746795600-1746802800@kpbsd.org
SUMMARY:F/T - Hubbard - Heritage Place
DESCRIPTION:
URL:https://kpbsd.org/schools/soldotna-montessori/event/f-t-hubbard-heritage-place-5/
CATEGORIES:Field Trip
END:VEVENT
END:VCALENDAR