BEGIN:VCALENDAR
VERSION:2.0
PRODID:-//Soldotna Montessori Charter School - ECPv6.8.2//NONSGML v1.0//EN
CALSCALE:GREGORIAN
METHOD:PUBLISH
X-WR-CALNAME:Soldotna Montessori Charter School
X-ORIGINAL-URL:https://kpbsd.org/schools/soldotna-montessori
X-WR-CALDESC:Events for Soldotna Montessori Charter School
REFRESH-INTERVAL;VALUE=DURATION:PT1H
X-Robots-Tag:noindex
X-PUBLISHED-TTL:PT1H
BEGIN:VTIMEZONE
TZID:America/Anchorage
BEGIN:DAYLIGHT
TZOFFSETFROM:-0900
TZOFFSETTO:-0800
TZNAME:AKDT
DTSTART:20250309T110000
END:DAYLIGHT
BEGIN:STANDARD
TZOFFSETFROM:-0800
TZOFFSETTO:-0900
TZNAME:AKST
DTSTART:20251102T100000
END:STANDARD
END:VTIMEZONE
BEGIN:VEVENT
DTSTART;TZID=America/Anchorage:20250814T170000
DTEND;TZID=America/Anchorage:20250814T173000
DTSTAMP:20260421T205617
CREATED:20250804T162253Z
LAST-MODIFIED:20250804T162253Z
UID:7123-1755190800-1755192600@kpbsd.org
SUMMARY:Grade 1-6 - New to SMCS Orientation
DESCRIPTION:
URL:https://kpbsd.org/schools/soldotna-montessori/event/grade-1-6-new-to-smcs-orientation/
CATEGORIES:School Event
END:VEVENT
BEGIN:VEVENT
DTSTART;TZID=America/Anchorage:20250814T173000
DTEND;TZID=America/Anchorage:20250814T183000
DTSTAMP:20260421T205617
CREATED:20250528T213629Z
LAST-MODIFIED:20250528T213629Z
UID:6853-1755192600-1755196200@kpbsd.org
SUMMARY:Kindergarten Parent Orientation (No Children)
DESCRIPTION:
URL:https://kpbsd.org/schools/soldotna-montessori/event/kindergarten-parent-orientation-no-children/
CATEGORIES:School Event
END:VEVENT
END:VCALENDAR