BEGIN:VCALENDAR
VERSION:2.0
PRODID:-//Soldotna Montessori Charter School - ECPv6.8.2//NONSGML v1.0//EN
CALSCALE:GREGORIAN
METHOD:PUBLISH
X-WR-CALNAME:Soldotna Montessori Charter School
X-ORIGINAL-URL:https://kpbsd.org/schools/soldotna-montessori
X-WR-CALDESC:Events for Soldotna Montessori Charter School
REFRESH-INTERVAL;VALUE=DURATION:PT1H
X-Robots-Tag:noindex
X-PUBLISHED-TTL:PT1H
BEGIN:VTIMEZONE
TZID:America/Anchorage
BEGIN:DAYLIGHT
TZOFFSETFROM:-0900
TZOFFSETTO:-0800
TZNAME:AKDT
DTSTART:20250309T110000
END:DAYLIGHT
BEGIN:STANDARD
TZOFFSETFROM:-0800
TZOFFSETTO:-0900
TZNAME:AKST
DTSTART:20251102T100000
END:STANDARD
END:VTIMEZONE
BEGIN:VEVENT
DTSTART;TZID=America/Anchorage:20251031T080000
DTEND;TZID=America/Anchorage:20251031T170000
DTSTAMP:20260420T212907
CREATED:20250528T215145Z
LAST-MODIFIED:20250528T215145Z
UID:6934-1761897600-1761930000@kpbsd.org
SUMMARY:Halloween
DESCRIPTION:
URL:https://kpbsd.org/schools/soldotna-montessori/event/halloween-3/
CATEGORIES:School Event
END:VEVENT
BEGIN:VEVENT
DTSTART;TZID=America/Anchorage:20251031T130000
DTEND;TZID=America/Anchorage:20251031T151500
DTSTAMP:20260420T212907
CREATED:20251030T192745Z
LAST-MODIFIED:20251030T193537Z
UID:7557-1761915600-1761923700@kpbsd.org
SUMMARY:F/T - Hubbard - Heritage Place
DESCRIPTION:
URL:https://kpbsd.org/schools/soldotna-montessori/event/f-t-hubbard-heritage-place-6/
CATEGORIES:Field Trip
END:VEVENT
END:VCALENDAR