BEGIN:VCALENDAR
VERSION:2.0
PRODID:-//Soldotna Montessori Charter School - ECPv6.8.2//NONSGML v1.0//EN
CALSCALE:GREGORIAN
METHOD:PUBLISH
X-WR-CALNAME:Soldotna Montessori Charter School
X-ORIGINAL-URL:https://kpbsd.org/schools/soldotna-montessori
X-WR-CALDESC:Events for Soldotna Montessori Charter School
REFRESH-INTERVAL;VALUE=DURATION:PT1H
X-Robots-Tag:noindex
X-PUBLISHED-TTL:PT1H
BEGIN:VTIMEZONE
TZID:America/Anchorage
BEGIN:DAYLIGHT
TZOFFSETFROM:-0900
TZOFFSETTO:-0800
TZNAME:AKDT
DTSTART:20240310T110000
END:DAYLIGHT
BEGIN:STANDARD
TZOFFSETFROM:-0800
TZOFFSETTO:-0900
TZNAME:AKST
DTSTART:20241103T100000
END:STANDARD
END:VTIMEZONE
BEGIN:VEVENT
DTSTART;VALUE=DATE:20241101
DTEND;VALUE=DATE:20241102
DTSTAMP:20260422T230033
CREATED:20241007T191212Z
LAST-MODIFIED:20241007T191212Z
UID:6005-1730419200-1730505599@kpbsd.org
SUMMARY:F/T - Faris - Stream Testing
DESCRIPTION:
URL:https://kpbsd.org/schools/soldotna-montessori/event/f-t-faris-stream-testing/
CATEGORIES:Field Trip
END:VEVENT
BEGIN:VEVENT
DTSTART;TZID=America/Anchorage:20241107T133000
DTEND;TZID=America/Anchorage:20241107T150000
DTSTAMP:20260422T230033
CREATED:20241024T200201Z
LAST-MODIFIED:20241024T200201Z
UID:6110-1730986200-1730991600@kpbsd.org
SUMMARY:F/T - Kindergarten - Fire Station
DESCRIPTION:
URL:https://kpbsd.org/schools/soldotna-montessori/event/f-t-kindergarten-fire-station/
CATEGORIES:Field Trip
END:VEVENT
BEGIN:VEVENT
DTSTART;TZID=America/Anchorage:20241114T173000
DTEND;TZID=America/Anchorage:20241114T190000
DTSTAMP:20260422T230033
CREATED:20240826T184502Z
LAST-MODIFIED:20240826T184502Z
UID:5733-1731605400-1731610800@kpbsd.org
SUMMARY:APC Meeting
DESCRIPTION:
URL:https://kpbsd.org/schools/soldotna-montessori/event/apc-meeting-25/
CATEGORIES:APC Meeting
END:VEVENT
BEGIN:VEVENT
DTSTART;VALUE=DATE:20241115
DTEND;VALUE=DATE:20241116
DTSTAMP:20260422T230033
CREATED:20240826T184314Z
LAST-MODIFIED:20240826T184314Z
UID:5728-1731628800-1731715199@kpbsd.org
SUMMARY:Early Release (2:15)
DESCRIPTION:
URL:https://kpbsd.org/schools/soldotna-montessori/event/early-release-215-2/
CATEGORIES:Early Release
END:VEVENT
BEGIN:VEVENT
DTSTART;VALUE=DATE:20241120
DTEND;VALUE=DATE:20241121
DTSTAMP:20260422T230033
CREATED:20241007T191327Z
LAST-MODIFIED:20241007T191327Z
UID:6012-1732060800-1732147199@kpbsd.org
SUMMARY:Intermediate - Ellis Island Simulation
DESCRIPTION:
URL:https://kpbsd.org/schools/soldotna-montessori/event/intermediate-ellis-island-simulation/
END:VEVENT
BEGIN:VEVENT
DTSTART;VALUE=DATE:20241121
DTEND;VALUE=DATE:20241122
DTSTAMP:20260422T230033
CREATED:20241007T191259Z
LAST-MODIFIED:20241007T191259Z
UID:6007-1732147200-1732233599@kpbsd.org
SUMMARY:F/T - Dixon - Stream Testing
DESCRIPTION:
URL:https://kpbsd.org/schools/soldotna-montessori/event/f-t-dixon-stream-testing/
CATEGORIES:Field Trip
END:VEVENT
BEGIN:VEVENT
DTSTART;VALUE=DATE:20241122
DTEND;VALUE=DATE:20241123
DTSTAMP:20260422T230033
CREATED:20241007T191401Z
LAST-MODIFIED:20241007T191401Z
UID:6017-1732233600-1732319999@kpbsd.org
SUMMARY:Primary - Owl Pellets Dissection - KNWR
DESCRIPTION:
URL:https://kpbsd.org/schools/soldotna-montessori/event/primary-owl-pellets-dissection-knwr/
END:VEVENT
BEGIN:VEVENT
DTSTART;TZID=America/Anchorage:20241122T091500
DTEND;TZID=America/Anchorage:20241122T093000
DTSTAMP:20260422T230033
CREATED:20240826T184248Z
LAST-MODIFIED:20241030T173859Z
UID:5726-1732266900-1732267800@kpbsd.org
SUMMARY:School Assembly - Dixon's Class Hosts
DESCRIPTION:
URL:https://kpbsd.org/schools/soldotna-montessori/event/school-assembly-dixons-class-hosts-3/
CATEGORIES:School Event
END:VEVENT
BEGIN:VEVENT
DTSTART;VALUE=DATE:20241127
DTEND;VALUE=DATE:20241128
DTSTAMP:20260422T230033
CREATED:20240826T184553Z
LAST-MODIFIED:20240826T184553Z
UID:5738-1732665600-1732751999@kpbsd.org
SUMMARY:Stone Soup Day
DESCRIPTION:
URL:https://kpbsd.org/schools/soldotna-montessori/event/stone-soup-day/
CATEGORIES:School Event
END:VEVENT
BEGIN:VEVENT
DTSTART;TZID=America/Anchorage:20241127T090000
DTEND;TZID=America/Anchorage:20241127T103000
DTSTAMP:20260422T230033
CREATED:20241125T174146Z
LAST-MODIFIED:20241125T174146Z
UID:6310-1732698000-1732703400@kpbsd.org
SUMMARY:School Movie Day
DESCRIPTION:Garfield
URL:https://kpbsd.org/schools/soldotna-montessori/event/school-movie-day/
CATEGORIES:School Event
END:VEVENT
BEGIN:VEVENT
DTSTART;TZID=America/Anchorage:20241127T150000
DTEND;TZID=America/Anchorage:20241127T153000
DTSTAMP:20260422T230033
CREATED:20240826T184645Z
LAST-MODIFIED:20240826T184645Z
UID:5741-1732719600-1732721400@kpbsd.org
SUMMARY:Kinder Balloons Parade
DESCRIPTION:
URL:https://kpbsd.org/schools/soldotna-montessori/event/kinder-balloons-parade/
CATEGORIES:School Event
END:VEVENT
BEGIN:VEVENT
DTSTART;VALUE=DATE:20241128
DTEND;VALUE=DATE:20241130
DTSTAMP:20260422T230033
CREATED:20240826T184734Z
LAST-MODIFIED:20240826T184734Z
UID:5746-1732752000-1732924799@kpbsd.org
SUMMARY:Thanksgiving Break - No School
DESCRIPTION:
URL:https://kpbsd.org/schools/soldotna-montessori/event/thanksgiving-break-no-school/
CATEGORIES:School Vacation Day
END:VEVENT
END:VCALENDAR