BEGIN:VCALENDAR
VERSION:2.0
PRODID:-//Soldotna Montessori Charter School - ECPv6.8.2//NONSGML v1.0//EN
CALSCALE:GREGORIAN
METHOD:PUBLISH
X-WR-CALNAME:Soldotna Montessori Charter School
X-ORIGINAL-URL:https://kpbsd.org/schools/soldotna-montessori
X-WR-CALDESC:Events for Soldotna Montessori Charter School
REFRESH-INTERVAL;VALUE=DURATION:PT1H
X-Robots-Tag:noindex
X-PUBLISHED-TTL:PT1H
BEGIN:VTIMEZONE
TZID:America/Anchorage
BEGIN:DAYLIGHT
TZOFFSETFROM:-0900
TZOFFSETTO:-0800
TZNAME:AKDT
DTSTART:20250309T110000
END:DAYLIGHT
BEGIN:STANDARD
TZOFFSETFROM:-0800
TZOFFSETTO:-0900
TZNAME:AKST
DTSTART:20251102T100000
END:STANDARD
END:VTIMEZONE
BEGIN:VEVENT
DTSTART;TZID=America/Anchorage:20250501T090000
DTEND;TZID=America/Anchorage:20250501T103000
DTSTAMP:20260424T221751
CREATED:20250414T183453Z
LAST-MODIFIED:20250430T175508Z
UID:6714-1746090000-1746095400@kpbsd.org
SUMMARY:Student Leadership Movie Day (8:55-10:30)
DESCRIPTION:
URL:https://kpbsd.org/schools/soldotna-montessori/event/student-leadership-imovie-day-tentative-855-1030/
CATEGORIES:School Event
END:VEVENT
BEGIN:VEVENT
DTSTART;VALUE=DATE:20250505
DTEND;VALUE=DATE:20250510
DTSTAMP:20260424T221751
CREATED:20250318T181348Z
LAST-MODIFIED:20250318T181348Z
UID:6634-1746403200-1746835199@kpbsd.org
SUMMARY:Garden Potato Planting Week
DESCRIPTION:
URL:https://kpbsd.org/schools/soldotna-montessori/event/garden-potato-planting-week/
CATEGORIES:School Event
END:VEVENT
BEGIN:VEVENT
DTSTART;TZID=America/Anchorage:20250505T160000
DTEND;TZID=America/Anchorage:20250505T170000
DTSTAMP:20260424T221751
CREATED:20250430T175622Z
LAST-MODIFIED:20250430T175622Z
UID:6786-1746460800-1746464400@kpbsd.org
SUMMARY:PTO Meeting
DESCRIPTION:
URL:https://kpbsd.org/schools/soldotna-montessori/event/pto-meeting-19/
END:VEVENT
BEGIN:VEVENT
DTSTART;TZID=America/Anchorage:20250506T150000
DTEND;TZID=America/Anchorage:20250506T153000
DTSTAMP:20260424T221751
CREATED:20241024T201649Z
LAST-MODIFIED:20241024T201649Z
UID:6146-1746543600-1746545400@kpbsd.org
SUMMARY:ALICE Drill (Level 3)
DESCRIPTION:
URL:https://kpbsd.org/schools/soldotna-montessori/event/alice-drill-level-3-2/
CATEGORIES:School Event
END:VEVENT
BEGIN:VEVENT
DTSTART;TZID=America/Anchorage:20250506T173000
DTEND;TZID=America/Anchorage:20250506T183000
DTSTAMP:20260424T221751
CREATED:20250205T181440Z
LAST-MODIFIED:20250414T183748Z
UID:6523-1746552600-1746556200@kpbsd.org
SUMMARY:Art Night
DESCRIPTION:
URL:https://kpbsd.org/schools/soldotna-montessori/event/art-night-tentative-2/
CATEGORIES:School Event
END:VEVENT
BEGIN:VEVENT
DTSTART;TZID=America/Anchorage:20250507T093000
DTEND;TZID=America/Anchorage:20250507T123000
DTSTAMP:20260424T221751
CREATED:20250320T210620Z
LAST-MODIFIED:20250320T220737Z
UID:6667-1746610200-1746621000@kpbsd.org
SUMMARY:F/T - Primary Grades - Salmon Celebration
DESCRIPTION:
URL:https://kpbsd.org/schools/soldotna-montessori/event/f-t-primary-grades-salmon-celebration/
CATEGORIES:Field Trip
END:VEVENT
BEGIN:VEVENT
DTSTART;VALUE=DATE:20250508
DTEND;VALUE=DATE:20250509
DTSTAMP:20260424T221751
CREATED:20250318T181842Z
LAST-MODIFIED:20250318T182007Z
UID:6649-1746662400-1746748799@kpbsd.org
SUMMARY:F/T - Intermediate - Nikiski Pool
DESCRIPTION:
URL:https://kpbsd.org/schools/soldotna-montessori/event/f-t-intermediate-nikiski-pool/
CATEGORIES:Field Trip
END:VEVENT
BEGIN:VEVENT
DTSTART;VALUE=DATE:20250509
DTEND;VALUE=DATE:20250510
DTSTAMP:20260424T221751
CREATED:20250414T184229Z
LAST-MODIFIED:20250414T184229Z
UID:6719-1746748800-1746835199@kpbsd.org
SUMMARY:50 Cent Friday
DESCRIPTION:
URL:https://kpbsd.org/schools/soldotna-montessori/event/50-cent-friday-16/
CATEGORIES:School Event
END:VEVENT
BEGIN:VEVENT
DTSTART;TZID=America/Anchorage:20250509T091500
DTEND;TZID=America/Anchorage:20250509T093000
DTSTAMP:20260424T221751
CREATED:20240826T190624Z
LAST-MODIFIED:20241024T201847Z
UID:5865-1746782100-1746783000@kpbsd.org
SUMMARY:School Assembly - Kindergarten Hosts
DESCRIPTION:
URL:https://kpbsd.org/schools/soldotna-montessori/event/school-assembly-kindergarten-hosts-2/
CATEGORIES:School Event
END:VEVENT
BEGIN:VEVENT
DTSTART;TZID=America/Anchorage:20250509T130000
DTEND;TZID=America/Anchorage:20250509T150000
DTSTAMP:20260424T221751
CREATED:20250318T181630Z
LAST-MODIFIED:20250318T181630Z
UID:6641-1746795600-1746802800@kpbsd.org
SUMMARY:F/T - Hubbard - Heritage Place
DESCRIPTION:
URL:https://kpbsd.org/schools/soldotna-montessori/event/f-t-hubbard-heritage-place-5/
CATEGORIES:Field Trip
END:VEVENT
BEGIN:VEVENT
DTSTART;VALUE=DATE:20250512
DTEND;VALUE=DATE:20250517
DTSTAMP:20260424T221751
CREATED:20250205T182431Z
LAST-MODIFIED:20250318T181550Z
UID:6550-1747008000-1747439999@kpbsd.org
SUMMARY:Grade 6 - Middle School Prep Week
DESCRIPTION:
URL:https://kpbsd.org/schools/soldotna-montessori/event/grade-6-middle-school-prep-week/
CATEGORIES:School Event
END:VEVENT
BEGIN:VEVENT
DTSTART;TZID=America/Anchorage:20250515T143000
DTEND;TZID=America/Anchorage:20250515T150000
DTSTAMP:20260424T221751
CREATED:20250414T185446Z
LAST-MODIFIED:20250414T185446Z
UID:6740-1747319400-1747321200@kpbsd.org
SUMMARY:Band Assembly
DESCRIPTION:
URL:https://kpbsd.org/schools/soldotna-montessori/event/band-assembly-2/
CATEGORIES:School Event
END:VEVENT
BEGIN:VEVENT
DTSTART;TZID=America/Anchorage:20250515T173000
DTEND;TZID=America/Anchorage:20250515T190000
DTSTAMP:20260424T221751
CREATED:20240826T190653Z
LAST-MODIFIED:20240826T190653Z
UID:5871-1747330200-1747335600@kpbsd.org
SUMMARY:APC Meeting
DESCRIPTION:
URL:https://kpbsd.org/schools/soldotna-montessori/event/apc-meeting-30/
CATEGORIES:APC Meeting
END:VEVENT
BEGIN:VEVENT
DTSTART;TZID=America/Anchorage:20250515T180000
DTEND;TZID=America/Anchorage:20250515T190000
DTSTAMP:20260424T221751
CREATED:20250414T185212Z
LAST-MODIFIED:20250414T185212Z
UID:6734-1747332000-1747335600@kpbsd.org
SUMMARY:Concert/Modern Band Concert
DESCRIPTION:
URL:https://kpbsd.org/schools/soldotna-montessori/event/concert-modern-band-concert/
CATEGORIES:School Event
END:VEVENT
BEGIN:VEVENT
DTSTART;TZID=America/Anchorage:20250516T120000
DTEND;TZID=America/Anchorage:20250516T130000
DTSTAMP:20260424T221751
CREATED:20250414T185705Z
LAST-MODIFIED:20250414T185705Z
UID:6742-1747396800-1747400400@kpbsd.org
SUMMARY:6th Grade Pizza Lunch - Froso's
DESCRIPTION:
URL:https://kpbsd.org/schools/soldotna-montessori/event/6th-grade-pizza-lunch-frosos-2/
CATEGORIES:Field Trip
END:VEVENT
BEGIN:VEVENT
DTSTART;VALUE=DATE:20250519
DTEND;VALUE=DATE:20250520
DTSTAMP:20260424T221751
CREATED:20240826T190727Z
LAST-MODIFIED:20240826T190727Z
UID:5877-1747612800-1747699199@kpbsd.org
SUMMARY:Last Thursday Folder & Report Cards
DESCRIPTION:
URL:https://kpbsd.org/schools/soldotna-montessori/event/last-thursday-folder-report-cards/
END:VEVENT
BEGIN:VEVENT
DTSTART;VALUE=DATE:20250519
DTEND;VALUE=DATE:20250520
DTSTAMP:20260424T221751
CREATED:20241024T201747Z
LAST-MODIFIED:20250206T015833Z
UID:6149-1747612800-1747699199@kpbsd.org
SUMMARY:F/T - 6th Grade Visit to Skyview
DESCRIPTION:
URL:https://kpbsd.org/schools/soldotna-montessori/event/6th-grade-visit-to-skyview-4/
CATEGORIES:Field Trip
END:VEVENT
BEGIN:VEVENT
DTSTART;VALUE=DATE:20250519
DTEND;VALUE=DATE:20250520
DTSTAMP:20260424T221751
CREATED:20250414T185914Z
LAST-MODIFIED:20250414T185914Z
UID:6748-1747612800-1747699199@kpbsd.org
SUMMARY:School Spirit Day - Career Day
DESCRIPTION:Students are encouraged to dress in the likeness of a career choice.
URL:https://kpbsd.org/schools/soldotna-montessori/event/school-spirit-day-career-day/
CATEGORIES:School Event
END:VEVENT
BEGIN:VEVENT
DTSTART;VALUE=DATE:20250520
DTEND;VALUE=DATE:20250521
DTSTAMP:20260424T221751
CREATED:20250205T182655Z
LAST-MODIFIED:20250205T182804Z
UID:6554-1747699200-1747785599@kpbsd.org
SUMMARY:F/T - Primary - Nikiski Pool
DESCRIPTION:
URL:https://kpbsd.org/schools/soldotna-montessori/event/f-t-primary-nikiski-pool-2/
CATEGORIES:Field Trip
END:VEVENT
BEGIN:VEVENT
DTSTART;VALUE=DATE:20250520
DTEND;VALUE=DATE:20250521
DTSTAMP:20260424T221751
CREATED:20250414T190036Z
LAST-MODIFIED:20250414T190036Z
UID:6752-1747699200-1747785599@kpbsd.org
SUMMARY:School Spirit Day - Mustache Day
DESCRIPTION:
URL:https://kpbsd.org/schools/soldotna-montessori/event/school-spirit-day-mustache-day/
CATEGORIES:School Event
END:VEVENT
BEGIN:VEVENT
DTSTART;VALUE=DATE:20250521
DTEND;VALUE=DATE:20250522
DTSTAMP:20260424T221751
CREATED:20250414T190345Z
LAST-MODIFIED:20250414T190345Z
UID:6757-1747785600-1747871999@kpbsd.org
SUMMARY:School Spirit Day - Duct Tape Accessory Day
DESCRIPTION:Create and wear a duct tape created clothing accessory.
URL:https://kpbsd.org/schools/soldotna-montessori/event/school-spirit-day-duct-tape-accessory-day/
CATEGORIES:School Event
END:VEVENT
BEGIN:VEVENT
DTSTART;TZID=America/Anchorage:20250521T093000
DTEND;TZID=America/Anchorage:20250521T103000
DTSTAMP:20260424T221751
CREATED:20240826T191112Z
LAST-MODIFIED:20250205T182737Z
UID:5895-1747819800-1747823400@kpbsd.org
SUMMARY:Assembly - All School Slide Show
DESCRIPTION:
URL:https://kpbsd.org/schools/soldotna-montessori/event/assembly-all-school-slide-show-tentative/
CATEGORIES:School Event
END:VEVENT
BEGIN:VEVENT
DTSTART;VALUE=DATE:20250522
DTEND;VALUE=DATE:20250523
DTSTAMP:20260424T221751
CREATED:20240826T190755Z
LAST-MODIFIED:20240826T190755Z
UID:5880-1747872000-1747958399@kpbsd.org
SUMMARY:Last Day of School
DESCRIPTION:
URL:https://kpbsd.org/schools/soldotna-montessori/event/last-day-of-school-2/
CATEGORIES:School Event
END:VEVENT
BEGIN:VEVENT
DTSTART;VALUE=DATE:20250522
DTEND;VALUE=DATE:20250523
DTSTAMP:20260424T221751
CREATED:20250414T190720Z
LAST-MODIFIED:20250414T190720Z
UID:6761-1747872000-1747958399@kpbsd.org
SUMMARY:School Spirit Day - Hawaii Day
DESCRIPTION:
URL:https://kpbsd.org/schools/soldotna-montessori/event/school-spirit-day-hawaii-day/
CATEGORIES:School Event
END:VEVENT
BEGIN:VEVENT
DTSTART;TZID=America/Anchorage:20250522T091500
DTEND;TZID=America/Anchorage:20250522T100000
DTSTAMP:20260424T221751
CREATED:20240826T190937Z
LAST-MODIFIED:20250520T205102Z
UID:5885-1747905300-1747908000@kpbsd.org
SUMMARY:6th Grade Promotion Ceremony
DESCRIPTION:
URL:https://kpbsd.org/schools/soldotna-montessori/event/6th-grade-promotion-ceremony-tentative/
CATEGORIES:School Event
END:VEVENT
BEGIN:VEVENT
DTSTART;TZID=America/Anchorage:20250522T113000
DTEND;TZID=America/Anchorage:20250522T120000
DTSTAMP:20260424T221751
CREATED:20240826T191018Z
LAST-MODIFIED:20240826T191018Z
UID:5890-1747913400-1747915200@kpbsd.org
SUMMARY:Volunteer Appreciation Day
DESCRIPTION:
URL:https://kpbsd.org/schools/soldotna-montessori/event/volunteer-appreciation-day-2/
CATEGORIES:School Event
END:VEVENT
BEGIN:VEVENT
DTSTART;TZID=America/Anchorage:20250522T120000
DTEND;TZID=America/Anchorage:20250522T143000
DTSTAMP:20260424T221751
CREATED:20240826T190832Z
LAST-MODIFIED:20240826T190832Z
UID:5882-1747915200-1747924200@kpbsd.org
SUMMARY:All School Picnic & Field Day
DESCRIPTION:
URL:https://kpbsd.org/schools/soldotna-montessori/event/all-school-picnic-field-day/
CATEGORIES:School Event
END:VEVENT
END:VCALENDAR