BEGIN:VCALENDAR
VERSION:2.0
PRODID:-//West Homer Elementary - ECPv6.8.2//NONSGML v1.0//EN
CALSCALE:GREGORIAN
METHOD:PUBLISH
X-WR-CALNAME:West Homer Elementary
X-ORIGINAL-URL:https://kpbsd.org/schools/west-homer-elementary
X-WR-CALDESC:Events for West Homer Elementary
REFRESH-INTERVAL;VALUE=DURATION:PT1H
X-Robots-Tag:noindex
X-PUBLISHED-TTL:PT1H
BEGIN:VTIMEZONE
TZID:America/Anchorage
BEGIN:DAYLIGHT
TZOFFSETFROM:-0900
TZOFFSETTO:-0800
TZNAME:AKDT
DTSTART:20240310T110000
END:DAYLIGHT
BEGIN:STANDARD
TZOFFSETFROM:-0800
TZOFFSETTO:-0900
TZNAME:AKST
DTSTART:20241103T100000
END:STANDARD
END:VTIMEZONE
BEGIN:VEVENT
DTSTART;TZID=America/Anchorage:20240913T080000
DTEND;TZID=America/Anchorage:20240913T113000
DTSTAMP:20260419T232349
CREATED:20240801T195911Z
LAST-MODIFIED:20240912T223625Z
UID:3182-1726214400-1726227000@kpbsd.org
SUMMARY:Picture Day
DESCRIPTION:
URL:https://kpbsd.org/schools/west-homer-elementary/event/picture-day-2/
END:VEVENT
BEGIN:VEVENT
DTSTART;TZID=America/Anchorage:20240913T080000
DTEND;TZID=America/Anchorage:20240913T170000
DTSTAMP:20260419T232349
CREATED:20240522T005228Z
LAST-MODIFIED:20240912T173439Z
UID:2945-1726214400-1726246800@kpbsd.org
SUMMARY:Early Release
DESCRIPTION:
URL:https://kpbsd.org/schools/west-homer-elementary/event/early-release-24/
CATEGORIES:Districtwide Calendar
END:VEVENT
BEGIN:VEVENT
DTSTART;TZID=America/Anchorage:20240913T132000
DTEND;TZID=America/Anchorage:20240913T132000
DTSTAMP:20260419T232349
CREATED:20240801T195911Z
LAST-MODIFIED:20240912T223625Z
UID:3185-1726233600-1726233600@kpbsd.org
SUMMARY:Early Release @ 1:20pm
DESCRIPTION:
URL:https://kpbsd.org/schools/west-homer-elementary/event/early-release-120pm/
END:VEVENT
END:VCALENDAR