BEGIN:VCALENDAR
VERSION:2.0
PRODID:-//West Homer Elementary - ECPv6.8.2//NONSGML v1.0//EN
CALSCALE:GREGORIAN
METHOD:PUBLISH
X-ORIGINAL-URL:https://kpbsd.org/schools/west-homer-elementary
X-WR-CALDESC:Events for West Homer Elementary
REFRESH-INTERVAL;VALUE=DURATION:PT1H
X-Robots-Tag:noindex
X-PUBLISHED-TTL:PT1H
BEGIN:VTIMEZONE
TZID:America/Anchorage
BEGIN:DAYLIGHT
TZOFFSETFROM:-0900
TZOFFSETTO:-0800
TZNAME:AKDT
DTSTART:20240310T110000
END:DAYLIGHT
BEGIN:STANDARD
TZOFFSETFROM:-0800
TZOFFSETTO:-0900
TZNAME:AKST
DTSTART:20241103T100000
END:STANDARD
END:VTIMEZONE
BEGIN:VEVENT
DTSTART;VALUE=DATE:20241015
DTEND;VALUE=DATE:20241016
DTSTAMP:20260420T163132
CREATED:20241003T005121Z
LAST-MODIFIED:20241015T015200Z
UID:3760-1728950400-1729036799@kpbsd.org
SUMMARY:3/4 Basketball Starts
DESCRIPTION:
URL:https://kpbsd.org/schools/west-homer-elementary/event/3-4-basketball-starts/
END:VEVENT
END:VCALENDAR