BEGIN:VCALENDAR
VERSION:2.0
PRODID:-//West Homer Elementary - ECPv6.8.2//NONSGML v1.0//EN
CALSCALE:GREGORIAN
METHOD:PUBLISH
X-WR-CALNAME:West Homer Elementary
X-ORIGINAL-URL:https://kpbsd.org/schools/west-homer-elementary
X-WR-CALDESC:Events for West Homer Elementary
REFRESH-INTERVAL;VALUE=DURATION:PT1H
X-Robots-Tag:noindex
X-PUBLISHED-TTL:PT1H
BEGIN:VTIMEZONE
TZID:America/Anchorage
BEGIN:DAYLIGHT
TZOFFSETFROM:-0900
TZOFFSETTO:-0800
TZNAME:AKDT
DTSTART:20240310T110000
END:DAYLIGHT
BEGIN:STANDARD
TZOFFSETFROM:-0800
TZOFFSETTO:-0900
TZNAME:AKST
DTSTART:20241103T100000
END:STANDARD
END:VTIMEZONE
BEGIN:VEVENT
DTSTART;TZID=America/Anchorage:20241018T080000
DTEND;TZID=America/Anchorage:20241018T170000
DTSTAMP:20260423T111836
CREATED:20240522T005228Z
LAST-MODIFIED:20241017T185048Z
UID:2951-1729238400-1729270800@kpbsd.org
SUMMARY:Early Release
DESCRIPTION:
URL:https://kpbsd.org/schools/west-homer-elementary/event/early-release-30/
CATEGORIES:Districtwide Calendar
END:VEVENT
BEGIN:VEVENT
DTSTART;TZID=America/Anchorage:20241018T132000
DTEND;TZID=America/Anchorage:20241018T132000
DTSTAMP:20260423T111836
CREATED:20240801T195912Z
LAST-MODIFIED:20241018T021118Z
UID:3194-1729257600-1729257600@kpbsd.org
SUMMARY:Early Release @ 1:20pm
DESCRIPTION:
URL:https://kpbsd.org/schools/west-homer-elementary/event/early-release-120pm-3/
END:VEVENT
BEGIN:VEVENT
DTSTART;TZID=America/Anchorage:20241018T150000
DTEND;TZID=America/Anchorage:20241018T160000
DTSTAMP:20260423T111836
CREATED:20240924T000657Z
LAST-MODIFIED:20241018T021118Z
UID:3682-1729263600-1729267200@kpbsd.org
SUMMARY:Elks Soccer Goal Shoot Competition
DESCRIPTION:
URL:https://kpbsd.org/schools/west-homer-elementary/event/elks-soccer-goal-shoot-competition/
END:VEVENT
END:VCALENDAR