BEGIN:VCALENDAR
VERSION:2.0
PRODID:-//West Homer Elementary - ECPv6.8.2//NONSGML v1.0//EN
CALSCALE:GREGORIAN
METHOD:PUBLISH
X-ORIGINAL-URL:https://kpbsd.org/schools/west-homer-elementary
X-WR-CALDESC:Events for West Homer Elementary
REFRESH-INTERVAL;VALUE=DURATION:PT1H
X-Robots-Tag:noindex
X-PUBLISHED-TTL:PT1H
BEGIN:VTIMEZONE
TZID:America/Anchorage
BEGIN:DAYLIGHT
TZOFFSETFROM:-0900
TZOFFSETTO:-0800
TZNAME:AKDT
DTSTART:20250309T110000
END:DAYLIGHT
BEGIN:STANDARD
TZOFFSETFROM:-0800
TZOFFSETTO:-0900
TZNAME:AKST
DTSTART:20251102T100000
END:STANDARD
END:VTIMEZONE
BEGIN:VEVENT
DTSTART;VALUE=DATE:20250213
DTEND;VALUE=DATE:20250215
DTSTAMP:20260419T042636
CREATED:20240801T195915Z
LAST-MODIFIED:20250214T123534Z
UID:3235-1739404800-1739577599@kpbsd.org
SUMMARY:Student-Led PT Conferences
DESCRIPTION:
URL:https://kpbsd.org/schools/west-homer-elementary/event/student-led-pt-conferences/
END:VEVENT
BEGIN:VEVENT
DTSTART;VALUE=DATE:20250213
DTEND;VALUE=DATE:20250301
DTSTAMP:20260419T042636
CREATED:20250111T080811Z
LAST-MODIFIED:20250228T141212Z
UID:5284-1739404800-1740787199@kpbsd.org
SUMMARY:Artist in Residence
DESCRIPTION:
URL:https://kpbsd.org/schools/west-homer-elementary/event/artist-in-residence/
END:VEVENT
BEGIN:VEVENT
DTSTART;TZID=America/Anchorage:20250213T080000
DTEND;TZID=America/Anchorage:20250214T170000
DTSTAMP:20260419T042636
CREATED:20240522T005233Z
LAST-MODIFIED:20250214T160731Z
UID:3020-1739433600-1739552400@kpbsd.org
SUMMARY:Parent-Teacher Conferences
DESCRIPTION:
URL:https://kpbsd.org/schools/west-homer-elementary/event/parent-teacher-conferences-11/
CATEGORIES:Districtwide Calendar
END:VEVENT
END:VCALENDAR