BEGIN:VCALENDAR
VERSION:2.0
PRODID:-//West Homer Elementary - ECPv6.8.2//NONSGML v1.0//EN
CALSCALE:GREGORIAN
METHOD:PUBLISH
X-WR-CALNAME:West Homer Elementary
X-ORIGINAL-URL:https://kpbsd.org/schools/west-homer-elementary
X-WR-CALDESC:Events for West Homer Elementary
REFRESH-INTERVAL;VALUE=DURATION:PT1H
X-Robots-Tag:noindex
X-PUBLISHED-TTL:PT1H
BEGIN:VTIMEZONE
TZID:America/Anchorage
BEGIN:DAYLIGHT
TZOFFSETFROM:-0900
TZOFFSETTO:-0800
TZNAME:AKDT
DTSTART:20250309T110000
END:DAYLIGHT
BEGIN:STANDARD
TZOFFSETFROM:-0800
TZOFFSETTO:-0900
TZNAME:AKST
DTSTART:20251102T100000
END:STANDARD
END:VTIMEZONE
BEGIN:VEVENT
DTSTART;TZID=America/Anchorage:20250302T133000
DTEND;TZID=America/Anchorage:20250302T163000
DTSTAMP:20260420T000019
CREATED:20250205T105027Z
LAST-MODIFIED:20250302T142920Z
UID:5741-1740922200-1740933000@kpbsd.org
SUMMARY:Chapman Chess Tournament
DESCRIPTION:
URL:https://kpbsd.org/schools/west-homer-elementary/event/chapman-chess-tournament/
LOCATION:Chapman Elementary School\, 34501 Sterling Hwy\, Anchor Point\, AK\, United States
END:VEVENT
END:VCALENDAR