BEGIN:VCALENDAR
VERSION:2.0
PRODID:-//West Homer Elementary - ECPv6.8.2//NONSGML v1.0//EN
CALSCALE:GREGORIAN
METHOD:PUBLISH
X-WR-CALNAME:West Homer Elementary
X-ORIGINAL-URL:https://kpbsd.org/schools/west-homer-elementary
X-WR-CALDESC:Events for West Homer Elementary
REFRESH-INTERVAL;VALUE=DURATION:PT1H
X-Robots-Tag:noindex
X-PUBLISHED-TTL:PT1H
BEGIN:VTIMEZONE
TZID:America/Anchorage
BEGIN:DAYLIGHT
TZOFFSETFROM:-0900
TZOFFSETTO:-0800
TZNAME:AKDT
DTSTART:20250309T110000
END:DAYLIGHT
BEGIN:STANDARD
TZOFFSETFROM:-0800
TZOFFSETTO:-0900
TZNAME:AKST
DTSTART:20251102T100000
END:STANDARD
END:VTIMEZONE
BEGIN:VEVENT
DTSTART;VALUE=DATE:20250407
DTEND;VALUE=DATE:20250408
DTSTAMP:20260419T210906
CREATED:20250220T130504Z
LAST-MODIFIED:20250226T135234Z
UID:6078-1743984000-1744070399@kpbsd.org
SUMMARY:makeup day-AK Star/AK Science
DESCRIPTION:
URL:https://kpbsd.org/schools/west-homer-elementary/event/makeup-day-ak-star-ak-science/
END:VEVENT
BEGIN:VEVENT
DTSTART;TZID=America/Anchorage:20250407T160000
DTEND;TZID=America/Anchorage:20250407T170000
DTSTAMP:20260419T210906
CREATED:20240925T000516Z
LAST-MODIFIED:20250407T190800Z
UID:3711-1744041600-1744045200@kpbsd.org
SUMMARY:Site Council Meeting
DESCRIPTION:Need Absenteeism Data
URL:https://kpbsd.org/schools/west-homer-elementary/event/site-council-meeting-4/
END:VEVENT
END:VCALENDAR