BEGIN:VCALENDAR
VERSION:2.0
PRODID:-//West Homer Elementary - ECPv6.8.2//NONSGML v1.0//EN
CALSCALE:GREGORIAN
METHOD:PUBLISH
X-WR-CALNAME:West Homer Elementary
X-ORIGINAL-URL:https://kpbsd.org/schools/west-homer-elementary
X-WR-CALDESC:Events for West Homer Elementary
REFRESH-INTERVAL;VALUE=DURATION:PT1H
X-Robots-Tag:noindex
X-PUBLISHED-TTL:PT1H
BEGIN:VTIMEZONE
TZID:America/Anchorage
BEGIN:DAYLIGHT
TZOFFSETFROM:-0900
TZOFFSETTO:-0800
TZNAME:AKDT
DTSTART:20250309T110000
END:DAYLIGHT
BEGIN:STANDARD
TZOFFSETFROM:-0800
TZOFFSETTO:-0900
TZNAME:AKST
DTSTART:20251102T100000
END:STANDARD
END:VTIMEZONE
BEGIN:VEVENT
DTSTART;VALUE=DATE:20250502
DTEND;VALUE=DATE:20250503
DTSTAMP:20260419T072701
CREATED:20250328T172701Z
LAST-MODIFIED:20250502T000604Z
UID:6270-1746144000-1746230399@kpbsd.org
SUMMARY:DRB Regional Counselor-Heather Anderson
DESCRIPTION:
URL:https://kpbsd.org/schools/west-homer-elementary/event/drb-regional-counselor-heather-anderson/
LOCATION:Large Conference Room
END:VEVENT
BEGIN:VEVENT
DTSTART;TZID=America/Anchorage:20250502T083000
DTEND;TZID=America/Anchorage:20250502T113000
DTSTAMP:20260419T072701
CREATED:20250429T000135Z
LAST-MODIFIED:20250502T000605Z
UID:6467-1746174600-1746185400@kpbsd.org
SUMMARY:Club Mud-Settles
DESCRIPTION:
URL:https://kpbsd.org/schools/west-homer-elementary/event/club-mud-settles/
END:VEVENT
BEGIN:VEVENT
DTSTART;TZID=America/Anchorage:20250502T130000
DTEND;TZID=America/Anchorage:20250502T140000
DTSTAMP:20260419T072701
CREATED:20250227T135121Z
LAST-MODIFIED:20250307T150555Z
UID:6136-1746190800-1746194400@kpbsd.org
SUMMARY:Resource visit from PBE
DESCRIPTION:
URL:https://kpbsd.org/schools/west-homer-elementary/event/resource-visit-from-pbe/
LOCATION:Beth Schott’s Room
END:VEVENT
BEGIN:VEVENT
DTSTART;TZID=America/Anchorage:20250502T160000
DTEND;TZID=America/Anchorage:20250502T180000
DTSTAMP:20260419T072701
CREATED:20250308T150722Z
LAST-MODIFIED:20250503T002126Z
UID:6196-1746201600-1746208800@kpbsd.org
SUMMARY:Schoolwide Art Show - First Friday
DESCRIPTION:
URL:https://kpbsd.org/schools/west-homer-elementary/event/schoolwide-art-show-first-friday/
END:VEVENT
END:VCALENDAR