BEGIN:VCALENDAR
VERSION:2.0
PRODID:-//West Homer Elementary - ECPv6.8.2//NONSGML v1.0//EN
CALSCALE:GREGORIAN
METHOD:PUBLISH
X-ORIGINAL-URL:https://kpbsd.org/schools/west-homer-elementary
X-WR-CALDESC:Events for West Homer Elementary
REFRESH-INTERVAL;VALUE=DURATION:PT1H
X-Robots-Tag:noindex
X-PUBLISHED-TTL:PT1H
BEGIN:VTIMEZONE
TZID:America/Anchorage
BEGIN:DAYLIGHT
TZOFFSETFROM:-0900
TZOFFSETTO:-0800
TZNAME:AKDT
DTSTART:20250309T110000
END:DAYLIGHT
BEGIN:STANDARD
TZOFFSETFROM:-0800
TZOFFSETTO:-0900
TZNAME:AKST
DTSTART:20251102T100000
END:STANDARD
END:VTIMEZONE
BEGIN:VEVENT
DTSTART;TZID=America/Anchorage:20251203T133000
DTEND;TZID=America/Anchorage:20251203T140000
DTSTAMP:20260425T133254
CREATED:20250717T090820Z
LAST-MODIFIED:20251203T045040Z
UID:7901-1764768600-1764770400@kpbsd.org
SUMMARY:3rd/4th Winter Concert
DESCRIPTION:
URL:https://kpbsd.org/schools/west-homer-elementary/event/3rd-4th-winter-concert/
END:VEVENT
BEGIN:VEVENT
DTSTART;TZID=America/Anchorage:20251203T150000
DTEND;TZID=America/Anchorage:20251203T160000
DTSTAMP:20260425T133254
CREATED:20251006T222029Z
LAST-MODIFIED:20251203T045040Z
UID:9052-1764774000-1764777600@kpbsd.org
SUMMARY:Diamond Art Club-Art Room
DESCRIPTION:
URL:https://kpbsd.org/schools/west-homer-elementary/event/diamond-art-club-art-room-15/
END:VEVENT
BEGIN:VEVENT
DTSTART;TZID=America/Anchorage:20251203T150000
DTEND;TZID=America/Anchorage:20251203T160000
DTSTAMP:20260425T133254
CREATED:20251010T225352Z
LAST-MODIFIED:20251203T045040Z
UID:9209-1764774000-1764777600@kpbsd.org
SUMMARY:Basketball-gym 3/4
DESCRIPTION:
URL:https://kpbsd.org/schools/west-homer-elementary/event/basketball-gym-3-4-16/
END:VEVENT
END:VCALENDAR