BEGIN:VCALENDAR
VERSION:2.0
PRODID:-//West Homer Elementary - ECPv6.8.2//NONSGML v1.0//EN
CALSCALE:GREGORIAN
METHOD:PUBLISH
X-ORIGINAL-URL:https://kpbsd.org/schools/west-homer-elementary
X-WR-CALDESC:Events for West Homer Elementary
REFRESH-INTERVAL;VALUE=DURATION:PT1H
X-Robots-Tag:noindex
X-PUBLISHED-TTL:PT1H
BEGIN:VTIMEZONE
TZID:America/Anchorage
BEGIN:DAYLIGHT
TZOFFSETFROM:-0900
TZOFFSETTO:-0800
TZNAME:AKDT
DTSTART:20260308T110000
END:DAYLIGHT
BEGIN:STANDARD
TZOFFSETFROM:-0800
TZOFFSETTO:-0900
TZNAME:AKST
DTSTART:20261101T100000
END:STANDARD
END:VTIMEZONE
BEGIN:VEVENT
DTSTART;TZID=America/Anchorage:20260121T150000
DTEND;TZID=America/Anchorage:20260121T160000
DTSTAMP:20260421T165915
CREATED:20251218T180157Z
LAST-MODIFIED:20260121T225730Z
UID:10815-1769007600-1769011200@kpbsd.org
SUMMARY:D&D- room 318
DESCRIPTION:
URL:https://kpbsd.org/schools/west-homer-elementary/event/dd-room-318-2/
END:VEVENT
BEGIN:VEVENT
DTSTART;TZID=America/Anchorage:20260121T150000
DTEND;TZID=America/Anchorage:20260121T163000
DTSTAMP:20260421T165915
CREATED:20251210T052020Z
LAST-MODIFIED:20260121T225730Z
UID:10419-1769007600-1769013000@kpbsd.org
SUMMARY:D&D Club- Sam's room
DESCRIPTION:
URL:https://kpbsd.org/schools/west-homer-elementary/event/dd-club-sams-room/
END:VEVENT
BEGIN:VEVENT
DTSTART;TZID=America/Anchorage:20260121T163000
DTEND;TZID=America/Anchorage:20260121T183000
DTSTAMP:20260421T165915
CREATED:20251121T035114Z
LAST-MODIFIED:20260121T225731Z
UID:9791-1769013000-1769020200@kpbsd.org
SUMMARY:Wrestling-gym
DESCRIPTION:
URL:https://kpbsd.org/schools/west-homer-elementary/event/wrestling-gym-5/
END:VEVENT
END:VCALENDAR