BEGIN:VCALENDAR
VERSION:2.0
PRODID:-//West Homer Elementary - ECPv6.8.2//NONSGML v1.0//EN
CALSCALE:GREGORIAN
METHOD:PUBLISH
X-ORIGINAL-URL:https://kpbsd.org/schools/west-homer-elementary
X-WR-CALDESC:Events for West Homer Elementary
REFRESH-INTERVAL;VALUE=DURATION:PT1H
X-Robots-Tag:noindex
X-PUBLISHED-TTL:PT1H
BEGIN:VTIMEZONE
TZID:America/Anchorage
BEGIN:DAYLIGHT
TZOFFSETFROM:-0900
TZOFFSETTO:-0800
TZNAME:AKDT
DTSTART:20260308T110000
END:DAYLIGHT
BEGIN:STANDARD
TZOFFSETFROM:-0800
TZOFFSETTO:-0900
TZNAME:AKST
DTSTART:20261101T100000
END:STANDARD
END:VTIMEZONE
BEGIN:VEVENT
DTSTART;TZID=America/Anchorage:20260122T150000
DTEND;TZID=America/Anchorage:20260122T153000
DTSTAMP:20260422T164314
CREATED:20251210T052021Z
LAST-MODIFIED:20251219T180747Z
UID:10422-1769094000-1769095800@kpbsd.org
SUMMARY:OPUS-Art Room
DESCRIPTION:
URL:https://kpbsd.org/schools/west-homer-elementary/event/opus-art-room-3/
END:VEVENT
BEGIN:VEVENT
DTSTART;TZID=America/Anchorage:20260122T163000
DTEND;TZID=America/Anchorage:20260122T183000
DTSTAMP:20260422T164314
CREATED:20251121T035114Z
LAST-MODIFIED:20260122T230724Z
UID:9794-1769099400-1769106600@kpbsd.org
SUMMARY:Wrestling-gym
DESCRIPTION:
URL:https://kpbsd.org/schools/west-homer-elementary/event/wrestling-gym-6/
END:VEVENT
END:VCALENDAR