BEGIN:VCALENDAR
VERSION:2.0
PRODID:-//West Homer Elementary - ECPv6.8.2//NONSGML v1.0//EN
CALSCALE:GREGORIAN
METHOD:PUBLISH
X-WR-CALNAME:West Homer Elementary
X-ORIGINAL-URL:https://kpbsd.org/schools/west-homer-elementary
X-WR-CALDESC:Events for West Homer Elementary
REFRESH-INTERVAL;VALUE=DURATION:PT1H
X-Robots-Tag:noindex
X-PUBLISHED-TTL:PT1H
BEGIN:VTIMEZONE
TZID:America/Anchorage
BEGIN:DAYLIGHT
TZOFFSETFROM:-0900
TZOFFSETTO:-0800
TZNAME:AKDT
DTSTART:20260308T110000
END:DAYLIGHT
BEGIN:STANDARD
TZOFFSETFROM:-0800
TZOFFSETTO:-0900
TZNAME:AKST
DTSTART:20261101T100000
END:STANDARD
END:VTIMEZONE
BEGIN:VEVENT
DTSTART;TZID=America/Anchorage:20260130T112000
DTEND;TZID=America/Anchorage:20260130T122000
DTSTAMP:20260423T171409
CREATED:20251211T052417Z
LAST-MODIFIED:20260130T000205Z
UID:10624-1769772000-1769775600@kpbsd.org
SUMMARY:Lunch & Play
DESCRIPTION:
URL:https://kpbsd.org/schools/west-homer-elementary/event/lunch-play-4/
END:VEVENT
BEGIN:VEVENT
DTSTART;TZID=America/Anchorage:20260130T150000
DTEND;TZID=America/Anchorage:20260130T160000
DTSTAMP:20260423T171409
CREATED:20251107T011524Z
LAST-MODIFIED:20260105T203908Z
UID:9512-1769785200-1769788800@kpbsd.org
SUMMARY:Chess Club- Art room
DESCRIPTION:
URL:https://kpbsd.org/schools/west-homer-elementary/event/chess-club-art-room-6/
END:VEVENT
BEGIN:VEVENT
DTSTART;TZID=America/Anchorage:20260130T150000
DTEND;TZID=America/Anchorage:20260130T160000
DTSTAMP:20260423T171409
CREATED:20251122T035053Z
LAST-MODIFIED:20260122T230743Z
UID:9977-1769785200-1769788800@kpbsd.org
SUMMARY:Chess Club-Art Room
DESCRIPTION:
URL:https://kpbsd.org/schools/west-homer-elementary/event/chess-club-art-room-46/
END:VEVENT
BEGIN:VEVENT
DTSTART;TZID=America/Anchorage:20260130T150000
DTEND;TZID=America/Anchorage:20260130T160000
DTSTAMP:20260423T171409
CREATED:20260123T230428Z
LAST-MODIFIED:20260131T000422Z
UID:11191-1769785200-1769788800@kpbsd.org
SUMMARY:Chess Club-Gym
DESCRIPTION:
URL:https://kpbsd.org/schools/west-homer-elementary/event/chess-club-gym-5/
END:VEVENT
END:VCALENDAR