BEGIN:VCALENDAR
VERSION:2.0
PRODID:-//West Homer Elementary - ECPv6.8.2//NONSGML v1.0//EN
CALSCALE:GREGORIAN
METHOD:PUBLISH
X-WR-CALNAME:West Homer Elementary
X-ORIGINAL-URL:https://kpbsd.org/schools/west-homer-elementary
X-WR-CALDESC:Events for West Homer Elementary
REFRESH-INTERVAL;VALUE=DURATION:PT1H
X-Robots-Tag:noindex
X-PUBLISHED-TTL:PT1H
BEGIN:VTIMEZONE
TZID:America/Anchorage
BEGIN:DAYLIGHT
TZOFFSETFROM:-0900
TZOFFSETTO:-0800
TZNAME:AKDT
DTSTART:20260308T110000
END:DAYLIGHT
BEGIN:STANDARD
TZOFFSETFROM:-0800
TZOFFSETTO:-0900
TZNAME:AKST
DTSTART:20261101T100000
END:STANDARD
END:VTIMEZONE
BEGIN:VEVENT
DTSTART;TZID=America/Anchorage:20260423T150000
DTEND;TZID=America/Anchorage:20260423T153000
DTSTAMP:20260423T110402
CREATED:20251210T052054Z
LAST-MODIFIED:20251219T180810Z
UID:10574-1776956400-1776958200@kpbsd.org
SUMMARY:OPUS-Art Room
DESCRIPTION:
URL:https://kpbsd.org/schools/west-homer-elementary/event/opus-art-room-16/
END:VEVENT
BEGIN:VEVENT
DTSTART;TZID=America/Anchorage:20260423T150000
DTEND;TZID=America/Anchorage:20260423T160000
DTSTAMP:20260423T110402
CREATED:20260108T211013Z
LAST-MODIFIED:20260423T021946Z
UID:11047-1776956400-1776960000@kpbsd.org
SUMMARY:Baseball-gym
DESCRIPTION:
URL:https://kpbsd.org/schools/west-homer-elementary/event/baseball-gym-10/
END:VEVENT
BEGIN:VEVENT
DTSTART;TZID=America/Anchorage:20260423T150000
DTEND;TZID=America/Anchorage:20260423T161500
DTSTAMP:20260423T110402
CREATED:20251210T052054Z
LAST-MODIFIED:20260304T033451Z
UID:10571-1776956400-1776960900@kpbsd.org
SUMMARY:Let Me Run- Russell's Room
DESCRIPTION:
URL:https://kpbsd.org/schools/west-homer-elementary/event/let-me-run-russells-room-10/
END:VEVENT
BEGIN:VEVENT
DTSTART;TZID=America/Anchorage:20260423T163000
DTEND;TZID=America/Anchorage:20260423T183000
DTSTAMP:20260423T110402
CREATED:20251121T035131Z
LAST-MODIFIED:20260423T021946Z
UID:9912-1776961800-1776969000@kpbsd.org
SUMMARY:Wrestling-gym
DESCRIPTION:
URL:https://kpbsd.org/schools/west-homer-elementary/event/wrestling-gym-45/
END:VEVENT
END:VCALENDAR