BEGIN:VCALENDAR
VERSION:2.0
PRODID:-//West Homer Elementary - ECPv6.8.2//NONSGML v1.0//EN
CALSCALE:GREGORIAN
METHOD:PUBLISH
X-WR-CALNAME:West Homer Elementary
X-ORIGINAL-URL:https://kpbsd.org/schools/west-homer-elementary
X-WR-CALDESC:Events for West Homer Elementary
REFRESH-INTERVAL;VALUE=DURATION:PT1H
X-Robots-Tag:noindex
X-PUBLISHED-TTL:PT1H
BEGIN:VTIMEZONE
TZID:America/Anchorage
BEGIN:DAYLIGHT
TZOFFSETFROM:-0900
TZOFFSETTO:-0800
TZNAME:AKDT
DTSTART:20260308T110000
END:DAYLIGHT
BEGIN:STANDARD
TZOFFSETFROM:-0800
TZOFFSETTO:-0900
TZNAME:AKST
DTSTART:20261101T100000
END:STANDARD
END:VTIMEZONE
BEGIN:VEVENT
DTSTART;TZID=America/Anchorage:20260505T150000
DTEND;TZID=America/Anchorage:20260505T160000
DTSTAMP:20260419T203850
CREATED:20251107T011532Z
LAST-MODIFIED:20260105T203935Z
UID:9593-1777993200-1777996800@kpbsd.org
SUMMARY:Chess Club- Art room
DESCRIPTION:
URL:https://kpbsd.org/schools/west-homer-elementary/event/chess-club-art-room-33/
END:VEVENT
BEGIN:VEVENT
DTSTART;TZID=America/Anchorage:20260505T150000
DTEND;TZID=America/Anchorage:20260505T160000
DTSTAMP:20260419T203850
CREATED:20251122T035114Z
LAST-MODIFIED:20260122T230751Z
UID:10173-1777993200-1777996800@kpbsd.org
SUMMARY:Chess Club-Art Room
DESCRIPTION:
URL:https://kpbsd.org/schools/west-homer-elementary/event/chess-club-art-room-73/
END:VEVENT
BEGIN:VEVENT
DTSTART;TZID=America/Anchorage:20260505T150000
DTEND;TZID=America/Anchorage:20260505T160000
DTSTAMP:20260419T203850
CREATED:20260123T230502Z
LAST-MODIFIED:20260304T033453Z
UID:11285-1777993200-1777996800@kpbsd.org
SUMMARY:Chess Club-Gym
DESCRIPTION:
URL:https://kpbsd.org/schools/west-homer-elementary/event/chess-club-gym-32/
END:VEVENT
BEGIN:VEVENT
DTSTART;TZID=America/Anchorage:20260505T150000
DTEND;TZID=America/Anchorage:20260505T160000
DTSTAMP:20260419T203850
CREATED:20260417T015041Z
LAST-MODIFIED:20260420T020441Z
UID:12311-1777993200-1777996800@kpbsd.org
SUMMARY:Chess Club-Art Room
DESCRIPTION:
URL:https://kpbsd.org/schools/west-homer-elementary/event/chess-club-art-room-83/
END:VEVENT
BEGIN:VEVENT
DTSTART;TZID=America/Anchorage:20260505T150000
DTEND;TZID=America/Anchorage:20260505T161500
DTSTAMP:20260419T203850
CREATED:20251210T052100Z
LAST-MODIFIED:20260304T033453Z
UID:10593-1777993200-1777997700@kpbsd.org
SUMMARY:Let Me Run- Russell's Room
DESCRIPTION:
URL:https://kpbsd.org/schools/west-homer-elementary/event/let-me-run-russells-room-13/
END:VEVENT
BEGIN:VEVENT
DTSTART;TZID=America/Anchorage:20260505T150000
DTEND;TZID=America/Anchorage:20260505T163000
DTSTAMP:20260419T203850
CREATED:20260303T032356Z
LAST-MODIFIED:20260420T020441Z
UID:11629-1777993200-1777998600@kpbsd.org
SUMMARY:Girls on the Run
DESCRIPTION:
URL:https://kpbsd.org/schools/west-homer-elementary/event/girls-on-the-run-19/
END:VEVENT
BEGIN:VEVENT
DTSTART;TZID=America/Anchorage:20260505T160000
DTEND;TZID=America/Anchorage:20260505T173000
DTSTAMP:20260419T203850
CREATED:20251008T223450Z
LAST-MODIFIED:20260420T020441Z
UID:9130-1777996800-1778002200@kpbsd.org
SUMMARY:PTO Meeting
DESCRIPTION:
URL:https://kpbsd.org/schools/west-homer-elementary/event/pto-meeting-17/
END:VEVENT
END:VCALENDAR