BEGIN:VCALENDAR
VERSION:2.0
PRODID:-//West Homer Elementary - ECPv6.8.2//NONSGML v1.0//EN
CALSCALE:GREGORIAN
METHOD:PUBLISH
X-WR-CALNAME:West Homer Elementary
X-ORIGINAL-URL:https://kpbsd.org/schools/west-homer-elementary
X-WR-CALDESC:Events for West Homer Elementary
REFRESH-INTERVAL;VALUE=DURATION:PT1H
X-Robots-Tag:noindex
X-PUBLISHED-TTL:PT1H
BEGIN:VTIMEZONE
TZID:America/Anchorage
BEGIN:DAYLIGHT
TZOFFSETFROM:-0900
TZOFFSETTO:-0800
TZNAME:AKDT
DTSTART:20250309T110000
END:DAYLIGHT
BEGIN:STANDARD
TZOFFSETFROM:-0800
TZOFFSETTO:-0900
TZNAME:AKST
DTSTART:20251102T100000
END:STANDARD
END:VTIMEZONE
BEGIN:VEVENT
DTSTART;TZID=America/Anchorage:20251110T150000
DTEND;TZID=America/Anchorage:20251110T160000
DTSTAMP:20260425T040041
CREATED:20251010T225347Z
LAST-MODIFIED:20251110T021112Z
UID:9179-1762786800-1762790400@kpbsd.org
SUMMARY:Basketball-gym 3/4
DESCRIPTION:
URL:https://kpbsd.org/schools/west-homer-elementary/event/basketball-gym-3-4-9/
END:VEVENT
BEGIN:VEVENT
DTSTART;TZID=America/Anchorage:20251111T150000
DTEND;TZID=America/Anchorage:20251111T160000
DTSTAMP:20260425T040041
CREATED:20250930T220905Z
LAST-MODIFIED:20251111T022035Z
UID:8858-1762873200-1762876800@kpbsd.org
SUMMARY:Basketball-gym 5/6
DESCRIPTION:
URL:https://kpbsd.org/schools/west-homer-elementary/event/basketball-gym-5-6-11/
END:VEVENT
BEGIN:VEVENT
DTSTART;TZID=America/Anchorage:20251112T150000
DTEND;TZID=America/Anchorage:20251112T160000
DTSTAMP:20260425T040041
CREATED:20251006T222025Z
LAST-MODIFIED:20251112T023617Z
UID:9034-1762959600-1762963200@kpbsd.org
SUMMARY:Diamond Art Club-Art Room
DESCRIPTION:
URL:https://kpbsd.org/schools/west-homer-elementary/event/diamond-art-club-art-room-9/
END:VEVENT
BEGIN:VEVENT
DTSTART;TZID=America/Anchorage:20251112T150000
DTEND;TZID=America/Anchorage:20251112T160000
DTSTAMP:20260425T040041
CREATED:20251010T225347Z
LAST-MODIFIED:20251112T023617Z
UID:9182-1762959600-1762963200@kpbsd.org
SUMMARY:Basketball-gym 3/4
DESCRIPTION:
URL:https://kpbsd.org/schools/west-homer-elementary/event/basketball-gym-3-4-10/
END:VEVENT
BEGIN:VEVENT
DTSTART;TZID=America/Anchorage:20251113T150000
DTEND;TZID=America/Anchorage:20251113T160000
DTSTAMP:20260425T040041
CREATED:20250930T220905Z
LAST-MODIFIED:20251113T024935Z
UID:8861-1763046000-1763049600@kpbsd.org
SUMMARY:Basketball-gym 5/6
DESCRIPTION:
URL:https://kpbsd.org/schools/west-homer-elementary/event/basketball-gym-5-6-12/
END:VEVENT
BEGIN:VEVENT
DTSTART;VALUE=DATE:20251114
DTEND;VALUE=DATE:20251115
DTSTAMP:20260425T040041
CREATED:20250717T090819Z
LAST-MODIFIED:20251114T025118Z
UID:7880-1763078400-1763164799@kpbsd.org
SUMMARY:Early Release (1:20 dismissal)
DESCRIPTION:
URL:https://kpbsd.org/schools/west-homer-elementary/event/early-release-120-dismissal-2/
END:VEVENT
BEGIN:VEVENT
DTSTART;TZID=America/Anchorage:20251114T080000
DTEND;TZID=America/Anchorage:20251114T170000
DTSTAMP:20260425T040041
CREATED:20250906T010014Z
LAST-MODIFIED:20251108T015952Z
UID:8587-1763107200-1763139600@kpbsd.org
SUMMARY:Early Release
DESCRIPTION:
URL:https://kpbsd.org/schools/west-homer-elementary/event/early-release-39/
CATEGORIES:Districtwide Calendar
END:VEVENT
BEGIN:VEVENT
DTSTART;TZID=America/Anchorage:20251114T133000
DTEND;TZID=America/Anchorage:20251114T143000
DTSTAMP:20260425T040041
CREATED:20250829T155622Z
LAST-MODIFIED:20251114T025118Z
UID:8395-1763127000-1763130600@kpbsd.org
SUMMARY:Japanese Club
DESCRIPTION:
URL:https://kpbsd.org/schools/west-homer-elementary/event/japanese-club-10/
END:VEVENT
BEGIN:VEVENT
DTSTART;TZID=America/Anchorage:20251114T150000
DTEND;TZID=America/Anchorage:20251114T160000
DTSTAMP:20260425T040041
CREATED:20250930T220906Z
LAST-MODIFIED:20251114T025118Z
UID:8864-1763132400-1763136000@kpbsd.org
SUMMARY:Basketball-gym 5/6
DESCRIPTION:
URL:https://kpbsd.org/schools/west-homer-elementary/event/basketball-gym-5-6-13/
END:VEVENT
BEGIN:VEVENT
DTSTART;TZID=America/Anchorage:20251115T160000
DTEND;TZID=America/Anchorage:20251115T170000
DTSTAMP:20260425T040041
CREATED:20251104T010436Z
LAST-MODIFIED:20251115T024951Z
UID:9473-1763222400-1763226000@kpbsd.org
SUMMARY:Basketball- home vs Mt View El.
DESCRIPTION:
URL:https://kpbsd.org/schools/west-homer-elementary/event/basketball-home-vs-mt-view-el/
END:VEVENT
BEGIN:VEVENT
DTSTART;TZID=America/Anchorage:20251117T150000
DTEND;TZID=America/Anchorage:20251117T160000
DTSTAMP:20260425T040041
CREATED:20251006T222026Z
LAST-MODIFIED:20251117T032050Z
UID:9040-1763391600-1763395200@kpbsd.org
SUMMARY:Diamond Art Club-Art Room
DESCRIPTION:
URL:https://kpbsd.org/schools/west-homer-elementary/event/diamond-art-club-art-room-11/
END:VEVENT
BEGIN:VEVENT
DTSTART;TZID=America/Anchorage:20251117T150000
DTEND;TZID=America/Anchorage:20251117T160000
DTSTAMP:20260425T040041
CREATED:20251010T225348Z
LAST-MODIFIED:20251117T032050Z
UID:9188-1763391600-1763395200@kpbsd.org
SUMMARY:Basketball-gym 3/4
DESCRIPTION:
URL:https://kpbsd.org/schools/west-homer-elementary/event/basketball-gym-3-4-11/
END:VEVENT
BEGIN:VEVENT
DTSTART;VALUE=DATE:20251118
DTEND;VALUE=DATE:20251119
DTSTAMP:20260425T040041
CREATED:20250830T160936Z
LAST-MODIFIED:20251118T031915Z
UID:8519-1763424000-1763510399@kpbsd.org
SUMMARY:Picture Retakes GYM Office
DESCRIPTION:
URL:https://kpbsd.org/schools/west-homer-elementary/event/picture-retakes-art-room/
END:VEVENT
BEGIN:VEVENT
DTSTART;TZID=America/Anchorage:20251118T150000
DTEND;TZID=America/Anchorage:20251118T160000
DTSTAMP:20260425T040041
CREATED:20250930T220906Z
LAST-MODIFIED:20251118T031915Z
UID:8867-1763478000-1763481600@kpbsd.org
SUMMARY:Basketball- gym game vs Chapmans
DESCRIPTION:
URL:https://kpbsd.org/schools/west-homer-elementary/event/basketball-gym-5-6-14/
END:VEVENT
BEGIN:VEVENT
DTSTART;TZID=America/Anchorage:20251119T150000
DTEND;TZID=America/Anchorage:20251119T160000
DTSTAMP:20260425T040041
CREATED:20251006T222027Z
LAST-MODIFIED:20251119T033834Z
UID:9043-1763564400-1763568000@kpbsd.org
SUMMARY:Diamond Art Club-Art Room
DESCRIPTION:
URL:https://kpbsd.org/schools/west-homer-elementary/event/diamond-art-club-art-room-12/
END:VEVENT
BEGIN:VEVENT
DTSTART;TZID=America/Anchorage:20251119T150000
DTEND;TZID=America/Anchorage:20251119T160000
DTSTAMP:20260425T040041
CREATED:20251010T225349Z
LAST-MODIFIED:20251119T033834Z
UID:9191-1763564400-1763568000@kpbsd.org
SUMMARY:Basketball-gym 3/4
DESCRIPTION:
URL:https://kpbsd.org/schools/west-homer-elementary/event/basketball-gym-3-4-12/
END:VEVENT
BEGIN:VEVENT
DTSTART;TZID=America/Anchorage:20251119T153000
DTEND;TZID=America/Anchorage:20251119T163000
DTSTAMP:20260425T040041
CREATED:20250822T150451Z
LAST-MODIFIED:20251119T033833Z
UID:8255-1763566200-1763569800@kpbsd.org
SUMMARY:Basketball vs McNeil AWAY
DESCRIPTION:
URL:https://kpbsd.org/schools/west-homer-elementary/event/basketball-vs-mcneil-away/
END:VEVENT
BEGIN:VEVENT
DTSTART;TZID=America/Anchorage:20251120T150000
DTEND;TZID=America/Anchorage:20251120T160000
DTSTAMP:20260425T040041
CREATED:20250930T220906Z
LAST-MODIFIED:20251120T033928Z
UID:8870-1763650800-1763654400@kpbsd.org
SUMMARY:Basketball-gym 5/6
DESCRIPTION:
URL:https://kpbsd.org/schools/west-homer-elementary/event/basketball-gym-5-6-15/
END:VEVENT
BEGIN:VEVENT
DTSTART;TZID=America/Anchorage:20251121T112000
DTEND;TZID=America/Anchorage:20251121T122000
DTSTAMP:20260425T040041
CREATED:20251029T003716Z
LAST-MODIFIED:20251121T035112Z
UID:9446-1763724000-1763727600@kpbsd.org
SUMMARY:Lunch & Play
DESCRIPTION:
URL:https://kpbsd.org/schools/west-homer-elementary/event/lunch-play-2/
END:VEVENT
BEGIN:VEVENT
DTSTART;TZID=America/Anchorage:20251121T150000
DTEND;TZID=America/Anchorage:20251121T160000
DTSTAMP:20260425T040041
CREATED:20250829T155623Z
LAST-MODIFIED:20251121T035113Z
UID:8398-1763737200-1763740800@kpbsd.org
SUMMARY:Japanese Club
DESCRIPTION:
URL:https://kpbsd.org/schools/west-homer-elementary/event/japanese-club-11/
END:VEVENT
BEGIN:VEVENT
DTSTART;TZID=America/Anchorage:20251121T150000
DTEND;TZID=America/Anchorage:20251121T160000
DTSTAMP:20260425T040041
CREATED:20250930T220907Z
LAST-MODIFIED:20251121T035112Z
UID:8873-1763737200-1763740800@kpbsd.org
SUMMARY:Basketball-gym 5/6
DESCRIPTION:
URL:https://kpbsd.org/schools/west-homer-elementary/event/basketball-gym-5-6-16/
END:VEVENT
BEGIN:VEVENT
DTSTART;TZID=America/Anchorage:20251122T130000
DTEND;TZID=America/Anchorage:20251122T140000
DTSTAMP:20260425T040041
CREATED:20251104T010438Z
LAST-MODIFIED:20251122T035048Z
UID:9479-1763816400-1763820000@kpbsd.org
SUMMARY:Basketball- home vs Nikiski
DESCRIPTION:
URL:https://kpbsd.org/schools/west-homer-elementary/event/basketball-home-vs-nikiski/
END:VEVENT
BEGIN:VEVENT
DTSTART;TZID=America/Anchorage:20251124T090000
DTEND;TZID=America/Anchorage:20251124T113000
DTSTAMP:20260425T040041
CREATED:20251115T024950Z
LAST-MODIFIED:20251124T040455Z
UID:9744-1763974800-1763983800@kpbsd.org
SUMMARY:Shuneson Field trip-Islands & Oceans
DESCRIPTION:
URL:https://kpbsd.org/schools/west-homer-elementary/event/shuneson-field-trip-islands-oceans/
END:VEVENT
BEGIN:VEVENT
DTSTART;TZID=America/Anchorage:20251124T150000
DTEND;TZID=America/Anchorage:20251124T160000
DTSTAMP:20260425T040041
CREATED:20251006T222027Z
LAST-MODIFIED:20251124T040455Z
UID:9046-1763996400-1764000000@kpbsd.org
SUMMARY:Diamond Art Club-Art Room
DESCRIPTION:
URL:https://kpbsd.org/schools/west-homer-elementary/event/diamond-art-club-art-room-13/
END:VEVENT
BEGIN:VEVENT
DTSTART;TZID=America/Anchorage:20251124T150000
DTEND;TZID=America/Anchorage:20251124T160000
DTSTAMP:20260425T040041
CREATED:20251010T225350Z
LAST-MODIFIED:20251124T040455Z
UID:9197-1763996400-1764000000@kpbsd.org
SUMMARY:Basketball-gym 3/4
DESCRIPTION:
URL:https://kpbsd.org/schools/west-homer-elementary/event/basketball-gym-3-4-13/
END:VEVENT
BEGIN:VEVENT
DTSTART;TZID=America/Anchorage:20251125T090000
DTEND;TZID=America/Anchorage:20251125T113000
DTSTAMP:20260425T040041
CREATED:20251115T024951Z
LAST-MODIFIED:20251125T040558Z
UID:9747-1764061200-1764070200@kpbsd.org
SUMMARY:Ross field trip-Island & Oceans
DESCRIPTION:
URL:https://kpbsd.org/schools/west-homer-elementary/event/ross-field-trip-island-oceans/
END:VEVENT
BEGIN:VEVENT
DTSTART;TZID=America/Anchorage:20251125T150000
DTEND;TZID=America/Anchorage:20251125T160000
DTSTAMP:20260425T040041
CREATED:20250930T220907Z
LAST-MODIFIED:20251125T040558Z
UID:8876-1764082800-1764086400@kpbsd.org
SUMMARY:Basketball-gym 5/6
DESCRIPTION:
URL:https://kpbsd.org/schools/west-homer-elementary/event/basketball-gym-5-6-17/
END:VEVENT
BEGIN:VEVENT
DTSTART;TZID=America/Anchorage:20251126T150000
DTEND;TZID=America/Anchorage:20251126T160000
DTSTAMP:20260425T040041
CREATED:20251010T225350Z
LAST-MODIFIED:20251126T042052Z
UID:9200-1764169200-1764172800@kpbsd.org
SUMMARY:Basketball-gym 3/4
DESCRIPTION:
URL:https://kpbsd.org/schools/west-homer-elementary/event/basketball-gym-3-4-14/
END:VEVENT
BEGIN:VEVENT
DTSTART;VALUE=DATE:20251127
DTEND;VALUE=DATE:20251129
DTSTAMP:20260425T040041
CREATED:20250717T090819Z
LAST-MODIFIED:20251128T043515Z
UID:7892-1764201600-1764374399@kpbsd.org
SUMMARY:No School - Thanksgiving Break
DESCRIPTION:
URL:https://kpbsd.org/schools/west-homer-elementary/event/no-school-thanksgiving-break/
END:VEVENT
BEGIN:VEVENT
DTSTART;TZID=America/Anchorage:20251127T080000
DTEND;TZID=America/Anchorage:20251128T170000
DTSTAMP:20260425T040041
CREATED:20250719T000847Z
LAST-MODIFIED:20251122T021014Z
UID:8059-1764230400-1764349200@kpbsd.org
SUMMARY:Holiday
DESCRIPTION:
URL:https://kpbsd.org/schools/west-homer-elementary/event/holiday-9/
CATEGORIES:Districtwide Calendar
END:VEVENT
END:VCALENDAR