BEGIN:VCALENDAR
VERSION:2.0
PRODID:-//West Homer Elementary - ECPv6.8.2//NONSGML v1.0//EN
CALSCALE:GREGORIAN
METHOD:PUBLISH
X-WR-CALNAME:West Homer Elementary
X-ORIGINAL-URL:https://kpbsd.org/schools/west-homer-elementary
X-WR-CALDESC:Events for West Homer Elementary
REFRESH-INTERVAL;VALUE=DURATION:PT1H
X-Robots-Tag:noindex
X-PUBLISHED-TTL:PT1H
BEGIN:VTIMEZONE
TZID:America/Anchorage
BEGIN:DAYLIGHT
TZOFFSETFROM:-0900
TZOFFSETTO:-0800
TZNAME:AKDT
DTSTART:20250309T110000
END:DAYLIGHT
BEGIN:STANDARD
TZOFFSETFROM:-0800
TZOFFSETTO:-0900
TZNAME:AKST
DTSTART:20251102T100000
END:STANDARD
END:VTIMEZONE
BEGIN:VEVENT
DTSTART;TZID=America/Anchorage:20251121T150000
DTEND;TZID=America/Anchorage:20251121T160000
DTSTAMP:20260425T141407
CREATED:20250930T220907Z
LAST-MODIFIED:20251121T035112Z
UID:8873-1763737200-1763740800@kpbsd.org
SUMMARY:Basketball-gym 5/6
DESCRIPTION:
URL:https://kpbsd.org/schools/west-homer-elementary/event/basketball-gym-5-6-16/
END:VEVENT
BEGIN:VEVENT
DTSTART;TZID=America/Anchorage:20251122T130000
DTEND;TZID=America/Anchorage:20251122T140000
DTSTAMP:20260425T141407
CREATED:20251104T010438Z
LAST-MODIFIED:20251122T035048Z
UID:9479-1763816400-1763820000@kpbsd.org
SUMMARY:Basketball- home vs Nikiski
DESCRIPTION:
URL:https://kpbsd.org/schools/west-homer-elementary/event/basketball-home-vs-nikiski/
END:VEVENT
BEGIN:VEVENT
DTSTART;TZID=America/Anchorage:20251124T090000
DTEND;TZID=America/Anchorage:20251124T113000
DTSTAMP:20260425T141407
CREATED:20251115T024950Z
LAST-MODIFIED:20251124T040455Z
UID:9744-1763974800-1763983800@kpbsd.org
SUMMARY:Shuneson Field trip-Islands & Oceans
DESCRIPTION:
URL:https://kpbsd.org/schools/west-homer-elementary/event/shuneson-field-trip-islands-oceans/
END:VEVENT
BEGIN:VEVENT
DTSTART;TZID=America/Anchorage:20251124T150000
DTEND;TZID=America/Anchorage:20251124T160000
DTSTAMP:20260425T141407
CREATED:20251006T222027Z
LAST-MODIFIED:20251124T040455Z
UID:9046-1763996400-1764000000@kpbsd.org
SUMMARY:Diamond Art Club-Art Room
DESCRIPTION:
URL:https://kpbsd.org/schools/west-homer-elementary/event/diamond-art-club-art-room-13/
END:VEVENT
BEGIN:VEVENT
DTSTART;TZID=America/Anchorage:20251124T150000
DTEND;TZID=America/Anchorage:20251124T160000
DTSTAMP:20260425T141407
CREATED:20251010T225350Z
LAST-MODIFIED:20251124T040455Z
UID:9197-1763996400-1764000000@kpbsd.org
SUMMARY:Basketball-gym 3/4
DESCRIPTION:
URL:https://kpbsd.org/schools/west-homer-elementary/event/basketball-gym-3-4-13/
END:VEVENT
BEGIN:VEVENT
DTSTART;TZID=America/Anchorage:20251125T090000
DTEND;TZID=America/Anchorage:20251125T113000
DTSTAMP:20260425T141407
CREATED:20251115T024951Z
LAST-MODIFIED:20251125T040558Z
UID:9747-1764061200-1764070200@kpbsd.org
SUMMARY:Ross field trip-Island & Oceans
DESCRIPTION:
URL:https://kpbsd.org/schools/west-homer-elementary/event/ross-field-trip-island-oceans/
END:VEVENT
BEGIN:VEVENT
DTSTART;TZID=America/Anchorage:20251125T150000
DTEND;TZID=America/Anchorage:20251125T160000
DTSTAMP:20260425T141407
CREATED:20250930T220907Z
LAST-MODIFIED:20251125T040558Z
UID:8876-1764082800-1764086400@kpbsd.org
SUMMARY:Basketball-gym 5/6
DESCRIPTION:
URL:https://kpbsd.org/schools/west-homer-elementary/event/basketball-gym-5-6-17/
END:VEVENT
BEGIN:VEVENT
DTSTART;TZID=America/Anchorage:20251126T150000
DTEND;TZID=America/Anchorage:20251126T160000
DTSTAMP:20260425T141407
CREATED:20251010T225350Z
LAST-MODIFIED:20251126T042052Z
UID:9200-1764169200-1764172800@kpbsd.org
SUMMARY:Basketball-gym 3/4
DESCRIPTION:
URL:https://kpbsd.org/schools/west-homer-elementary/event/basketball-gym-3-4-14/
END:VEVENT
BEGIN:VEVENT
DTSTART;VALUE=DATE:20251127
DTEND;VALUE=DATE:20251129
DTSTAMP:20260425T141407
CREATED:20250717T090819Z
LAST-MODIFIED:20251128T043515Z
UID:7892-1764201600-1764374399@kpbsd.org
SUMMARY:No School - Thanksgiving Break
DESCRIPTION:
URL:https://kpbsd.org/schools/west-homer-elementary/event/no-school-thanksgiving-break/
END:VEVENT
BEGIN:VEVENT
DTSTART;TZID=America/Anchorage:20251127T080000
DTEND;TZID=America/Anchorage:20251128T170000
DTSTAMP:20260425T141407
CREATED:20250719T000847Z
LAST-MODIFIED:20251122T021014Z
UID:8059-1764230400-1764349200@kpbsd.org
SUMMARY:Holiday
DESCRIPTION:
URL:https://kpbsd.org/schools/west-homer-elementary/event/holiday-9/
CATEGORIES:Districtwide Calendar
END:VEVENT
BEGIN:VEVENT
DTSTART;TZID=America/Anchorage:20251127T150000
DTEND;TZID=America/Anchorage:20251127T160000
DTSTAMP:20260425T141407
CREATED:20250930T220908Z
LAST-MODIFIED:20251127T043448Z
UID:8879-1764255600-1764259200@kpbsd.org
SUMMARY:Basketball-gym 5/6
DESCRIPTION:
URL:https://kpbsd.org/schools/west-homer-elementary/event/basketball-gym-5-6-18/
END:VEVENT
BEGIN:VEVENT
DTSTART;TZID=America/Anchorage:20251128T112000
DTEND;TZID=America/Anchorage:20251128T122000
DTSTAMP:20260425T141407
CREATED:20250816T141609Z
LAST-MODIFIED:20250929T220942Z
UID:8224-1764328800-1764332400@kpbsd.org
SUMMARY:Lunch and Play
DESCRIPTION:
URL:https://kpbsd.org/schools/west-homer-elementary/event/lunch-and-play-3/
END:VEVENT
BEGIN:VEVENT
DTSTART;TZID=America/Anchorage:20251128T150000
DTEND;TZID=America/Anchorage:20251128T160000
DTSTAMP:20260425T141407
CREATED:20250829T155624Z
LAST-MODIFIED:20250929T220942Z
UID:8401-1764342000-1764345600@kpbsd.org
SUMMARY:Japanese Club
DESCRIPTION:
URL:https://kpbsd.org/schools/west-homer-elementary/event/japanese-club-12/
END:VEVENT
BEGIN:VEVENT
DTSTART;TZID=America/Anchorage:20251128T150000
DTEND;TZID=America/Anchorage:20251128T160000
DTSTAMP:20260425T141407
CREATED:20250930T220908Z
LAST-MODIFIED:20251029T003718Z
UID:8882-1764342000-1764345600@kpbsd.org
SUMMARY:Basketball-gym 5/6
DESCRIPTION:
URL:https://kpbsd.org/schools/west-homer-elementary/event/basketball-gym-5-6-19/
END:VEVENT
BEGIN:VEVENT
DTSTART;TZID=America/Anchorage:20251129T130000
DTEND;TZID=America/Anchorage:20251129T140000
DTSTAMP:20260425T141407
CREATED:20251121T035110Z
LAST-MODIFIED:20251129T043602Z
UID:9770-1764421200-1764424800@kpbsd.org
SUMMARY:B team Basketball tourney @ K-Beach EL.
DESCRIPTION:
URL:https://kpbsd.org/schools/west-homer-elementary/event/b-team-basketball-tourney-k-beach-el/
END:VEVENT
BEGIN:VEVENT
DTSTART;TZID=America/Anchorage:20251201T150000
DTEND;TZID=America/Anchorage:20251201T160000
DTSTAMP:20260425T141407
CREATED:20251006T222028Z
LAST-MODIFIED:20251201T045305Z
UID:9049-1764601200-1764604800@kpbsd.org
SUMMARY:Diamond Art Club-Art Room
DESCRIPTION:
URL:https://kpbsd.org/schools/west-homer-elementary/event/diamond-art-club-art-room-14/
END:VEVENT
BEGIN:VEVENT
DTSTART;TZID=America/Anchorage:20251201T150000
DTEND;TZID=America/Anchorage:20251201T160000
DTSTAMP:20260425T141407
CREATED:20251010T225351Z
LAST-MODIFIED:20251201T045305Z
UID:9206-1764601200-1764604800@kpbsd.org
SUMMARY:Basketball-game vs McNeil @ WHE
DESCRIPTION:
URL:https://kpbsd.org/schools/west-homer-elementary/event/basketball-gym-3-4-15/
END:VEVENT
BEGIN:VEVENT
DTSTART;TZID=America/Anchorage:20251202T150000
DTEND;TZID=America/Anchorage:20251202T160000
DTSTAMP:20260425T141407
CREATED:20250930T220908Z
LAST-MODIFIED:20251029T003718Z
UID:8885-1764687600-1764691200@kpbsd.org
SUMMARY:Basketball-gym 5/6
DESCRIPTION:
URL:https://kpbsd.org/schools/west-homer-elementary/event/basketball-gym-5-6-20/
END:VEVENT
BEGIN:VEVENT
DTSTART;TZID=America/Anchorage:20251202T160000
DTEND;TZID=America/Anchorage:20251202T173000
DTSTAMP:20260425T141407
CREATED:20251008T223445Z
LAST-MODIFIED:20251202T045244Z
UID:9115-1764691200-1764696600@kpbsd.org
SUMMARY:PTO Meeting
DESCRIPTION:
URL:https://kpbsd.org/schools/west-homer-elementary/event/pto-meeting-12/
END:VEVENT
BEGIN:VEVENT
DTSTART;TZID=America/Anchorage:20251203T133000
DTEND;TZID=America/Anchorage:20251203T140000
DTSTAMP:20260425T141407
CREATED:20250717T090820Z
LAST-MODIFIED:20251203T045040Z
UID:7901-1764768600-1764770400@kpbsd.org
SUMMARY:3rd/4th Winter Concert
DESCRIPTION:
URL:https://kpbsd.org/schools/west-homer-elementary/event/3rd-4th-winter-concert/
END:VEVENT
BEGIN:VEVENT
DTSTART;TZID=America/Anchorage:20251203T150000
DTEND;TZID=America/Anchorage:20251203T160000
DTSTAMP:20260425T141407
CREATED:20251006T222029Z
LAST-MODIFIED:20251203T045040Z
UID:9052-1764774000-1764777600@kpbsd.org
SUMMARY:Diamond Art Club-Art Room
DESCRIPTION:
URL:https://kpbsd.org/schools/west-homer-elementary/event/diamond-art-club-art-room-15/
END:VEVENT
BEGIN:VEVENT
DTSTART;TZID=America/Anchorage:20251203T150000
DTEND;TZID=America/Anchorage:20251203T160000
DTSTAMP:20260425T141407
CREATED:20251010T225352Z
LAST-MODIFIED:20251203T045040Z
UID:9209-1764774000-1764777600@kpbsd.org
SUMMARY:Basketball-gym 3/4
DESCRIPTION:
URL:https://kpbsd.org/schools/west-homer-elementary/event/basketball-gym-3-4-16/
END:VEVENT
BEGIN:VEVENT
DTSTART;TZID=America/Anchorage:20251204T133000
DTEND;TZID=America/Anchorage:20251204T140000
DTSTAMP:20260425T141407
CREATED:20250717T090820Z
LAST-MODIFIED:20251204T045129Z
UID:7904-1764855000-1764856800@kpbsd.org
SUMMARY:5th/6th Winter Concert
DESCRIPTION:
URL:https://kpbsd.org/schools/west-homer-elementary/event/5th-6th-winter-concert/
END:VEVENT
BEGIN:VEVENT
DTSTART;TZID=America/Anchorage:20251204T150000
DTEND;TZID=America/Anchorage:20251204T160000
DTSTAMP:20260425T141407
CREATED:20250930T220909Z
LAST-MODIFIED:20251029T003719Z
UID:8888-1764860400-1764864000@kpbsd.org
SUMMARY:Basketball-gym 5/6
DESCRIPTION:
URL:https://kpbsd.org/schools/west-homer-elementary/event/basketball-gym-5-6-21/
END:VEVENT
BEGIN:VEVENT
DTSTART;TZID=America/Anchorage:20251205T150000
DTEND;TZID=America/Anchorage:20251205T160000
DTSTAMP:20260425T141407
CREATED:20250829T155624Z
LAST-MODIFIED:20251205T045017Z
UID:8404-1764946800-1764950400@kpbsd.org
SUMMARY:Japanese Club
DESCRIPTION:
URL:https://kpbsd.org/schools/west-homer-elementary/event/japanese-club-13/
END:VEVENT
BEGIN:VEVENT
DTSTART;TZID=America/Anchorage:20251205T150000
DTEND;TZID=America/Anchorage:20251205T160000
DTSTAMP:20260425T141407
CREATED:20250930T220909Z
LAST-MODIFIED:20251118T031954Z
UID:8891-1764946800-1764950400@kpbsd.org
SUMMARY:Basketball-gym 5/6
DESCRIPTION:
URL:https://kpbsd.org/schools/west-homer-elementary/event/basketball-gym-5-6-22/
END:VEVENT
BEGIN:VEVENT
DTSTART;TZID=America/Anchorage:20251205T160000
DTEND;TZID=America/Anchorage:20251205T170000
DTSTAMP:20260425T141407
CREATED:20251119T033834Z
LAST-MODIFIED:20251205T045017Z
UID:9763-1764950400-1764954000@kpbsd.org
SUMMARY:BBall Game vs Ninilchik-gym
DESCRIPTION:
URL:https://kpbsd.org/schools/west-homer-elementary/event/bball-game-vs-nikiski-gym/
END:VEVENT
BEGIN:VEVENT
DTSTART;TZID=America/Anchorage:20251208T150000
DTEND;TZID=America/Anchorage:20251208T160000
DTSTAMP:20260425T141407
CREATED:20251006T222029Z
LAST-MODIFIED:20251012T231421Z
UID:9055-1765206000-1765209600@kpbsd.org
SUMMARY:Diamond Art Club-Art Room
DESCRIPTION:
URL:https://kpbsd.org/schools/west-homer-elementary/event/diamond-art-club-art-room-16/
END:VEVENT
BEGIN:VEVENT
DTSTART;TZID=America/Anchorage:20251210T150000
DTEND;TZID=America/Anchorage:20251210T160000
DTSTAMP:20260425T141407
CREATED:20251006T222030Z
LAST-MODIFIED:20251012T231421Z
UID:9058-1765378800-1765382400@kpbsd.org
SUMMARY:Diamond Art Club-Art Room
DESCRIPTION:
URL:https://kpbsd.org/schools/west-homer-elementary/event/diamond-art-club-art-room-17/
END:VEVENT
BEGIN:VEVENT
DTSTART;VALUE=DATE:20251212
DTEND;VALUE=DATE:20251213
DTSTAMP:20260425T141407
CREATED:20250717T090820Z
LAST-MODIFIED:20251212T052112Z
UID:7907-1765497600-1765583999@kpbsd.org
SUMMARY:Early Release (1:20 dismissal)
DESCRIPTION:
URL:https://kpbsd.org/schools/west-homer-elementary/event/early-release-120-dismissal-3/
END:VEVENT
END:VCALENDAR