BEGIN:VCALENDAR
VERSION:2.0
PRODID:-//West Homer Elementary - ECPv6.8.2//NONSGML v1.0//EN
CALSCALE:GREGORIAN
METHOD:PUBLISH
X-WR-CALNAME:West Homer Elementary
X-ORIGINAL-URL:https://kpbsd.org/schools/west-homer-elementary
X-WR-CALDESC:Events for West Homer Elementary
REFRESH-INTERVAL;VALUE=DURATION:PT1H
X-Robots-Tag:noindex
X-PUBLISHED-TTL:PT1H
BEGIN:VTIMEZONE
TZID:America/Anchorage
BEGIN:DAYLIGHT
TZOFFSETFROM:-0900
TZOFFSETTO:-0800
TZNAME:AKDT
DTSTART:20250309T110000
END:DAYLIGHT
BEGIN:STANDARD
TZOFFSETFROM:-0800
TZOFFSETTO:-0900
TZNAME:AKST
DTSTART:20251102T100000
END:STANDARD
END:VTIMEZONE
BEGIN:VEVENT
DTSTART;TZID=America/Anchorage:20251017T150000
DTEND;TZID=America/Anchorage:20251017T160000
DTSTAMP:20260422T143354
CREATED:20251010T225342Z
LAST-MODIFIED:20251017T233056Z
UID:9158-1760713200-1760716800@kpbsd.org
SUMMARY:Basketball-gym 5/6
DESCRIPTION:
URL:https://kpbsd.org/schools/west-homer-elementary/event/basketball-gym-5-6-23/
END:VEVENT
BEGIN:VEVENT
DTSTART;TZID=America/Anchorage:20251020T080000
DTEND;TZID=America/Anchorage:20251020T110000
DTSTAMP:20260422T143354
CREATED:20250926T220648Z
LAST-MODIFIED:20251019T233537Z
UID:8768-1760947200-1760958000@kpbsd.org
SUMMARY:Book Fair-Library
DESCRIPTION:
URL:https://kpbsd.org/schools/west-homer-elementary/event/book-fair-library/
END:VEVENT
BEGIN:VEVENT
DTSTART;TZID=America/Anchorage:20251020T150000
DTEND;TZID=America/Anchorage:20251020T160000
DTSTAMP:20260422T143354
CREATED:20250930T220901Z
LAST-MODIFIED:20251020T234634Z
UID:8822-1760972400-1760976000@kpbsd.org
SUMMARY:Basketball-gym 3/4
DESCRIPTION:
URL:https://kpbsd.org/schools/west-homer-elementary/event/basketball-gym-3-4-3/
END:VEVENT
BEGIN:VEVENT
DTSTART;TZID=America/Anchorage:20251020T150000
DTEND;TZID=America/Anchorage:20251020T160000
DTSTAMP:20260422T143354
CREATED:20251006T222021Z
LAST-MODIFIED:20251020T234634Z
UID:9016-1760972400-1760976000@kpbsd.org
SUMMARY:Diamond Art Club-Art Room
DESCRIPTION:
URL:https://kpbsd.org/schools/west-homer-elementary/event/diamond-art-club-art-room-3/
END:VEVENT
BEGIN:VEVENT
DTSTART;TZID=America/Anchorage:20251021T080000
DTEND;TZID=America/Anchorage:20251021T110000
DTSTAMP:20260422T143354
CREATED:20250926T220648Z
LAST-MODIFIED:20251020T234634Z
UID:8771-1761033600-1761044400@kpbsd.org
SUMMARY:Book Fair-Library
DESCRIPTION:
URL:https://kpbsd.org/schools/west-homer-elementary/event/book-fair-library-2/
END:VEVENT
BEGIN:VEVENT
DTSTART;TZID=America/Anchorage:20251021T150000
DTEND;TZID=America/Anchorage:20251021T160000
DTSTAMP:20260422T143354
CREATED:20250930T220901Z
LAST-MODIFIED:20251021T235526Z
UID:8825-1761058800-1761062400@kpbsd.org
SUMMARY:Basketball-gym 5/6
DESCRIPTION:
URL:https://kpbsd.org/schools/west-homer-elementary/event/basketball-gym-5-6-3/
END:VEVENT
BEGIN:VEVENT
DTSTART;TZID=America/Anchorage:20251022T080000
DTEND;TZID=America/Anchorage:20251022T110000
DTSTAMP:20260422T143354
CREATED:20250926T220648Z
LAST-MODIFIED:20251021T235526Z
UID:8774-1761120000-1761130800@kpbsd.org
SUMMARY:Book Fair-Library
DESCRIPTION:
URL:https://kpbsd.org/schools/west-homer-elementary/event/book-fair-library-3/
END:VEVENT
BEGIN:VEVENT
DTSTART;TZID=America/Anchorage:20251022T150000
DTEND;TZID=America/Anchorage:20251022T160000
DTSTAMP:20260422T143354
CREATED:20250930T220901Z
LAST-MODIFIED:20251021T235526Z
UID:8828-1761145200-1761148800@kpbsd.org
SUMMARY:Basketball-gym 3/4
DESCRIPTION:
URL:https://kpbsd.org/schools/west-homer-elementary/event/basketball-gym-3-4-4/
END:VEVENT
BEGIN:VEVENT
DTSTART;TZID=America/Anchorage:20251022T150000
DTEND;TZID=America/Anchorage:20251022T160000
DTSTAMP:20260422T143354
CREATED:20251006T222021Z
LAST-MODIFIED:20251021T235526Z
UID:9019-1761145200-1761148800@kpbsd.org
SUMMARY:Diamond Art Club-Art Room
DESCRIPTION:
URL:https://kpbsd.org/schools/west-homer-elementary/event/diamond-art-club-art-room-4/
END:VEVENT
BEGIN:VEVENT
DTSTART;VALUE=DATE:20251023
DTEND;VALUE=DATE:20251025
DTSTAMP:20260422T143354
CREATED:20250717T090818Z
LAST-MODIFIED:20251024T001512Z
UID:7868-1761177600-1761350399@kpbsd.org
SUMMARY:Parent/Teacher Conferences
DESCRIPTION:
URL:https://kpbsd.org/schools/west-homer-elementary/event/parent-teacher-conferences-12/
END:VEVENT
BEGIN:VEVENT
DTSTART;TZID=America/Anchorage:20251023T080000
DTEND;TZID=America/Anchorage:20251024T153000
DTSTAMP:20260422T143354
CREATED:20250926T220649Z
LAST-MODIFIED:20251024T001512Z
UID:8777-1761206400-1761319800@kpbsd.org
SUMMARY:Book Fair-library
DESCRIPTION:
URL:https://kpbsd.org/schools/west-homer-elementary/event/book-fair-library-4/
END:VEVENT
BEGIN:VEVENT
DTSTART;TZID=America/Anchorage:20251023T150000
DTEND;TZID=America/Anchorage:20251023T160000
DTSTAMP:20260422T143354
CREATED:20250829T155621Z
LAST-MODIFIED:20250924T215118Z
UID:8380-1761231600-1761235200@kpbsd.org
SUMMARY:XC Running
DESCRIPTION:
URL:https://kpbsd.org/schools/west-homer-elementary/event/xc-running-14/
END:VEVENT
BEGIN:VEVENT
DTSTART;TZID=America/Anchorage:20251023T150000
DTEND;TZID=America/Anchorage:20251023T160000
DTSTAMP:20260422T143354
CREATED:20250930T220902Z
LAST-MODIFIED:20251023T000509Z
UID:8831-1761231600-1761235200@kpbsd.org
SUMMARY:Basketball-gym 5/6
DESCRIPTION:
URL:https://kpbsd.org/schools/west-homer-elementary/event/basketball-gym-5-6-4/
END:VEVENT
BEGIN:VEVENT
DTSTART;TZID=America/Anchorage:20251024T150000
DTEND;TZID=America/Anchorage:20251024T160000
DTSTAMP:20260422T143354
CREATED:20250829T155621Z
LAST-MODIFIED:20251024T001512Z
UID:8383-1761318000-1761321600@kpbsd.org
SUMMARY:Japanese Club
DESCRIPTION:
URL:https://kpbsd.org/schools/west-homer-elementary/event/japanese-club-7/
END:VEVENT
BEGIN:VEVENT
DTSTART;TZID=America/Anchorage:20251024T150000
DTEND;TZID=America/Anchorage:20251024T160000
DTSTAMP:20260422T143354
CREATED:20251010T225343Z
LAST-MODIFIED:20251024T001512Z
UID:9161-1761318000-1761321600@kpbsd.org
SUMMARY:Basketball-gym 5/6
DESCRIPTION:
URL:https://kpbsd.org/schools/west-homer-elementary/event/basketball-gym-5-6-24/
END:VEVENT
BEGIN:VEVENT
DTSTART;TZID=America/Anchorage:20251027T150000
DTEND;TZID=America/Anchorage:20251027T160000
DTSTAMP:20260422T143354
CREATED:20250930T220902Z
LAST-MODIFIED:20251027T002148Z
UID:8834-1761577200-1761580800@kpbsd.org
SUMMARY:Basketball-gym 3/4
DESCRIPTION:
URL:https://kpbsd.org/schools/west-homer-elementary/event/basketball-gym-3-4-5/
END:VEVENT
BEGIN:VEVENT
DTSTART;TZID=America/Anchorage:20251027T150000
DTEND;TZID=America/Anchorage:20251027T160000
DTSTAMP:20260422T143354
CREATED:20251006T222022Z
LAST-MODIFIED:20251027T002149Z
UID:9022-1761577200-1761580800@kpbsd.org
SUMMARY:Diamond Art Club-Art Room
DESCRIPTION:
URL:https://kpbsd.org/schools/west-homer-elementary/event/diamond-art-club-art-room-5/
END:VEVENT
BEGIN:VEVENT
DTSTART;TZID=America/Anchorage:20251028T150000
DTEND;TZID=America/Anchorage:20251028T160000
DTSTAMP:20260422T143354
CREATED:20250930T220903Z
LAST-MODIFIED:20251028T002809Z
UID:8837-1761663600-1761667200@kpbsd.org
SUMMARY:Basketball-gym 5/6
DESCRIPTION:
URL:https://kpbsd.org/schools/west-homer-elementary/event/basketball-gym-5-6-5/
END:VEVENT
BEGIN:VEVENT
DTSTART;TZID=America/Anchorage:20251029T150000
DTEND;TZID=America/Anchorage:20251029T160000
DTSTAMP:20260422T143354
CREATED:20250930T220903Z
LAST-MODIFIED:20251027T002149Z
UID:8840-1761750000-1761753600@kpbsd.org
SUMMARY:Basketball-gym 3/4
DESCRIPTION:
URL:https://kpbsd.org/schools/west-homer-elementary/event/basketball-gym-3-4-6/
END:VEVENT
BEGIN:VEVENT
DTSTART;TZID=America/Anchorage:20251029T150000
DTEND;TZID=America/Anchorage:20251029T160000
DTSTAMP:20260422T143354
CREATED:20251006T222023Z
LAST-MODIFIED:20251029T003713Z
UID:9025-1761750000-1761753600@kpbsd.org
SUMMARY:Diamond Art Club-Art Room
DESCRIPTION:
URL:https://kpbsd.org/schools/west-homer-elementary/event/diamond-art-club-art-room-6/
END:VEVENT
BEGIN:VEVENT
DTSTART;VALUE=DATE:20251030
DTEND;VALUE=DATE:20251031
DTSTAMP:20260422T143354
CREATED:20250925T215322Z
LAST-MODIFIED:20251030T003935Z
UID:8759-1761782400-1761868799@kpbsd.org
SUMMARY:Picture Day- Art room
DESCRIPTION:
URL:https://kpbsd.org/schools/west-homer-elementary/event/picture-day-art-room/
END:VEVENT
BEGIN:VEVENT
DTSTART;TZID=America/Anchorage:20251030T150000
DTEND;TZID=America/Anchorage:20251030T160000
DTSTAMP:20260422T143354
CREATED:20250829T155621Z
LAST-MODIFIED:20250924T215119Z
UID:8386-1761836400-1761840000@kpbsd.org
SUMMARY:XC Running
DESCRIPTION:
URL:https://kpbsd.org/schools/west-homer-elementary/event/xc-running-15/
END:VEVENT
BEGIN:VEVENT
DTSTART;TZID=America/Anchorage:20251030T150000
DTEND;TZID=America/Anchorage:20251030T160000
DTSTAMP:20260422T143354
CREATED:20250930T220903Z
LAST-MODIFIED:20251030T003935Z
UID:8843-1761836400-1761840000@kpbsd.org
SUMMARY:Basketball-gym 5/6
DESCRIPTION:
URL:https://kpbsd.org/schools/west-homer-elementary/event/basketball-gym-5-6-6/
END:VEVENT
BEGIN:VEVENT
DTSTART;TZID=America/Anchorage:20251031T140000
DTEND;TZID=America/Anchorage:20251031T143000
DTSTAMP:20260422T143354
CREATED:20250717T090818Z
LAST-MODIFIED:20251031T003803Z
UID:7871-1761919200-1761921000@kpbsd.org
SUMMARY:Halloween Parade
DESCRIPTION:
URL:https://kpbsd.org/schools/west-homer-elementary/event/halloween-parade-2/
END:VEVENT
BEGIN:VEVENT
DTSTART;TZID=America/Anchorage:20251031T150000
DTEND;TZID=America/Anchorage:20251031T160000
DTSTAMP:20260422T143354
CREATED:20250829T155622Z
LAST-MODIFIED:20251031T003803Z
UID:8389-1761922800-1761926400@kpbsd.org
SUMMARY:Japanese Club
DESCRIPTION:
URL:https://kpbsd.org/schools/west-homer-elementary/event/japanese-club-8/
END:VEVENT
BEGIN:VEVENT
DTSTART;TZID=America/Anchorage:20251031T150000
DTEND;TZID=America/Anchorage:20251031T160000
DTSTAMP:20260422T143354
CREATED:20250930T220904Z
LAST-MODIFIED:20251031T003804Z
UID:8846-1761922800-1761926400@kpbsd.org
SUMMARY:Basketball-gym 5/6
DESCRIPTION:
URL:https://kpbsd.org/schools/west-homer-elementary/event/basketball-gym-5-6-7/
END:VEVENT
BEGIN:VEVENT
DTSTART;VALUE=DATE:20251103
DTEND;VALUE=DATE:20251115
DTSTAMP:20260422T143354
CREATED:20250910T193425Z
LAST-MODIFIED:20251114T025118Z
UID:8647-1762128000-1763164799@kpbsd.org
SUMMARY:PTO Penny Wars
DESCRIPTION:
URL:https://kpbsd.org/schools/west-homer-elementary/event/pto-penny-wars/
END:VEVENT
BEGIN:VEVENT
DTSTART;TZID=America/Anchorage:20251103T150000
DTEND;TZID=America/Anchorage:20251103T160000
DTSTAMP:20260422T143354
CREATED:20251006T222024Z
LAST-MODIFIED:20251103T005647Z
UID:9028-1762182000-1762185600@kpbsd.org
SUMMARY:Diamond Art Club-Art Room
DESCRIPTION:
URL:https://kpbsd.org/schools/west-homer-elementary/event/diamond-art-club-art-room-7/
END:VEVENT
BEGIN:VEVENT
DTSTART;TZID=America/Anchorage:20251103T150000
DTEND;TZID=America/Anchorage:20251103T160000
DTSTAMP:20260422T143354
CREATED:20251010T225345Z
LAST-MODIFIED:20251027T002206Z
UID:9170-1762182000-1762185600@kpbsd.org
SUMMARY:Basketball-gym 3/4
DESCRIPTION:
URL:https://kpbsd.org/schools/west-homer-elementary/event/basketball-gym-3-4-7/
END:VEVENT
BEGIN:VEVENT
DTSTART;TZID=America/Anchorage:20251104T150000
DTEND;TZID=America/Anchorage:20251104T160000
DTSTAMP:20260422T143354
CREATED:20250930T220904Z
LAST-MODIFIED:20251104T010437Z
UID:8849-1762268400-1762272000@kpbsd.org
SUMMARY:Basketball-gym 5/6
DESCRIPTION:
URL:https://kpbsd.org/schools/west-homer-elementary/event/basketball-gym-5-6-8/
END:VEVENT
END:VCALENDAR