BEGIN:VCALENDAR
VERSION:2.0
PRODID:-//West Homer Elementary - ECPv6.8.2//NONSGML v1.0//EN
CALSCALE:GREGORIAN
METHOD:PUBLISH
X-ORIGINAL-URL:https://kpbsd.org/schools/west-homer-elementary
X-WR-CALDESC:Events for West Homer Elementary
REFRESH-INTERVAL;VALUE=DURATION:PT1H
X-Robots-Tag:noindex
X-PUBLISHED-TTL:PT1H
BEGIN:VTIMEZONE
TZID:America/Anchorage
BEGIN:DAYLIGHT
TZOFFSETFROM:-0900
TZOFFSETTO:-0800
TZNAME:AKDT
DTSTART:20220313T110000
END:DAYLIGHT
BEGIN:STANDARD
TZOFFSETFROM:-0800
TZOFFSETTO:-0900
TZNAME:AKST
DTSTART:20221106T100000
END:STANDARD
END:VTIMEZONE
BEGIN:VEVENT
DTSTART;TZID=America/Anchorage:20220301T150000
DTEND;TZID=America/Anchorage:20220301T161500
DTSTAMP:20260419T084847
CREATED:20220202T202038Z
LAST-MODIFIED:20220202T202137Z
UID:1575-1646146800-1646151300@kpbsd.org
SUMMARY:Wrestling - Last Day
DESCRIPTION:
URL:https://kpbsd.org/schools/west-homer-elementary/event/wrestling-7/
END:VEVENT
BEGIN:VEVENT
DTSTART;TZID=America/Anchorage:20220302T150000
DTEND;TZID=America/Anchorage:20220302T170000
DTSTAMP:20260419T084847
CREATED:20220202T202903Z
LAST-MODIFIED:20220202T202921Z
UID:1584-1646233200-1646240400@kpbsd.org
SUMMARY:X-Country Skiing - Last Day
DESCRIPTION:
URL:https://kpbsd.org/schools/west-homer-elementary/event/x-country-skiing-last-day/
END:VEVENT
BEGIN:VEVENT
DTSTART;VALUE=DATE:20220304
DTEND;VALUE=DATE:20220305
DTSTAMP:20260419T084847
CREATED:20220202T203557Z
LAST-MODIFIED:20220202T203557Z
UID:1602-1646352000-1646438399@kpbsd.org
SUMMARY:In-Service/No School
DESCRIPTION:
URL:https://kpbsd.org/schools/west-homer-elementary/event/in-service-no-school-2/
END:VEVENT
BEGIN:VEVENT
DTSTART;VALUE=DATE:20220308
DTEND;VALUE=DATE:20220313
DTSTAMP:20260419T084847
CREATED:20220202T203631Z
LAST-MODIFIED:20220202T203631Z
UID:1604-1646697600-1647129599@kpbsd.org
SUMMARY:Spring Break
DESCRIPTION:
URL:https://kpbsd.org/schools/west-homer-elementary/event/spring-break/
END:VEVENT
BEGIN:VEVENT
DTSTART;TZID=America/Anchorage:20220318T131500
DTEND;TZID=America/Anchorage:20220318T131500
DTSTAMP:20260419T084847
CREATED:20220317T171531Z
LAST-MODIFIED:20220317T171531Z
UID:1697-1647609300-1647609300@kpbsd.org
SUMMARY:Early Release
DESCRIPTION:
URL:https://kpbsd.org/schools/west-homer-elementary/event/early-release-8/
END:VEVENT
BEGIN:VEVENT
DTSTART;TZID=America/Anchorage:20220321T144500
DTEND;TZID=America/Anchorage:20220321T154500
DTSTAMP:20260419T084847
CREATED:20220317T170717Z
LAST-MODIFIED:20220317T171151Z
UID:1660-1647873900-1647877500@kpbsd.org
SUMMARY:Chess Club-First Day!
DESCRIPTION:
URL:https://kpbsd.org/schools/west-homer-elementary/event/chess-club-3/
END:VEVENT
BEGIN:VEVENT
DTSTART;TZID=America/Anchorage:20220322T144500
DTEND;TZID=America/Anchorage:20220322T160000
DTSTAMP:20260419T084847
CREATED:20220317T163751Z
LAST-MODIFIED:20220317T164259Z
UID:1611-1647960300-1647964800@kpbsd.org
SUMMARY:Volleyball-First Day!
DESCRIPTION:
URL:https://kpbsd.org/schools/west-homer-elementary/event/volleyball/
END:VEVENT
BEGIN:VEVENT
DTSTART;TZID=America/Anchorage:20220323T144500
DTEND;TZID=America/Anchorage:20220323T154500
DTSTAMP:20260419T084847
CREATED:20220317T170746Z
LAST-MODIFIED:20220317T170746Z
UID:1662-1648046700-1648050300@kpbsd.org
SUMMARY:Chess Club
DESCRIPTION:
URL:https://kpbsd.org/schools/west-homer-elementary/event/chess-club-4/
END:VEVENT
BEGIN:VEVENT
DTSTART;TZID=America/Anchorage:20220323T144500
DTEND;TZID=America/Anchorage:20220323T154500
DTSTAMP:20260419T084847
CREATED:20220317T171242Z
LAST-MODIFIED:20220317T171242Z
UID:1685-1648046700-1648050300@kpbsd.org
SUMMARY:Starfish Yoga
DESCRIPTION:
URL:https://kpbsd.org/schools/west-homer-elementary/event/starfish-yoga/
END:VEVENT
BEGIN:VEVENT
DTSTART;TZID=America/Anchorage:20220324T144500
DTEND;TZID=America/Anchorage:20220324T160000
DTSTAMP:20260419T084847
CREATED:20220317T163857Z
LAST-MODIFIED:20220317T163857Z
UID:1613-1648133100-1648137600@kpbsd.org
SUMMARY:Volleyball
DESCRIPTION:
URL:https://kpbsd.org/schools/west-homer-elementary/event/volleyball-2/
END:VEVENT
BEGIN:VEVENT
DTSTART;TZID=America/Anchorage:20220325T131500
DTEND;TZID=America/Anchorage:20220325T131500
DTSTAMP:20260419T084847
CREATED:20220317T171555Z
LAST-MODIFIED:20220317T171555Z
UID:1699-1648214100-1648214100@kpbsd.org
SUMMARY:Early Release
DESCRIPTION:
URL:https://kpbsd.org/schools/west-homer-elementary/event/early-release-9/
END:VEVENT
BEGIN:VEVENT
DTSTART;TZID=America/Anchorage:20220328T144500
DTEND;TZID=America/Anchorage:20220328T154500
DTSTAMP:20260419T084847
CREATED:20220317T170811Z
LAST-MODIFIED:20220317T170811Z
UID:1664-1648478700-1648482300@kpbsd.org
SUMMARY:Chess Club
DESCRIPTION:
URL:https://kpbsd.org/schools/west-homer-elementary/event/chess-club-5/
END:VEVENT
BEGIN:VEVENT
DTSTART;TZID=America/Anchorage:20220329T144500
DTEND;TZID=America/Anchorage:20220329T160000
DTSTAMP:20260419T084847
CREATED:20220317T163917Z
LAST-MODIFIED:20220317T163917Z
UID:1615-1648565100-1648569600@kpbsd.org
SUMMARY:Volleyball
DESCRIPTION:
URL:https://kpbsd.org/schools/west-homer-elementary/event/volleyball-3/
END:VEVENT
BEGIN:VEVENT
DTSTART;TZID=America/Anchorage:20220330T144500
DTEND;TZID=America/Anchorage:20220330T154500
DTSTAMP:20260419T084847
CREATED:20220317T170834Z
LAST-MODIFIED:20220317T170834Z
UID:1666-1648651500-1648655100@kpbsd.org
SUMMARY:Chess Club
DESCRIPTION:
URL:https://kpbsd.org/schools/west-homer-elementary/event/chess-club-6/
END:VEVENT
BEGIN:VEVENT
DTSTART;TZID=America/Anchorage:20220330T144500
DTEND;TZID=America/Anchorage:20220330T154500
DTSTAMP:20260419T084847
CREATED:20220317T171304Z
LAST-MODIFIED:20220317T171304Z
UID:1687-1648651500-1648655100@kpbsd.org
SUMMARY:Starfish Yoga
DESCRIPTION:
URL:https://kpbsd.org/schools/west-homer-elementary/event/starfish-yoga-2/
END:VEVENT
BEGIN:VEVENT
DTSTART;TZID=America/Anchorage:20220331T144500
DTEND;TZID=America/Anchorage:20220331T160000
DTSTAMP:20260419T084847
CREATED:20220317T163935Z
LAST-MODIFIED:20220317T163935Z
UID:1617-1648737900-1648742400@kpbsd.org
SUMMARY:Volleyball
DESCRIPTION:
URL:https://kpbsd.org/schools/west-homer-elementary/event/volleyball-4/
END:VEVENT
END:VCALENDAR