BEGIN:VCALENDAR
VERSION:2.0
PRODID:-//West Homer Elementary - ECPv6.8.2//NONSGML v1.0//EN
CALSCALE:GREGORIAN
METHOD:PUBLISH
X-WR-CALNAME:West Homer Elementary
X-ORIGINAL-URL:https://kpbsd.org/schools/west-homer-elementary
X-WR-CALDESC:Events for West Homer Elementary
REFRESH-INTERVAL;VALUE=DURATION:PT1H
X-Robots-Tag:noindex
X-PUBLISHED-TTL:PT1H
BEGIN:VTIMEZONE
TZID:America/Anchorage
BEGIN:DAYLIGHT
TZOFFSETFROM:-0900
TZOFFSETTO:-0800
TZNAME:AKDT
DTSTART:20240310T110000
END:DAYLIGHT
BEGIN:STANDARD
TZOFFSETFROM:-0800
TZOFFSETTO:-0900
TZNAME:AKST
DTSTART:20241103T100000
END:STANDARD
END:VTIMEZONE
BEGIN:VEVENT
DTSTART;TZID=America/Anchorage:20241105T163000
DTEND;TZID=America/Anchorage:20241105T180000
DTSTAMP:20260420T195942
CREATED:20241017T020223Z
LAST-MODIFIED:20241106T024920Z
UID:3848-1730824200-1730829600@kpbsd.org
SUMMARY:PTO Meeting
DESCRIPTION:https://kpbsd.zoom.us/j/85400331920?pwd=azkaudYbUNRfPsUxG4J1HUi2U9xAgl.1
URL:https://kpbsd.org/schools/west-homer-elementary/event/pto-meeting-3/
END:VEVENT
BEGIN:VEVENT
DTSTART;TZID=America/Anchorage:20241108T170000
DTEND;TZID=America/Anchorage:20241108T183000
DTSTAMP:20260420T195942
CREATED:20241105T000652Z
LAST-MODIFIED:20241109T023737Z
UID:4305-1731085200-1731090600@kpbsd.org
SUMMARY:5th Grade Rock-a-thon Fundraiser
DESCRIPTION:
URL:https://kpbsd.org/schools/west-homer-elementary/event/5th-grade-rock-a-thon-fundraiser/
LOCATION:Gym
END:VEVENT
BEGIN:VEVENT
DTSTART;TZID=America/Anchorage:20241115T080000
DTEND;TZID=America/Anchorage:20241115T170000
DTSTAMP:20260420T195942
CREATED:20240522T005229Z
LAST-MODIFIED:20241115T152046Z
UID:2960-1731657600-1731690000@kpbsd.org
SUMMARY:Early Release
DESCRIPTION:
URL:https://kpbsd.org/schools/west-homer-elementary/event/early-release-31/
CATEGORIES:Districtwide Calendar
END:VEVENT
BEGIN:VEVENT
DTSTART;TZID=America/Anchorage:20241115T132000
DTEND;TZID=America/Anchorage:20241115T132000
DTSTAMP:20260420T195942
CREATED:20240801T195913Z
LAST-MODIFIED:20241115T030944Z
UID:3208-1731676800-1731676800@kpbsd.org
SUMMARY:Early Release @ 1:20pm
DESCRIPTION:
URL:https://kpbsd.org/schools/west-homer-elementary/event/early-release-120pm-5/
END:VEVENT
BEGIN:VEVENT
DTSTART;TZID=America/Anchorage:20241115T134500
DTEND;TZID=America/Anchorage:20241115T161500
DTSTAMP:20260420T195942
CREATED:20241101T023715Z
LAST-MODIFIED:20241115T030944Z
UID:4097-1731678300-1731687300@kpbsd.org
SUMMARY:3/4 Basketball Game
DESCRIPTION:
URL:https://kpbsd.org/schools/west-homer-elementary/event/3-4-basketball-game/
END:VEVENT
BEGIN:VEVENT
DTSTART;TZID=America/Anchorage:20241118T160000
DTEND;TZID=America/Anchorage:20241118T170000
DTSTAMP:20260420T195942
CREATED:20240925T000513Z
LAST-MODIFIED:20241118T033435Z
UID:3705-1731945600-1731949200@kpbsd.org
SUMMARY:Site Council Meeting
DESCRIPTION:
URL:https://kpbsd.org/schools/west-homer-elementary/event/site-council-meeting-2/
END:VEVENT
BEGIN:VEVENT
DTSTART;VALUE=DATE:20241128
DTEND;VALUE=DATE:20241130
DTSTAMP:20260420T195942
CREATED:20240801T195913Z
LAST-MODIFIED:20241129T041151Z
UID:3211-1732752000-1732924799@kpbsd.org
SUMMARY:No School - Holiday Break
DESCRIPTION:
URL:https://kpbsd.org/schools/west-homer-elementary/event/no-school-holiday-break/
END:VEVENT
END:VCALENDAR