BEGIN:VCALENDAR
VERSION:2.0
PRODID:-//West Homer Elementary - ECPv6.8.2//NONSGML v1.0//EN
CALSCALE:GREGORIAN
METHOD:PUBLISH
X-ORIGINAL-URL:https://kpbsd.org/schools/west-homer-elementary
X-WR-CALDESC:Events for West Homer Elementary
REFRESH-INTERVAL;VALUE=DURATION:PT1H
X-Robots-Tag:noindex
X-PUBLISHED-TTL:PT1H
BEGIN:VTIMEZONE
TZID:America/Anchorage
BEGIN:DAYLIGHT
TZOFFSETFROM:-0900
TZOFFSETTO:-0800
TZNAME:AKDT
DTSTART:20240310T110000
END:DAYLIGHT
BEGIN:STANDARD
TZOFFSETFROM:-0800
TZOFFSETTO:-0900
TZNAME:AKST
DTSTART:20241103T100000
END:STANDARD
BEGIN:DAYLIGHT
TZOFFSETFROM:-0900
TZOFFSETTO:-0800
TZNAME:AKDT
DTSTART:20250309T110000
END:DAYLIGHT
BEGIN:STANDARD
TZOFFSETFROM:-0800
TZOFFSETTO:-0900
TZNAME:AKST
DTSTART:20251102T100000
END:STANDARD
END:VTIMEZONE
BEGIN:VEVENT
DTSTART;TZID=America/Anchorage:20241203T153000
DTEND;TZID=America/Anchorage:20241203T163000
DTSTAMP:20260420T032055
CREATED:20241126T035559Z
LAST-MODIFIED:20241203T043904Z
UID:5071-1733239800-1733243400@kpbsd.org
SUMMARY:Basketball Game vs McNeil Canyon
DESCRIPTION:
URL:https://kpbsd.org/schools/west-homer-elementary/event/basketball-game-vs-mcneil-canyon/
END:VEVENT
BEGIN:VEVENT
DTSTART;TZID=America/Anchorage:20241203T163000
DTEND;TZID=America/Anchorage:20241203T180000
DTSTAMP:20260420T032055
CREATED:20241026T024200Z
LAST-MODIFIED:20241203T043904Z
UID:3878-1733243400-1733248800@kpbsd.org
SUMMARY:PTO Meeting
DESCRIPTION:
URL:https://kpbsd.org/schools/west-homer-elementary/event/pto-meeting-4/
LOCATION:Library
END:VEVENT
BEGIN:VEVENT
DTSTART;TZID=America/Anchorage:20241213T080000
DTEND;TZID=America/Anchorage:20241213T170000
DTSTAMP:20260420T032055
CREATED:20240522T005229Z
LAST-MODIFIED:20241213T153516Z
UID:2963-1734076800-1734109200@kpbsd.org
SUMMARY:Early Release
DESCRIPTION:
URL:https://kpbsd.org/schools/west-homer-elementary/event/early-release-32/
CATEGORIES:Districtwide Calendar
END:VEVENT
BEGIN:VEVENT
DTSTART;TZID=America/Anchorage:20241213T132000
DTEND;TZID=America/Anchorage:20241213T132000
DTSTAMP:20260420T032055
CREATED:20240801T195914Z
LAST-MODIFIED:20241213T050751Z
UID:3214-1734096000-1734096000@kpbsd.org
SUMMARY:Early Release @ 1:20pm
DESCRIPTION:
URL:https://kpbsd.org/schools/west-homer-elementary/event/early-release-120pm-6/
END:VEVENT
BEGIN:VEVENT
DTSTART;TZID=America/Anchorage:20241213T133000
DTEND;TZID=America/Anchorage:20241213T163000
DTSTAMP:20260420T032055
CREATED:20241008T012701Z
LAST-MODIFIED:20241213T050751Z
UID:3804-1734096600-1734107400@kpbsd.org
SUMMARY:Chess Tournament
DESCRIPTION:
URL:https://kpbsd.org/schools/west-homer-elementary/event/chess-tournament/
LOCATION:West Homer Gym
END:VEVENT
BEGIN:VEVENT
DTSTART;TZID=America/Anchorage:20241218T133000
DTEND;TZID=America/Anchorage:20241218T143000
DTSTAMP:20260420T032055
CREATED:20241016T180649Z
LAST-MODIFIED:20241016T180649Z
UID:3833-1734528600-1734532200@kpbsd.org
SUMMARY:Winter Concert @ WHE
DESCRIPTION:Parents and Guardians\, \nPlease join us for our amazing Winter concert production put on by our 3rd & 4th grade students here at West Homer Elementary School. The concert will be at West Homer in the Gym and it will begin at 1:30pm on December 18th\, 2024.
URL:https://kpbsd.org/schools/west-homer-elementary/event/winter-concert-whe/
END:VEVENT
BEGIN:VEVENT
DTSTART;TZID=America/Anchorage:20241219T133000
DTEND;TZID=America/Anchorage:20241219T143000
DTSTAMP:20260420T032055
CREATED:20241016T180819Z
LAST-MODIFIED:20241016T180819Z
UID:3836-1734615000-1734618600@kpbsd.org
SUMMARY:Winter Concert @ WHE
DESCRIPTION:Parents and Guardians\, \nPlease join us for our amazing Winter concert production put on by our 5th & 6th grade students here at West Homer Elementary School. The concert will be at West Homer in the Gym and it will begin at 1:30pm on December 19th\, 2024.
URL:https://kpbsd.org/schools/west-homer-elementary/event/winter-concert-whe-2/
END:VEVENT
BEGIN:VEVENT
DTSTART;VALUE=DATE:20241223
DTEND;VALUE=DATE:20241228
DTSTAMP:20260420T032055
CREATED:20240801T195914Z
LAST-MODIFIED:20241227T062512Z
UID:3217-1734912000-1735343999@kpbsd.org
SUMMARY:No School - Winter Break
DESCRIPTION:
URL:https://kpbsd.org/schools/west-homer-elementary/event/no-school-winter-break/
END:VEVENT
BEGIN:VEVENT
DTSTART;TZID=America/Anchorage:20241223T080000
DTEND;TZID=America/Anchorage:20241223T170000
DTSTAMP:20260420T032055
CREATED:20240522T005230Z
LAST-MODIFIED:20241220T153511Z
UID:2966-1734940800-1734973200@kpbsd.org
SUMMARY:Vacation
DESCRIPTION:
URL:https://kpbsd.org/schools/west-homer-elementary/event/vacation-4/
CATEGORIES:Districtwide Calendar
END:VEVENT
BEGIN:VEVENT
DTSTART;TZID=America/Anchorage:20241224T080000
DTEND;TZID=America/Anchorage:20241224T170000
DTSTAMP:20260420T032055
CREATED:20240522T005230Z
LAST-MODIFIED:20241220T153512Z
UID:2969-1735027200-1735059600@kpbsd.org
SUMMARY:Vacation
DESCRIPTION:
URL:https://kpbsd.org/schools/west-homer-elementary/event/vacation-5/
CATEGORIES:Districtwide Calendar
END:VEVENT
BEGIN:VEVENT
DTSTART;TZID=America/Anchorage:20241226T080000
DTEND;TZID=America/Anchorage:20241226T170000
DTSTAMP:20260420T032055
CREATED:20240522T005230Z
LAST-MODIFIED:20241220T153512Z
UID:2972-1735200000-1735232400@kpbsd.org
SUMMARY:Vacation
DESCRIPTION:
URL:https://kpbsd.org/schools/west-homer-elementary/event/vacation-6/
CATEGORIES:Districtwide Calendar
END:VEVENT
BEGIN:VEVENT
DTSTART;TZID=America/Anchorage:20241227T080000
DTEND;TZID=America/Anchorage:20241227T170000
DTSTAMP:20260420T032055
CREATED:20240522T005231Z
LAST-MODIFIED:20241227T153439Z
UID:2975-1735286400-1735318800@kpbsd.org
SUMMARY:Vacation
DESCRIPTION:
URL:https://kpbsd.org/schools/west-homer-elementary/event/vacation-7/
CATEGORIES:Districtwide Calendar
END:VEVENT
BEGIN:VEVENT
DTSTART;VALUE=DATE:20241230
DTEND;VALUE=DATE:20250104
DTSTAMP:20260420T032055
CREATED:20240801T195914Z
LAST-MODIFIED:20250103T065239Z
UID:3220-1735516800-1735948799@kpbsd.org
SUMMARY:No School - Winter Break
DESCRIPTION:
URL:https://kpbsd.org/schools/west-homer-elementary/event/no-school-winter-break-2/
END:VEVENT
BEGIN:VEVENT
DTSTART;TZID=America/Anchorage:20241230T080000
DTEND;TZID=America/Anchorage:20241230T170000
DTSTAMP:20260420T032055
CREATED:20240522T005231Z
LAST-MODIFIED:20241227T153440Z
UID:2978-1735545600-1735578000@kpbsd.org
SUMMARY:Vacation
DESCRIPTION:
URL:https://kpbsd.org/schools/west-homer-elementary/event/vacation-8/
CATEGORIES:Districtwide Calendar
END:VEVENT
BEGIN:VEVENT
DTSTART;TZID=America/Anchorage:20241231T080000
DTEND;TZID=America/Anchorage:20241231T170000
DTSTAMP:20260420T032055
CREATED:20240522T005231Z
LAST-MODIFIED:20241227T153440Z
UID:2981-1735632000-1735664400@kpbsd.org
SUMMARY:Vacation
DESCRIPTION:
URL:https://kpbsd.org/schools/west-homer-elementary/event/vacation-9/
CATEGORIES:Districtwide Calendar
END:VEVENT
END:VCALENDAR